From mboxrd@z Thu Jan 1 00:00:00 1970 Return-Path: Received: from mails.dpdk.org (mails.dpdk.org [217.70.189.124]) by inbox.dpdk.org (Postfix) with ESMTP id 1D103466E2 for ; Tue, 6 May 2025 23:59:20 +0200 (CEST) Received: from mails.dpdk.org (localhost [127.0.0.1]) by mails.dpdk.org (Postfix) with ESMTP id 1752240261; Tue, 6 May 2025 23:59:20 +0200 (CEST) Received: from mail-ot1-f98.google.com (mail-ot1-f98.google.com [209.85.210.98]) by mails.dpdk.org (Postfix) with ESMTP id 4C8034025D for ; Tue, 6 May 2025 23:59:19 +0200 (CEST) Received: by mail-ot1-f98.google.com with SMTP id 46e09a7af769-72ecb4d9a10so4232755a34.3 for ; Tue, 06 May 2025 14:59:19 -0700 (PDT) DKIM-Signature: v=1; a=rsa-sha256; c=relaxed/relaxed; d=iol.unh.edu; s=unh-iol; t=1746568758; x=1747173558; darn=dpdk.org; h=references:in-reply-to:cc:to:from:subject:message-id:date:from:to :cc:subject:date:message-id:reply-to; bh=L3Sqk+HfuKLpSxA5btJ8GC3LBM7zwCG7wHc7utx4jTI=; b=bqB/WI0Hhgh0BDnDGotA+ohbDLO1C9xy9+hmJUxuHdJwgIrsDjBjel4iJXQ+aFy9MO KaQ0gOOIxW+ATMoEKAUQ/C+ADDUN05Zu4K2iv82a9Lf5uiQPyUwj28GNtylIWG7kLGCK oM0NPQt1rPb42DnGIaaBjLyXyDpHiLCDYFa10= X-Google-DKIM-Signature: v=1; a=rsa-sha256; c=relaxed/relaxed; d=1e100.net; s=20230601; t=1746568758; x=1747173558; h=references:in-reply-to:cc:to:from:subject:message-id:date :x-gm-message-state:from:to:cc:subject:date:message-id:reply-to; bh=L3Sqk+HfuKLpSxA5btJ8GC3LBM7zwCG7wHc7utx4jTI=; b=BMuqtWF2Yv8w6Gyi9u2PGWVGxsG5J3UVSKf80B2nEdicYT3eq88ps+qGBHbk8F4MOR IyeuWgT+QeBv0+ReP8j6YsmuUkuz0H4tbktfjNUCqIYGe1W+tdyR7pslkCcj/tDEoltK U/aXwDGzLKlEfLi/j9ChEEBhX7dXPACJzIJmtY66UiKaiEr/jIxXu/QPywPqr72JeAtJ xwHA1765DRv7yc7QhVwWuEcihiXbbJqQkGoDF1vHTkHyRnw0bIhAs/wtZNj/546Yum53 ADOWxiIsSzyi8T9H2OthIuhj9FWkFqbt4J4/1V2uCyPb77FlW7Afu7Lmqhv0nS2yDGGR fnKQ== X-Gm-Message-State: AOJu0Yz2yWmf3oXuXuhgnV24KFtWSvp8cIlokPH5B+zMYL/nQ+9SDfsZ +Cq/dGT3UN3JV77i+ZkAh5tU6KcnmF8ZYulG7Aj5T02YjcUtcDZ8+J82+6EDCATMD9mz+uqe+bK CYgkuxfigL7Ce23ucqLeAVzxMsO0ryhaiUqr9xHsll6Nn5pmsSHQS4SGd X-Gm-Gg: ASbGnctC4nGUmIph0We18TZfd/6g98LN+iZhaPcgIHmBWOZpdEjyA8m6pIsOiKV/1yO msBfQaI8lxXHKiI0ruC43cP5jkpFYwSASM93QUEw6FZ6tpuPXSKlS2F5qESGQ+R4O0v2Rtigbo/ EhHTG5CrFABTgEL0ExrfbE6Y+vwUMD9cdxsi9lmUu1JzjPjh7y8pEXHd3LYYdiUh8jzgVBfYK8r XSvw2ZyLCW/UhI+GVGogskB+7SszFilRI+TtIFIy+rUXSq2azFQgQF2sXp2j9uoNQhRITP6fcoC 240I263Nl6cSThlbZvEs0rhk4dvXjx0FFwsk X-Google-Smtp-Source: AGHT+IEg4I6mcSjV8EicCGHYQxWY9tl1AdBXiZtxSmEtH5qe5Z61VS+docEeJIdaObLpGCZYuZYvizGLz0I7 X-Received: by 2002:a05:6830:6886:b0:72b:9bb3:67cd with SMTP id 46e09a7af769-73210a89aa6mr611117a34.12.1746568758430; Tue, 06 May 2025 14:59:18 -0700 (PDT) Received: from postal.iol.unh.edu (postal.iol.unh.edu. [2606:4100:3880:1234::84]) by smtp-relay.gmail.com with ESMTPS id 46e09a7af769-73210a95d79sm24815a34.8.2025.05.06.14.59.18 (version=TLS1_2 cipher=ECDHE-ECDSA-AES128-GCM-SHA256 bits=128/128); Tue, 06 May 2025 14:59:18 -0700 (PDT) X-Relaying-Domain: iol.unh.edu Date: Tue, 06 May 2025 14:59:18 -0700 (PDT) Message-ID: <681a8636.050a0220.520c7.1770SMTPIN_ADDED_MISSING@mx.google.com> Received: from [172.21.0.11] (unknown [172.18.0.240]) by postal.iol.unh.edu (Postfix) with ESMTP id E16296052471; Tue, 6 May 2025 17:59:17 -0400 (EDT) Subject: |SUCCESS| pw153332 [PATCH] kernel/freebsd: Allow contigmem allocatio From: dpdklab@iol.unh.edu To: Test Report Cc: dpdk-test-reports@iol.unh.edu In-Reply-To: <20250506174941.1141140-1-jfree@FreeBSD.org> References: <20250506174941.1141140-1-jfree@FreeBSD.org> Content-Type: text/plain X-BeenThere: test-report@dpdk.org X-Mailman-Version: 2.1.29 Precedence: list List-Id: automatic DPDK test reports List-Unsubscribe: , List-Archive: List-Post: List-Help: List-Subscribe: , Errors-To: test-report-bounces@dpdk.org Test-Label: iol-unit-amd64-testing Test-Status: SUCCESS http://dpdk.org/patch/153332 _Testing PASS_ Submitter: Jake Freeland Date: Tuesday, May 06 2025 17:48:38 DPDK git baseline: Repo:dpdk Branch: master CommitID:75f179ebe347b6098cf3af26d3d3b7168fe3fe24 153332 --> testing pass Upstream job id: Generic-VM-Unit-Test-DPDK#28361 Test environment and result as below: +---------------------+----------------+ | Environment | dpdk_unit_test | +=====================+================+ | CentOS Stream 9 | PASS | +---------------------+----------------+ | Debian 12 | PASS | +---------------------+----------------+ | Fedora 40 (Clang) | PASS | +---------------------+----------------+ | Fedora 40 | PASS | +---------------------+----------------+ | Fedora 41 | PASS | +---------------------+----------------+ | RHEL8 | PASS | +---------------------+----------------+ | Ubuntu 22.04 | PASS | +---------------------+----------------+ | Ubuntu 20.04 | PASS | +---------------------+----------------+ | Fedora 41 (Clang) | PASS | +---------------------+----------------+ | CentOS Stream 10 | PASS | +---------------------+----------------+ | RHEL9 | PASS | +---------------------+----------------+ | Ubuntu 24.04 | PASS | +---------------------+----------------+ | Windows Server 2022 | PASS | +---------------------+----------------+ CentOS Stream 9 Kernel: Depends on container host Compiler: gcc 11.5.0 20240719 (Red Hat 11.5.0-2) Debian 12 Kernel: Depends on container host Compiler: gcc (Debian 12.2.0-14) 12.2.0 Fedora 40 (Clang) Kernel: Depends on container host Compiler: clang 18.1.8 (Fedora 18.1.8-1.fc40) Fedora 40 Kernel: Depends on container host Compiler: gcc 14.2.1 20240912 (Red Hat 14.2.1-3) Fedora 41 Kernel: Depends on container host Compiler: gcc 14.2.1 20240912 (Red Hat 14.2.1-3) RHEL8 Kernel: Depends on container host Compiler: gcc 8.5.0 20210514 (Red Hat 8.5.0-22) Ubuntu 22.04 Kernel: Depends on container host Compiler: gcc (Ubuntu 11.4.0-1ubuntu1~22.04) 11.4.0 Ubuntu 20.04 Kernel: Depends on container host Compiler: gcc (Ubuntu 9.4.0-1ubuntu1~20.04.2) 9.4.0 Fedora 41 (Clang) Kernel: Depends on container host Compiler: clang 19.1.5 (Fedora 19.1.5-1.fc41) CentOS Stream 10 Kernel: Depends on container host Compiler: gcc 14.2.1 20241104 (Red Hat 14.2.1-6) RHEL9 Kernel: Depends on container host Compiler: gcc 11.5.0 20240719 (Red Hat 11.5.0-2) Ubuntu 24.04 Kernel: Depends on container host Compiler: gcc (Ubuntu 13.3.0-6ubuntu2~24.04) 13.3.0 Windows Server 2022 Kernel: 10.0.20348.2031 Compiler: clang 15.0.7, gcc 14.1.0 (MinGW), and MSVC VS 19.39.33521 To view detailed results, visit: https://lab.dpdk.org/results/dashboard/patchsets/33127/ UNH-IOL DPDK Community Lab To manage your email subscriptions, visit: https://lab.dpdk.org/results/dashboard/preferences/subscriptions/