From mboxrd@z Thu Jan 1 00:00:00 1970 Return-Path: Received: from mails.dpdk.org (mails.dpdk.org [217.70.189.124]) by inbox.dpdk.org (Postfix) with ESMTP id 15E9F466E2 for ; Wed, 7 May 2025 00:29:14 +0200 (CEST) Received: from mails.dpdk.org (localhost [127.0.0.1]) by mails.dpdk.org (Postfix) with ESMTP id E49584025D; Wed, 7 May 2025 00:29:13 +0200 (CEST) Received: from mail-il1-f226.google.com (mail-il1-f226.google.com [209.85.166.226]) by mails.dpdk.org (Postfix) with ESMTP id 667DD4025A for ; Wed, 7 May 2025 00:29:12 +0200 (CEST) Received: by mail-il1-f226.google.com with SMTP id e9e14a558f8ab-3d6d6d82633so21480715ab.0 for ; Tue, 06 May 2025 15:29:12 -0700 (PDT) DKIM-Signature: v=1; a=rsa-sha256; c=relaxed/relaxed; d=iol.unh.edu; s=unh-iol; t=1746570551; x=1747175351; darn=dpdk.org; h=references:in-reply-to:cc:to:from:subject:message-id:date:from:to :cc:subject:date:message-id:reply-to; bh=CXo7jCa8r0TPQhU3dIrAiUtWRZWn/VjQ2gAdlhJLbgA=; b=DKXJi6AdYJGY2GF1sXbKOpxAFpZm1oDpcvU6OXKGMxbKOt/tkUS2R7Hvq139CkvK/d WX2hVoMFHdwDv/+5Q43qufpKMd8Wklj2cnu7140jtu7fc71+krvDIhCJHJ7EKEKBlOBJ ifNMh1SBzVAwRfBEQ+IWuIhIp7Qla3Ls3H/40= X-Google-DKIM-Signature: v=1; a=rsa-sha256; c=relaxed/relaxed; d=1e100.net; s=20230601; t=1746570551; x=1747175351; h=references:in-reply-to:cc:to:from:subject:message-id:date :x-gm-message-state:from:to:cc:subject:date:message-id:reply-to; bh=CXo7jCa8r0TPQhU3dIrAiUtWRZWn/VjQ2gAdlhJLbgA=; b=CS7WWNcm9yg57vOFvrn6EP+9cOlMkOjXqYdvk9xAiuvzWbMjLY1aP8VNcG7ARaj5vS CFBFlmv32hfoG6JEOywnekaJvNbvlzYiYYX60KFudiAPH2/tRLifptpGavyDZZBrpeL6 OHmVtmpLzW01YCqromHta93jrAbm9JRZBBuhCDrOfW+zBd5NvGdkrrZJov/EnnBdYELd 9rCEukzTf4+CZcrvefpFszgKsk4ZhmPaZmqUBEq1nKf1iC7nn4NWq/oqOmwHss/OYkkf hEke2lww6C8YVRtt7iOFDR6KWfS4dFsj6bvzZBQxLzXh8me/l/r36iWDF2SyBYtlySqW utpQ== X-Gm-Message-State: AOJu0Yx7glyEPFNAG7/WRpexaIYLqjXF69Zh0FCrZYX7qGqrCCL5zJIG JJ9zpFWuPhG3G3C/31OC6lH4is4c1IzsnbKbGvtARaCQI57/2n8H67vFyICg4l/XZJTpKCO6/jm jougbD2gUEUzv+ymjO14+bRqSXRT7TqYNZtZMamYfoAFbhLSL8yKWPzsq X-Gm-Gg: ASbGnctR8mRMl3C2mUy5zuexndJjZ0UqooJS5ebO6n0m9dv+Bf2V/oc2T4g7qfMbbXI t5AxzAiV/a3EsnyelFRhDL4Xon4vu8IK0B0K2d/L3oY0/VGlCDPLkTG0xOrp1Bc9qDts8j43rG3 Hee2P3zrRtUgQ/WNxBGF5P/u5V+YCI/VpxWDO5dtu/uQzdN+64WV70lAy0T2oQwcbeC3I4gAVI2 64AShoPzMelN1mowYlG+nGxzUNCGWxZmnPH4VmJXsZikeC+p5LKW05BVZQl6i0VttoTKWL8H0uL tVbA1t1fIIEa6KS9NKEShSMwRr/JxZGFtxjK X-Google-Smtp-Source: AGHT+IGdvsU35qSkiSNhFmNXvTYbm1Cwhx7+H4YFL4XYC/zgv6148cTVlW99jAokrt5mhoTrZUKerxnXgAHx X-Received: by 2002:a05:6e02:3398:b0:3d8:2085:a16e with SMTP id e9e14a558f8ab-3da738d8596mr11796665ab.1.1746570551565; Tue, 06 May 2025 15:29:11 -0700 (PDT) Received: from postal.iol.unh.edu (postal.iol.unh.edu. [2606:4100:3880:1234::84]) by smtp-relay.gmail.com with ESMTPS id e9e14a558f8ab-3d975f6cdf0sm22314295ab.47.2025.05.06.15.29.11 (version=TLS1_2 cipher=ECDHE-ECDSA-AES128-GCM-SHA256 bits=128/128); Tue, 06 May 2025 15:29:11 -0700 (PDT) X-Relaying-Domain: iol.unh.edu Date: Tue, 06 May 2025 15:29:11 -0700 (PDT) Message-ID: <681a8d37.050a0220.2f8a15.ceaeSMTPIN_ADDED_MISSING@mx.google.com> Received: from [172.21.0.6] (unknown [172.18.0.240]) by postal.iol.unh.edu (Postfix) with ESMTP id 14F5F6052471; Tue, 6 May 2025 18:29:11 -0400 (EDT) Subject: |SUCCESS| pw153332 [PATCH] kernel/freebsd: Allow contigmem allocatio From: dpdklab@iol.unh.edu To: Test Report Cc: dpdk-test-reports@iol.unh.edu In-Reply-To: <20250506174941.1141140-1-jfree@FreeBSD.org> References: <20250506174941.1141140-1-jfree@FreeBSD.org> Content-Type: text/plain X-BeenThere: test-report@dpdk.org X-Mailman-Version: 2.1.29 Precedence: list List-Id: automatic DPDK test reports List-Unsubscribe: , List-Archive: List-Post: List-Help: List-Subscribe: , Errors-To: test-report-bounces@dpdk.org Test-Label: iol-compile-arm64-testing Test-Status: SUCCESS http://dpdk.org/patch/153332 _Testing PASS_ Submitter: Jake Freeland Date: Tuesday, May 06 2025 17:48:38 DPDK git baseline: Repo:dpdk Branch: master CommitID:75f179ebe347b6098cf3af26d3d3b7168fe3fe24 153332 --> testing pass Upstream job id: Generic-DPDK-Compile-Meson#385653 Test environment and result as below: +----------------------------------------+--------------------+ | Environment | dpdk_meson_compile | +========================================+====================+ | RHEL9 (ARM) | PASS | +----------------------------------------+--------------------+ | Ubuntu 20.04 ARM GCC Cross Compile | PASS | +----------------------------------------+--------------------+ | Fedora 40 (ARM) | PASS | +----------------------------------------+--------------------+ | Ubuntu 20.04 ARM SVE | PASS | +----------------------------------------+--------------------+ | Debian 12 with MUSDK | PASS | +----------------------------------------+--------------------+ | Ubuntu 20.04 (ARM) | PASS | +----------------------------------------+--------------------+ | Ubuntu 24.04 (ARM) | PASS | +----------------------------------------+--------------------+ | Fedora 41 (ARM Clang) | PASS | +----------------------------------------+--------------------+ | Fedora 41 (ARM) | PASS | +----------------------------------------+--------------------+ | Fedora 40 (ARM Clang) | PASS | +----------------------------------------+--------------------+ | Ubuntu 22.04 (ARM) | PASS | +----------------------------------------+--------------------+ | Debian 12 (arm) | PASS | +----------------------------------------+--------------------+ | Ubuntu 20.04 aarch32 GCC Cross Compile | PASS | +----------------------------------------+--------------------+ | CentOS Stream 9 (ARM) | PASS | +----------------------------------------+--------------------+ | CentOS Stream 10 (ARM) | PASS | +----------------------------------------+--------------------+ | Ubuntu 20.04 ARM Clang Cross Compile | PASS | +----------------------------------------+--------------------+ RHEL9 (ARM) Kernel: Depends on container host Compiler: gcc 11.5.0 20240719 (Red Hat 11.5.0-2) Ubuntu 20.04 ARM GCC Cross Compile Kernel: Depends on container host Compiler: aarch64-linux-gnu-gcc (Ubuntu 9.4.0-1ubuntu1~20.04.2) 9.4.0 Fedora 40 (ARM) Kernel: Depends on container host Compiler: gcc 14.2.1 20240912 (Red Hat 14.2.1-3) Ubuntu 20.04 ARM SVE Kernel: Depends on container host Compiler: gcc (Ubuntu 10.5.0-1ubuntu1~20.04) 10.5.0 Debian 12 with MUSDK Kernel: Depends on container host Compiler: gcc (Debian 12.2.0-14) 12.2.0 Ubuntu 20.04 (ARM) Kernel: Depends on container host Compiler: gcc (Ubuntu 9.4.0-1ubuntu1~20.04.2) 9.4.0 Ubuntu 24.04 (ARM) Kernel: Depends on container host Compiler: gcc (Ubuntu 13.3.0-6ubuntu2~24.04) 13.3.0 Fedora 41 (ARM Clang) Kernel: Depends on container host Compiler: clang 19.1.5 (Fedora 19.1.5-1.fc41) Fedora 41 (ARM) Kernel: Depends on container host Compiler: gcc 14.2.1 20240912 (Red Hat 14.2.1-3) Fedora 40 (ARM Clang) Kernel: Depends on container host Compiler: clang 18.1.8 (Fedora 18.1.8-1.fc40) Ubuntu 22.04 (ARM) Kernel: Depends on container host Compiler: gcc (Ubuntu 11.4.0-1ubuntu1~22.04) 11.4.0 Debian 12 (arm) Kernel: Depends on container host Compiler: gcc (Debian 12.2.0-14) 12.2.0 Ubuntu 20.04 aarch32 GCC Cross Compile Kernel: Depends on container host Compiler: gcc 9.4.0 CentOS Stream 9 (ARM) Kernel: Depends on container host Compiler: gcc 11.5.0 20240719 (Red Hat 11.5.0-2) CentOS Stream 10 (ARM) Kernel: Depends on container host Compiler: gcc 14.2.1 20241104 (Red Hat 14.2.1-6) Ubuntu 20.04 ARM Clang Cross Compile Kernel: Depends on container host Compiler: clang 10.0.0-4ubuntu1 To view detailed results, visit: https://lab.dpdk.org/results/dashboard/patchsets/33127/ UNH-IOL DPDK Community Lab To manage your email subscriptions, visit: https://lab.dpdk.org/results/dashboard/preferences/subscriptions/