From mboxrd@z Thu Jan 1 00:00:00 1970 Return-Path: Received: from mails.dpdk.org (mails.dpdk.org [217.70.189.124]) by inbox.dpdk.org (Postfix) with ESMTP id 9B57C466E2 for ; Wed, 7 May 2025 00:33:58 +0200 (CEST) Received: from mails.dpdk.org (localhost [127.0.0.1]) by mails.dpdk.org (Postfix) with ESMTP id 7CC5C4025D; Wed, 7 May 2025 00:33:58 +0200 (CEST) Received: from mail-io1-f100.google.com (mail-io1-f100.google.com [209.85.166.100]) by mails.dpdk.org (Postfix) with ESMTP id A1E2C4025A for ; Wed, 7 May 2025 00:33:57 +0200 (CEST) Received: by mail-io1-f100.google.com with SMTP id ca18e2360f4ac-85b3f92c8dfso207972339f.2 for ; Tue, 06 May 2025 15:33:57 -0700 (PDT) DKIM-Signature: v=1; a=rsa-sha256; c=relaxed/relaxed; d=iol.unh.edu; s=unh-iol; t=1746570837; x=1747175637; darn=dpdk.org; h=references:in-reply-to:cc:to:from:subject:message-id:date:from:to :cc:subject:date:message-id:reply-to; bh=2dRAdS5FPu4eAGdKTE1K1PFkoS4YgIeE39QwGoO7jVw=; b=F2+bcUloEAgBDvp2ztSDZUDB4Gdp3ReRBYxGN5SqVrNacbzT1jpi8+MjwZLNuivAu+ 0YupFPwU6210J7ZBNYLUkaWGMbtVo9r6URJfG+d3ZRhKnL1UDZ0kC9F7e4lW+USJN5PW r1Kf9uwHg9z1ygXb4bVjeEMnNpscxQUcHX/7s= X-Google-DKIM-Signature: v=1; a=rsa-sha256; c=relaxed/relaxed; d=1e100.net; s=20230601; t=1746570837; x=1747175637; h=references:in-reply-to:cc:to:from:subject:message-id:date :x-gm-message-state:from:to:cc:subject:date:message-id:reply-to; bh=2dRAdS5FPu4eAGdKTE1K1PFkoS4YgIeE39QwGoO7jVw=; b=w7eTBY5qvii3svAElcoYxuu+qBFHggyPLmG5V8sO4Q/Dd4EQPuCuCN4HxfxAQGluwa GRFcjLhxrNfgnJXpBeLU1rw0mDzKcdE26iIJkrIn+pHzlU95/y/N2inM2IRvTjV6W9Vl AVeC97uXf0h0mU69DMKSVq3PMlztLuoFhsWbkbNlV825C6ScAuPYb0m9xg8N0dZNyZ5W t/d+Jezrho+fPCgApDHIDDHG3fJMnpsUzRg9urhrdBpyYpMoEk/bVOkw/7J0wsup5PCS AEXj9ivF1az5MgiOIbtGqcyj87J/nh0FlYhSaV+S+h3H5cnjxXk8G0cGaK0P1W+GPm+i wZBg== X-Gm-Message-State: AOJu0YzV38gMK2+2wqWRg5R+cI9rUmtJRs9jeLyRe8ykgpXI4pIvgl7V 4KCKb4TpwsFsht4Bjlpt2Et5rKpIvEwi2QpKI/7nsjBHZQqJvKVGZut0iPqHiPSvU3sFlUih0Pe rZPISr3wTXV5/enoXQIvaNaE4TFORB/nPqaNiiMm9fx7IA8SCbDCXqT2l X-Gm-Gg: ASbGnctoRZ2c770DI2Ud/5QyIFoPN5m3fVanT+ujQvZgI5/3qKlnt0Q++Q76x8xi2OF aCty7foezKvBIP12/tCSG5JMpqwry5smI0Nih2VZU7eqeg7PuypRoYuD25AaAsw8b/ogGAAjGs2 jKD0IVxQboEa6VJswdgU5TxES/IA1QEZ2k/F+0XMbEhTW4CEz6SlwLUsqlNVRsgEiDPDrutBAOq AHioYEtpOIWgNCXlTHCWiFJf4wDV5XRPZCrZSvyyO/Juii4ghyB2sb4Rl9wzlP/He9gBPcA1Xnm 6DADFEwjiX9+W8Ug1+wwFfOL/hcfrHh8y9zp X-Google-Smtp-Source: AGHT+IFA5YBo1bYyPXpOBCQ2+rCeKJsvTk7Zu5AJccbeG6R6y+ESJvFI47yObiG0IyYtuQ6ay0a79geYgoK5 X-Received: by 2002:a05:6e02:3d83:b0:3d9:6ddd:70e8 with SMTP id e9e14a558f8ab-3da739365f7mr11425705ab.21.1746570836845; Tue, 06 May 2025 15:33:56 -0700 (PDT) Received: from postal.iol.unh.edu (postal.iol.unh.edu. [2606:4100:3880:1234::84]) by smtp-relay.gmail.com with ESMTPS id 8926c6da1cb9f-4f88a914022sm2152369173.20.2025.05.06.15.33.56 (version=TLS1_2 cipher=ECDHE-ECDSA-AES128-GCM-SHA256 bits=128/128); Tue, 06 May 2025 15:33:56 -0700 (PDT) X-Relaying-Domain: iol.unh.edu Date: Tue, 06 May 2025 15:33:56 -0700 (PDT) Message-ID: <681a8e54.050a0220.241043.cbd2SMTPIN_ADDED_MISSING@mx.google.com> Received: from [172.21.0.5] (unknown [172.18.0.240]) by postal.iol.unh.edu (Postfix) with ESMTP id 46D026052471; Tue, 6 May 2025 18:33:56 -0400 (EDT) Subject: |SUCCESS| pw153332 [PATCH] kernel/freebsd: Allow contigmem allocatio From: dpdklab@iol.unh.edu To: Test Report Cc: dpdk-test-reports@iol.unh.edu In-Reply-To: <20250506174941.1141140-1-jfree@FreeBSD.org> References: <20250506174941.1141140-1-jfree@FreeBSD.org> Content-Type: text/plain X-BeenThere: test-report@dpdk.org X-Mailman-Version: 2.1.29 Precedence: list List-Id: automatic DPDK test reports List-Unsubscribe: , List-Archive: List-Post: List-Help: List-Subscribe: , Errors-To: test-report-bounces@dpdk.org Test-Label: iol-unit-arm64-testing Test-Status: SUCCESS http://dpdk.org/patch/153332 _Testing PASS_ Submitter: Jake Freeland Date: Tuesday, May 06 2025 17:48:38 DPDK git baseline: Repo:dpdk Branch: master CommitID:75f179ebe347b6098cf3af26d3d3b7168fe3fe24 153332 --> testing pass Upstream job id: Aarch32-Unit-Test#6153 Test environment and result as below: +-----------------------------+----------------+--------------+------------------------------+---------------------------+ | Environment | dpdk_unit_test | lpm_autotest | cryptodev_sw_snow3g_autotest | cryptodev_sw_zuc_autotest | +=============================+================+==============+==============================+===========================+ | Fedora 41 (ARM) | PASS | SKIPPED | SKIPPED | SKIPPED | +-----------------------------+----------------+--------------+------------------------------+---------------------------+ | Ubuntu 22.04 (ARM) | PASS | SKIPPED | SKIPPED | SKIPPED | +-----------------------------+----------------+--------------+------------------------------+---------------------------+ | Fedora 40 (ARM Clang) | PASS | SKIPPED | SKIPPED | SKIPPED | +-----------------------------+----------------+--------------+------------------------------+---------------------------+ | Fedora 40 (ARM) | PASS | SKIPPED | SKIPPED | SKIPPED | +-----------------------------+----------------+--------------+------------------------------+---------------------------+ | CentOS Stream 9 (ARM) | PASS | SKIPPED | SKIPPED | SKIPPED | +-----------------------------+----------------+--------------+------------------------------+---------------------------+ | Debian 12 (arm) | PASS | SKIPPED | PASS | PASS | +-----------------------------+----------------+--------------+------------------------------+---------------------------+ | Fedora 41 (ARM Clang) | PASS | SKIPPED | SKIPPED | SKIPPED | +-----------------------------+----------------+--------------+------------------------------+---------------------------+ | RHEL9 (ARM) | PASS | SKIPPED | SKIPPED | SKIPPED | +-----------------------------+----------------+--------------+------------------------------+---------------------------+ | Ubuntu 24.04 (ARM) | PASS | SKIPPED | SKIPPED | SKIPPED | +-----------------------------+----------------+--------------+------------------------------+---------------------------+ | Ubuntu 20.04 (ARM) | PASS | SKIPPED | SKIPPED | SKIPPED | +-----------------------------+----------------+--------------+------------------------------+---------------------------+ | 32-bit Ubuntu 22.04.4 (ARM) | PASS | SKIPPED | SKIPPED | SKIPPED | +-----------------------------+----------------+--------------+------------------------------+---------------------------+ | Ubuntu 20.04 ARM SVE | SKIPPED | PASS | SKIPPED | SKIPPED | +-----------------------------+----------------+--------------+------------------------------+---------------------------+ Fedora 41 (ARM) Kernel: Depends on container host Compiler: gcc 14.2.1 20240912 (Red Hat 14.2.1-3) Ubuntu 22.04 (ARM) Kernel: Depends on container host Compiler: gcc (Ubuntu 11.4.0-1ubuntu1~22.04) 11.4.0 Fedora 40 (ARM Clang) Kernel: Depends on container host Compiler: clang 18.1.8 (Fedora 18.1.8-1.fc40) Fedora 40 (ARM) Kernel: Depends on container host Compiler: gcc 14.2.1 20240912 (Red Hat 14.2.1-3) CentOS Stream 9 (ARM) Kernel: Depends on container host Compiler: gcc 11.5.0 20240719 (Red Hat 11.5.0-2) Debian 12 (arm) Kernel: Depends on container host Compiler: gcc (Debian 12.2.0-14) 12.2.0 Fedora 41 (ARM Clang) Kernel: Depends on container host Compiler: clang 19.1.5 (Fedora 19.1.5-1.fc41) RHEL9 (ARM) Kernel: Depends on container host Compiler: gcc 11.5.0 20240719 (Red Hat 11.5.0-2) Ubuntu 24.04 (ARM) Kernel: Depends on container host Compiler: gcc (Ubuntu 13.3.0-6ubuntu2~24.04) 13.3.0 Ubuntu 20.04 (ARM) Kernel: Depends on container host Compiler: gcc (Ubuntu 9.4.0-1ubuntu1~20.04.2) 9.4.0 32-bit Ubuntu 22.04.4 (ARM) Kernel: 5.15.83+ aarch64 Compiler: gcc (Ubuntu 11.4.0-1ubuntu1~22.04) 11.4.0 Ubuntu 20.04 ARM SVE Kernel: Depends on container host Compiler: gcc (Ubuntu 10.5.0-1ubuntu1~20.04) 10.5.0 To view detailed results, visit: https://lab.dpdk.org/results/dashboard/patchsets/33127/ UNH-IOL DPDK Community Lab To manage your email subscriptions, visit: https://lab.dpdk.org/results/dashboard/preferences/subscriptions/