From mboxrd@z Thu Jan 1 00:00:00 1970 Return-Path: Received: from mails.dpdk.org (mails.dpdk.org [217.70.189.124]) by inbox.dpdk.org (Postfix) with ESMTP id 7F068466E2 for ; Wed, 7 May 2025 00:48:52 +0200 (CEST) Received: from mails.dpdk.org (localhost [127.0.0.1]) by mails.dpdk.org (Postfix) with ESMTP id 7B4774025D; Wed, 7 May 2025 00:48:52 +0200 (CEST) Received: from mail-il1-f228.google.com (mail-il1-f228.google.com [209.85.166.228]) by mails.dpdk.org (Postfix) with ESMTP id CCAB64025A for ; Wed, 7 May 2025 00:48:51 +0200 (CEST) Received: by mail-il1-f228.google.com with SMTP id e9e14a558f8ab-3d4436ba324so54306245ab.2 for ; Tue, 06 May 2025 15:48:51 -0700 (PDT) DKIM-Signature: v=1; a=rsa-sha256; c=relaxed/relaxed; d=iol.unh.edu; s=unh-iol; t=1746571731; x=1747176531; darn=dpdk.org; h=references:in-reply-to:cc:to:from:subject:message-id:date:from:to :cc:subject:date:message-id:reply-to; bh=Aie4jRVkTrDnDNiljjSStxOYWQxKeSQ9RYTrDvJxhxk=; b=euqztcfBjwnotPptfnWViFkOoZ/4XUfvKf7pZg06+yI4NWRQ9+crtvVW/SxvuFc/DC MY8JNwZH7vLrGK3IeguSEFNzvwNQIU76Oy5BE7X8Wq1b1mvry+68o+kmHHhYwbTybhVD 8ZtwcZVzzUsMVxsqUj/IsP78g9/Mt6lifAOZc= X-Google-DKIM-Signature: v=1; a=rsa-sha256; c=relaxed/relaxed; d=1e100.net; s=20230601; t=1746571731; x=1747176531; h=references:in-reply-to:cc:to:from:subject:message-id:date :x-gm-message-state:from:to:cc:subject:date:message-id:reply-to; bh=Aie4jRVkTrDnDNiljjSStxOYWQxKeSQ9RYTrDvJxhxk=; b=ZRntbLsTs+ijfFnkw8UP/RgV7nFnJAQpkozBhzoI0B01xSRX6OYJKYiGp4gtaFJnbW 4kAMKfya6Lwn7t/ajQNt4ZeUegzTpRrL14506G6PHeC+4z5x4NJgNKmCcIKcB2qZ2zCO zuayMiLa5XrT9g3zw379dFzO+Kub9YhbWwbFgHe9Z0FjTwx/KcHeTDByfKaAPX/yVYwf 6wuok8LpuAjwmWOHpJ5+Db5dYEcvM3mH3re+Bq89CY60uoR+bYZQ8NXBLhvnbG0/wzVt eFpVjXfM1ArjnjyDPw9O9HaynpMGpDsC+5meJUVCpwYeZHAq6PviNbQn8Omgvd2ZQ8XH wUQw== X-Gm-Message-State: AOJu0YzHYs7nG2nlHENDu3B7owNRETioEWdJNMOG0AHI2VTOza4JbTcd hNmCBPx/UP9I2wPn7NbVboIEcVG9i2EUKItxfYkPUyc/9bC8Ax1JdqdZMiIm9niELQyandRi6F3 VSwg0851lzw9IFKOsdzW3dNluy0zFiJJpAMtU0Z1C X-Gm-Gg: ASbGncv4oxfX+I0GERrLQEWY7hqHYK+RQglC5+gk/8ZdQ+BwOZNhMHpjpeppKTUvH2a 0qQuaTyG3qDYcfkG2uS+CzfF01MVD2zPQgEE+tADbWP+u+hVnkXsiHoFJn4+NlgK4wCJtFT5X2T FdnGB0YcenRvHD9akarqtZUsVJaiOtGpP7v7EpEJhYTgu07b9iyWR0prBIBCBWgD4XpvV+Yn+vy cc/wHoiRhVyJdDxBuFLfH294aOL0pSDLLnuh3/FsXoCkOJwgljpKN5xeQ9SQk81xExOwM0cIMM3 Z+RKBB88CVYJ1PXlEJ4QGS+GcwSftF6SKY2aMpqeK2NL3Ik7ILtpPilLwwQ= X-Google-Smtp-Source: AGHT+IEkTB7K4I9lAGt8TXn/kIQHl4Z6sLMKGEc8A+Yv594os4HfenLLxprJCZuRBB9USDcLBLNUbG5UV0JN X-Received: by 2002:a05:6e02:1445:b0:3d8:2187:5cea with SMTP id e9e14a558f8ab-3da738ed70cmr10413335ab.1.1746571731105; Tue, 06 May 2025 15:48:51 -0700 (PDT) Received: from postal.iol.unh.edu (postal.iol.unh.edu. [132.177.123.84]) by smtp-relay.gmail.com with ESMTPS id e9e14a558f8ab-3da70895b9esm692285ab.17.2025.05.06.15.48.51 (version=TLS1_2 cipher=ECDHE-ECDSA-AES128-GCM-SHA256 bits=128/128); Tue, 06 May 2025 15:48:51 -0700 (PDT) X-Relaying-Domain: iol.unh.edu Date: Tue, 06 May 2025 15:48:51 -0700 (PDT) Message-ID: <681a91d3.050a0220.2b542.3b53SMTPIN_ADDED_MISSING@mx.google.com> Received: from [172.21.0.5] (unknown [172.18.0.240]) by postal.iol.unh.edu (Postfix) with ESMTP id BB7366052471; Tue, 6 May 2025 18:48:50 -0400 (EDT) Subject: |SUCCESS| pw153332 [PATCH] kernel/freebsd: Allow contigmem allocatio From: dpdklab@iol.unh.edu To: Test Report Cc: dpdk-test-reports@iol.unh.edu In-Reply-To: <20250506174941.1141140-1-jfree@FreeBSD.org> References: <20250506174941.1141140-1-jfree@FreeBSD.org> Content-Type: text/plain X-BeenThere: test-report@dpdk.org X-Mailman-Version: 2.1.29 Precedence: list List-Id: automatic DPDK test reports List-Unsubscribe: , List-Archive: List-Post: List-Help: List-Subscribe: , Errors-To: test-report-bounces@dpdk.org Test-Label: iol-abi-testing Test-Status: SUCCESS http://dpdk.org/patch/153332 _Testing PASS_ Submitter: Jake Freeland Date: Tuesday, May 06 2025 17:48:38 DPDK git baseline: Repo:dpdk Branch: master CommitID:75f179ebe347b6098cf3af26d3d3b7168fe3fe24 153332 --> testing pass Upstream job id: Generic-DPDK-Compile-ABI#125466 Test environment and result as below: +-------------------+----------+ | Environment | abi_test | +===================+==========+ | CentOS Stream 9 | PASS | +-------------------+----------+ | Debian 12 | PASS | +-------------------+----------+ | CentOS Stream 10 | PASS | +-------------------+----------+ | Fedora 40 | PASS | +-------------------+----------+ | Fedora 40 (Clang) | PASS | +-------------------+----------+ | Fedora 41 (Clang) | PASS | +-------------------+----------+ | openSUSE Leap 15 | PASS | +-------------------+----------+ | Fedora 41 | PASS | +-------------------+----------+ | RHEL9 | PASS | +-------------------+----------+ | Ubuntu 24.04 | PASS | +-------------------+----------+ | Ubuntu 22.04 | PASS | +-------------------+----------+ | RHEL8 | PASS | +-------------------+----------+ CentOS Stream 9 Kernel: Depends on container host Compiler: gcc 11.5.0 20240719 (Red Hat 11.5.0-2) Debian 12 Kernel: Depends on container host Compiler: gcc (Debian 12.2.0-14) 12.2.0 CentOS Stream 10 Kernel: Depends on container host Compiler: gcc 14.2.1 20241104 (Red Hat 14.2.1-6) Fedora 40 Kernel: Depends on container host Compiler: gcc 14.2.1 20240912 (Red Hat 14.2.1-3) Fedora 40 (Clang) Kernel: Depends on container host Compiler: clang 18.1.8 (Fedora 18.1.8-1.fc40) Fedora 41 (Clang) Kernel: Depends on container host Compiler: clang 19.1.5 (Fedora 19.1.5-1.fc41) openSUSE Leap 15 Kernel: Depends on container host Compiler: gcc (SUSE Linux) 7.5.0 Fedora 41 Kernel: Depends on container host Compiler: gcc 14.2.1 20240912 (Red Hat 14.2.1-3) RHEL9 Kernel: Depends on container host Compiler: gcc 11.5.0 20240719 (Red Hat 11.5.0-2) Ubuntu 24.04 Kernel: Depends on container host Compiler: gcc (Ubuntu 13.3.0-6ubuntu2~24.04) 13.3.0 Ubuntu 22.04 Kernel: Depends on container host Compiler: gcc (Ubuntu 11.4.0-1ubuntu1~22.04) 11.4.0 RHEL8 Kernel: Depends on container host Compiler: gcc 8.5.0 20210514 (Red Hat 8.5.0-22) To view detailed results, visit: https://lab.dpdk.org/results/dashboard/patchsets/33127/ UNH-IOL DPDK Community Lab To manage your email subscriptions, visit: https://lab.dpdk.org/results/dashboard/preferences/subscriptions/