From mboxrd@z Thu Jan 1 00:00:00 1970 Return-Path: Received: from mails.dpdk.org (mails.dpdk.org [217.70.189.124]) by inbox.dpdk.org (Postfix) with ESMTP id C1D5B466E2 for ; Wed, 7 May 2025 00:50:28 +0200 (CEST) Received: from mails.dpdk.org (localhost [127.0.0.1]) by mails.dpdk.org (Postfix) with ESMTP id BBDBE4025D; Wed, 7 May 2025 00:50:28 +0200 (CEST) Received: from mail-yw1-f225.google.com (mail-yw1-f225.google.com [209.85.128.225]) by mails.dpdk.org (Postfix) with ESMTP id B42A34025A for ; Wed, 7 May 2025 00:50:27 +0200 (CEST) Received: by mail-yw1-f225.google.com with SMTP id 00721157ae682-7086dcab64bso58465007b3.1 for ; Tue, 06 May 2025 15:50:27 -0700 (PDT) DKIM-Signature: v=1; a=rsa-sha256; c=relaxed/relaxed; d=iol.unh.edu; s=unh-iol; t=1746571827; x=1747176627; darn=dpdk.org; h=references:in-reply-to:cc:to:from:subject:message-id:date:from:to :cc:subject:date:message-id:reply-to; bh=XO5b9IeALoTSqluQQAI9GWd5oy9TKjFaOxwv3WSKYds=; b=RmUd4sVdI4lXJTrvgHuvOBfBGBejP8s6jtjVA7udJBK5jSUiBNddvKdETkiuPGjRdX GAIdL9ymbkXnh/7sH6a/HIWLtng2oqW+g3VzpIgkZNBjgUuGwUU43S2kETZ0GnIXX85u nkdfmL/GX/Qm8ZP4+VOEVvyExdrcZJvj0WCVY= X-Google-DKIM-Signature: v=1; a=rsa-sha256; c=relaxed/relaxed; d=1e100.net; s=20230601; t=1746571827; x=1747176627; h=references:in-reply-to:cc:to:from:subject:message-id:date :x-gm-message-state:from:to:cc:subject:date:message-id:reply-to; bh=XO5b9IeALoTSqluQQAI9GWd5oy9TKjFaOxwv3WSKYds=; b=jw1y90FijF0pcmW0IRF0CgMVw/0WWQ5IXkwJjLw6T+8Bu0zYGvVuHsZ35bB1qjvnRj 44nZQrzLhW1GcTS9aDPd8R+czEDnZDi3+hjWDzpZAmZmM4II1cBD0w9VfxQGGlahKN9a mYHHGmP4o1VAzHYsnD+AIbhCrchO9AI8ipmuzcD+NBqY5IGXl0hk66LAPysCA2uqAn3t gXhSkGTDimCg4+yesjYPlwMG4m6QIbdKOatQ3yxdswtqVA2FNqrFAEMhH4xT5cyIZzd2 0gVtTokmFxKOTYMkcDcvD4WXkKHdDan92v7Pr+MSE97sYrywedWUmnSPrOVN6DgCzgP6 fCHw== X-Gm-Message-State: AOJu0YyM8lbicwnQy4s5mn1e8gFtIRyHWtkY9PIfE23SLvri4jof1Dbe AFTDfPY8ODM62tBE1/EAyKVET1Bw5PDil75fIFTbZrmYYBB0e28ggZZWw5q9UDAljyP7FYqbQnr HpZ847/GlsC0B99YaFpTEQeMvJo1kTwefNTaYApdd X-Gm-Gg: ASbGnctcN7LUTH7xFnu7Fcg9oQVvJHpWZUaaaofR1gZzT1NQ/7KDof7FM3Rbx4pDBBr IG8Q2T8V5T3tFypDrD37tzysT9B6jcFoXEmXa+iLnbvvyvDrdWl8cRKFiYC2pOqD474oRHUy/K7 61eSRm4czKGhokeupnpFadQsbj3DtbdjUIM3et2mTvV0znfA5/DJFWeDD/km8HQ/7ND+un+o11a o/rizE4nkiRgf9CB9oZFkT9pyP2Wwq5RSDHmMeh+WmJK++uNOEIaMkdIY8zZLomGL8oE+/WG2G0 DSdtYMU29L5gcYnlG4bLqL6FmfveyOdu+X/DUSPDaEQO9gCVtmV5eLLsXkU= X-Google-Smtp-Source: AGHT+IH8zZlPkCr0Uz22ahj0cgibFWyxPpEZZpKeLhxJxa7UmJAKJOWAFuf8Gu/HPJcZHWSt26XTGwW6+9QE X-Received: by 2002:a05:690c:4587:b0:700:a6be:d6b8 with SMTP id 00721157ae682-70a1daea35fmr18544427b3.35.1746571827078; Tue, 06 May 2025 15:50:27 -0700 (PDT) Received: from postal.iol.unh.edu (postal.iol.unh.edu. [132.177.123.84]) by smtp-relay.gmail.com with ESMTPS id 00721157ae682-708c46b8d96sm20435327b3.45.2025.05.06.15.50.27 (version=TLS1_2 cipher=ECDHE-ECDSA-AES128-GCM-SHA256 bits=128/128); Tue, 06 May 2025 15:50:27 -0700 (PDT) X-Relaying-Domain: iol.unh.edu Date: Tue, 06 May 2025 15:50:27 -0700 (PDT) Message-ID: <681a9233.050a0220.cbd28.61b3SMTPIN_ADDED_MISSING@mx.google.com> Received: from [172.21.0.5] (unknown [172.18.0.240]) by postal.iol.unh.edu (Postfix) with ESMTP id B2FB16052471; Tue, 6 May 2025 18:50:26 -0400 (EDT) Subject: |SUCCESS| pw153336 [PATCH] net/ice: Localize dynamic mbuf timestamp From: dpdklab@iol.unh.edu To: Test Report Cc: dpdk-test-reports@iol.unh.edu In-Reply-To: <20250506175025.1141664-1-jfree@FreeBSD.org> References: <20250506175025.1141664-1-jfree@FreeBSD.org> Content-Type: text/plain X-BeenThere: test-report@dpdk.org X-Mailman-Version: 2.1.29 Precedence: list List-Id: automatic DPDK test reports List-Unsubscribe: , List-Archive: List-Post: List-Help: List-Subscribe: , Errors-To: test-report-bounces@dpdk.org Test-Label: iol-sample-apps-testing Test-Status: SUCCESS http://dpdk.org/patch/153336 _Testing PASS_ Submitter: Jake Freeland Date: Tuesday, May 06 2025 17:50:24 DPDK git baseline: Repo:dpdk Branch: master CommitID:7cf0355db9fdab5648b05fd787356c391c510534 153336 --> testing pass Upstream job id: ACVP-FIPS-testing#9729 Test environment and result as below: +--------------------+----------------------+----------------------+ | Environment | compressdev_zlib_pmd | dpdk_fips_validation | +====================+======================+======================+ | Ubuntu 22.04 (ARM) | PASS | SKIPPED | +--------------------+----------------------+----------------------+ | Ubuntu 22.04 | PASS | SKIPPED | +--------------------+----------------------+----------------------+ | Ubuntu 20.04 | SKIPPED | PASS | +--------------------+----------------------+----------------------+ Ubuntu 22.04 (ARM) Kernel: 5.15.0-97-generic Compiler: gcc gcc (Ubuntu 11.4.0-1ubuntu1~22.04) 11.4.0 Ubuntu 22.04 Kernel: 5.15.0-100-generic Compiler: gcc gcc (Ubuntu 11.4.0-1ubuntu1~22.04) 11.4.0 Ubuntu 20.04 Kernel: Depends on container host Compiler: gcc (Ubuntu 9.4.0-1ubuntu1~20.04.2) 9.4.0 To view detailed results, visit: https://lab.dpdk.org/results/dashboard/patchsets/33129/ UNH-IOL DPDK Community Lab To manage your email subscriptions, visit: https://lab.dpdk.org/results/dashboard/preferences/subscriptions/