From mboxrd@z Thu Jan 1 00:00:00 1970 Return-Path: Received: from mails.dpdk.org (mails.dpdk.org [217.70.189.124]) by inbox.dpdk.org (Postfix) with ESMTP id 0F0A0466E2 for ; Wed, 7 May 2025 01:07:40 +0200 (CEST) Received: from mails.dpdk.org (localhost [127.0.0.1]) by mails.dpdk.org (Postfix) with ESMTP id E44674025D; Wed, 7 May 2025 01:07:39 +0200 (CEST) Received: from mail-yb1-f226.google.com (mail-yb1-f226.google.com [209.85.219.226]) by mails.dpdk.org (Postfix) with ESMTP id 8A59F4025A for ; Wed, 7 May 2025 01:07:38 +0200 (CEST) Received: by mail-yb1-f226.google.com with SMTP id 3f1490d57ef6-e728cd7150dso4731866276.3 for ; Tue, 06 May 2025 16:07:38 -0700 (PDT) DKIM-Signature: v=1; a=rsa-sha256; c=relaxed/relaxed; d=iol.unh.edu; s=unh-iol; t=1746572858; x=1747177658; darn=dpdk.org; h=references:in-reply-to:cc:to:from:subject:message-id:date:from:to :cc:subject:date:message-id:reply-to; bh=b34X4YjLaWzFfCbiF3zwYvSxAglctJ1QqqkJlA1+xco=; b=Zyj0lRg111YrCWd5CtNKFpw3dDm+V1uFxaQUWENbfOh2eYg52kPMacknOvmdKt3mqX h6Bh8PsgyDCMtxo6obHyMFujwAEVcHh7VKlQH/vJISiLjpxMMCJw/NSXCKvFmx6e4sXA iWyXUmc/cr1NvhNwZAf20JGOTF2pW1Xh5TLyY= X-Google-DKIM-Signature: v=1; a=rsa-sha256; c=relaxed/relaxed; d=1e100.net; s=20230601; t=1746572858; x=1747177658; h=references:in-reply-to:cc:to:from:subject:message-id:date :x-gm-message-state:from:to:cc:subject:date:message-id:reply-to; bh=b34X4YjLaWzFfCbiF3zwYvSxAglctJ1QqqkJlA1+xco=; b=mlpqbVC04vCZsJgx7ZIGn9NfHa+2/D9nUhJxvP35qGU/iRy2x2c+2R4LhF0dwdrov8 iCwXb0QZZDcz2W2TtQV8LWt3+cWo9HoLOWinaDSMFlF8Hn9m4qyilUK+hse2rHUvlgg1 Qzv49y0hgMKci1j4iqyF+/dlecKn90o1ESfsVD74Rsj0q2lP8pEqL43MSFNHOfu7djdQ FOho4uR30dlvCC3wTDkH+fvdLgbZGgo2olxSMS7x+PMoxyamiDZqqRYvIX8cAuKuTPnA 3HZBTkM+ZWzqbZ4yfEzAP3aZMBWgkoRzaykNLW1d3hDUIfln0LZfq48Ym2nY575XOLUl GABA== X-Gm-Message-State: AOJu0YyKHUnvGb5+Mh3Amb7HJGUepYJ9Lq9NIEL30bsvIGLQc4rlprBJ BmqZ1rmtrZVH+d1zDN5xaxmqqq+5FADdh5Z9dd49neFhUBxklr4o1fsiwXdZ0m2JZ4toWP9kHEt Ak93FvpCwHZ5PPkOKmApZlqDgrng1sAio13xWXIXE X-Gm-Gg: ASbGncuR1AN1kwwYGUctSE476YZN831O6/bVNO1VezyZlNlF/6irPhB/JMntGPq7tLy 7iCt9WgMjmyMHmgRpBaTMQf8g68b6sWfRwmgGmx09R/Np5WrWWs8aR+nM+qCYmPOA+uEF2WvHG/ 12g66UkcS+eX7FgjEgGFYTgygaAE6cec4g4WHRbb6TKlyIV9+5hRVHxseQPfjAFgZBnG/Gt3Bsq LK2PX1/Hvtpd+/WJa2CG/TEFyiORGUOGhs8L22hlDtcA5kebLyNiwagtjgARGNDtoj3ewY6fvSo Jt7aPPRtU4okkd7aE39OSV968Pkm18+YV9XjftkU1jfK3SJ94ByHuedDalU= X-Google-Smtp-Source: AGHT+IF5ZhOFuUk+FmTt1EbiJ+IwMHPI90yOGPpSHyQYVfphXCSm268oRtTkmYCWTngyONZFJcRvMkDKixcM X-Received: by 2002:a05:6902:a92:b0:e72:f374:49b0 with SMTP id 3f1490d57ef6-e7881455310mr1378538276.42.1746572857838; Tue, 06 May 2025 16:07:37 -0700 (PDT) Received: from postal.iol.unh.edu (postal.iol.unh.edu. [132.177.123.84]) by smtp-relay.gmail.com with ESMTPS id 3f1490d57ef6-e78db399872sm7558276.17.2025.05.06.16.07.37 (version=TLS1_2 cipher=ECDHE-ECDSA-AES128-GCM-SHA256 bits=128/128); Tue, 06 May 2025 16:07:37 -0700 (PDT) X-Relaying-Domain: iol.unh.edu Date: Tue, 06 May 2025 16:07:37 -0700 (PDT) Message-ID: <681a9639.250a0220.d41ea.0709SMTPIN_ADDED_MISSING@mx.google.com> Received: from [172.17.0.2] (unknown [172.18.0.74]) by postal.iol.unh.edu (Postfix) with ESMTP id 71A0D6052471; Tue, 6 May 2025 19:07:37 -0400 (EDT) Subject: |SUCCESS| pw153328-153331 [PATCH] [4/4] bus/pci/bsd: Fix device exis From: dpdklab@iol.unh.edu To: Test Report Cc: dpdk-test-reports@iol.unh.edu In-Reply-To: <20250506174046.1136711-5-jfree@FreeBSD.org> References: <20250506174046.1136711-5-jfree@FreeBSD.org> Content-Type: text/plain X-BeenThere: test-report@dpdk.org X-Mailman-Version: 2.1.29 Precedence: list List-Id: automatic DPDK test reports List-Unsubscribe: , List-Archive: List-Post: List-Help: List-Subscribe: , Errors-To: test-report-bounces@dpdk.org Test-Label: iol-abi-testing Test-Status: SUCCESS http://dpdk.org/patch/153331 _Testing PASS_ Submitter: Jake Freeland Date: Tuesday, May 06 2025 17:40:44 DPDK git baseline: Repo:dpdk Branch: master CommitID:75f179ebe347b6098cf3af26d3d3b7168fe3fe24 153328-153331 --> testing pass Upstream job id: Generic-DPDK-Compile-ABI#125488 Test environment and result as below: +-------------------+----------+ | Environment | abi_test | +===================+==========+ | CentOS Stream 9 | PASS | +-------------------+----------+ | CentOS Stream 10 | PASS | +-------------------+----------+ | Debian 12 | PASS | +-------------------+----------+ | Fedora 40 | PASS | +-------------------+----------+ | Fedora 40 (Clang) | PASS | +-------------------+----------+ | Fedora 41 | PASS | +-------------------+----------+ | openSUSE Leap 15 | PASS | +-------------------+----------+ | Fedora 41 (Clang) | PASS | +-------------------+----------+ | Ubuntu 24.04 | PASS | +-------------------+----------+ | RHEL8 | PASS | +-------------------+----------+ | RHEL9 | PASS | +-------------------+----------+ | Ubuntu 22.04 | PASS | +-------------------+----------+ CentOS Stream 9 Kernel: Depends on container host Compiler: gcc 11.5.0 20240719 (Red Hat 11.5.0-2) CentOS Stream 10 Kernel: Depends on container host Compiler: gcc 14.2.1 20241104 (Red Hat 14.2.1-6) Debian 12 Kernel: Depends on container host Compiler: gcc (Debian 12.2.0-14) 12.2.0 Fedora 40 Kernel: Depends on container host Compiler: gcc 14.2.1 20240912 (Red Hat 14.2.1-3) Fedora 40 (Clang) Kernel: Depends on container host Compiler: clang 18.1.8 (Fedora 18.1.8-1.fc40) Fedora 41 Kernel: Depends on container host Compiler: gcc 14.2.1 20240912 (Red Hat 14.2.1-3) openSUSE Leap 15 Kernel: Depends on container host Compiler: gcc (SUSE Linux) 7.5.0 Fedora 41 (Clang) Kernel: Depends on container host Compiler: clang 19.1.5 (Fedora 19.1.5-1.fc41) Ubuntu 24.04 Kernel: Depends on container host Compiler: gcc (Ubuntu 13.3.0-6ubuntu2~24.04) 13.3.0 RHEL8 Kernel: Depends on container host Compiler: gcc 8.5.0 20210514 (Red Hat 8.5.0-22) RHEL9 Kernel: Depends on container host Compiler: gcc 11.5.0 20240719 (Red Hat 11.5.0-2) Ubuntu 22.04 Kernel: Depends on container host Compiler: gcc (Ubuntu 11.4.0-1ubuntu1~22.04) 11.4.0 To view detailed results, visit: https://lab.dpdk.org/results/dashboard/patchsets/33126/ UNH-IOL DPDK Community Lab To manage your email subscriptions, visit: https://lab.dpdk.org/results/dashboard/preferences/subscriptions/