From mboxrd@z Thu Jan 1 00:00:00 1970 Return-Path: Received: from mails.dpdk.org (mails.dpdk.org [217.70.189.124]) by inbox.dpdk.org (Postfix) with ESMTP id 66DE6466DD for ; Wed, 7 May 2025 01:20:20 +0200 (CEST) Received: from mails.dpdk.org (localhost [127.0.0.1]) by mails.dpdk.org (Postfix) with ESMTP id 6158E4025D; Wed, 7 May 2025 01:20:20 +0200 (CEST) Received: from mail-il1-f225.google.com (mail-il1-f225.google.com [209.85.166.225]) by mails.dpdk.org (Postfix) with ESMTP id 436DB4025A for ; Wed, 7 May 2025 01:20:19 +0200 (CEST) Received: by mail-il1-f225.google.com with SMTP id e9e14a558f8ab-3d9327d0720so49328745ab.3 for ; Tue, 06 May 2025 16:20:19 -0700 (PDT) DKIM-Signature: v=1; a=rsa-sha256; c=relaxed/relaxed; d=iol.unh.edu; s=unh-iol; t=1746573618; x=1747178418; darn=dpdk.org; h=references:in-reply-to:cc:to:from:subject:message-id:date:from:to :cc:subject:date:message-id:reply-to; bh=iOpp5vc0r4zEC/+UZ+8kO+Kv2vhDSN2jUMAhLa2lI3g=; b=MQXB52XQ8pC92LCzR7bo3XKOuciCQbZXwQXOBCRL0pwrsj+Ajb9IjzxiuZ+z6A0TgJ X/4U90wtgm3pMp7QVw83PueCEnt8uI9YaucOHrjgzKMSXgLj2DoJqp0nHYs453nPQLnY vwS//vp7rG2YI0MCXc6A7PO3AN2dErCma6CDQ= X-Google-DKIM-Signature: v=1; a=rsa-sha256; c=relaxed/relaxed; d=1e100.net; s=20230601; t=1746573618; x=1747178418; h=references:in-reply-to:cc:to:from:subject:message-id:date :x-gm-message-state:from:to:cc:subject:date:message-id:reply-to; bh=iOpp5vc0r4zEC/+UZ+8kO+Kv2vhDSN2jUMAhLa2lI3g=; b=uBlLGTeritps2Xy9ffwo/+HEJC2TMIrZlGg0t2adPe/VdOF5vujsv6QSFFdcZ/d7no X1pQ39CUARXCW00Zt8oMzIH8ja5NiWmP90BXbD0Fl5xXT45RxeGnTZBdajseOLj9Gjdc s0ZGCo4tFBqMc2r5na0+ajif7D1if04+EH/1Ei6GXQa2QDSPCylXZa11pIQhdbm4QiTR Ec7Lu8HCXM7VG38TiFpw9t6ryh5jgPEZJAE81wKhoMfrQX3lufjNV5Ua7WLA3lMQZJBy e+Nz8i//U9dmkzi2EfkCR+DetavKEMbk+YN3nlQE/Y2m71E/VKDr8rE80ABg/3uEbleC PPsg== X-Gm-Message-State: AOJu0YzSSIg5bfI+Rs5VP8WPd7mcZjJmCPavxD7p696K85QO3Ev46d+m dvXfPmTzC8WPzpeHuLOWFMLkZI3AevYZJNi+tl1pF3s6WVD8armoIwUYWvYWPbEQwOoji742j1A Z43K07sr3n4SC2DLsgbKYrb8eCeYKM8DVghlR3a2P X-Gm-Gg: ASbGncvVgPXCI+dz5PCm795PJuLxdMywsr69qJjKCE3/2Jjk6ULLtJjjhc+6qRV3fIG 84DjI8jmhkE8pqwuF7xt51lPJdOoGlTXFlGQxrXIKCPDb34wm8ZEGs7MZNK3bkeX6tNOFl90+zc ErN0skoj+e18h/MHhaQ8DlRLDTJGaHE2w7ukfzsWbBdY01OpPLeIOSiHtuvHJ0VnQAsfqG5kH9b qX/elitmwcdDzhr3fWjZK+4KXCeLvJUe3qgmDPr/ciWCA2sGeNVYI42vMczr2Bwio27+tYr2Pby 5SmMgr4BUFdkN9WC4xNL+NCDQJiXLdTAydn8z4PWGsC+tM7rNML3/f7mjb4= X-Google-Smtp-Source: AGHT+IHrcdkpJ77Qef6zFxibx6kHhgpTMW2E+k3BtA9cyxPxZRN6RbR4muhEemNlJ6MQO7r3a9pUq/zL+1RN X-Received: by 2002:a05:6e02:220b:b0:3d3:f6ee:cc4c with SMTP id e9e14a558f8ab-3da7388bc6amr12901505ab.0.1746573618518; Tue, 06 May 2025 16:20:18 -0700 (PDT) Received: from postal.iol.unh.edu (postal.iol.unh.edu. [132.177.123.84]) by smtp-relay.gmail.com with ESMTPS id 8926c6da1cb9f-4f88aa650c6sm2106179173.58.2025.05.06.16.20.18 (version=TLS1_2 cipher=ECDHE-ECDSA-AES128-GCM-SHA256 bits=128/128); Tue, 06 May 2025 16:20:18 -0700 (PDT) X-Relaying-Domain: iol.unh.edu Date: Tue, 06 May 2025 16:20:18 -0700 (PDT) Message-ID: <681a9932.050a0220.21e4f1.a8eaSMTPIN_ADDED_MISSING@mx.google.com> Received: from [172.21.0.5] (unknown [172.18.0.240]) by postal.iol.unh.edu (Postfix) with ESMTP id 2798F6052471; Tue, 6 May 2025 19:20:18 -0400 (EDT) Subject: |SUCCESS| pw153332 [PATCH] kernel/freebsd: Allow contigmem allocatio From: dpdklab@iol.unh.edu To: Test Report Cc: dpdk-test-reports@iol.unh.edu In-Reply-To: <20250506174941.1141140-1-jfree@FreeBSD.org> References: <20250506174941.1141140-1-jfree@FreeBSD.org> Content-Type: text/plain X-BeenThere: test-report@dpdk.org X-Mailman-Version: 2.1.29 Precedence: list List-Id: automatic DPDK test reports List-Unsubscribe: , List-Archive: List-Post: List-Help: List-Subscribe: , Errors-To: test-report-bounces@dpdk.org Test-Label: iol-compile-arm64-testing Test-Status: SUCCESS http://dpdk.org/patch/153332 _Testing PASS_ Submitter: Jake Freeland Date: Tuesday, May 06 2025 17:48:38 DPDK git baseline: Repo:dpdk Branch: master CommitID:75f179ebe347b6098cf3af26d3d3b7168fe3fe24 153332 --> testing pass Upstream job id: Generic-DPDK-Compile-Meson#385684 Test environment and result as below: +----------------------------------------+--------------------+ | Environment | dpdk_meson_compile | +========================================+====================+ | RHEL9 (ARM) | PASS | +----------------------------------------+--------------------+ | Ubuntu 20.04 ARM GCC Cross Compile | PASS | +----------------------------------------+--------------------+ | Debian 12 with MUSDK | PASS | +----------------------------------------+--------------------+ | Ubuntu 20.04 ARM SVE | PASS | +----------------------------------------+--------------------+ | Fedora 40 (ARM Clang) | PASS | +----------------------------------------+--------------------+ | Fedora 40 (ARM) | PASS | +----------------------------------------+--------------------+ | Fedora 41 (ARM) | PASS | +----------------------------------------+--------------------+ | Fedora 41 (ARM Clang) | PASS | +----------------------------------------+--------------------+ | Ubuntu 20.04 (ARM) | PASS | +----------------------------------------+--------------------+ | Ubuntu 22.04 (ARM) | PASS | +----------------------------------------+--------------------+ | Ubuntu 24.04 (ARM) | PASS | +----------------------------------------+--------------------+ | CentOS Stream 9 (ARM) | PASS | +----------------------------------------+--------------------+ | Debian 12 (arm) | PASS | +----------------------------------------+--------------------+ | CentOS Stream 10 (ARM) | PASS | +----------------------------------------+--------------------+ | Ubuntu 20.04 ARM Clang Cross Compile | PASS | +----------------------------------------+--------------------+ | Ubuntu 20.04 aarch32 GCC Cross Compile | PASS | +----------------------------------------+--------------------+ RHEL9 (ARM) Kernel: Depends on container host Compiler: gcc 11.5.0 20240719 (Red Hat 11.5.0-2) Ubuntu 20.04 ARM GCC Cross Compile Kernel: Depends on container host Compiler: aarch64-linux-gnu-gcc (Ubuntu 9.4.0-1ubuntu1~20.04.2) 9.4.0 Debian 12 with MUSDK Kernel: Depends on container host Compiler: gcc (Debian 12.2.0-14) 12.2.0 Ubuntu 20.04 ARM SVE Kernel: Depends on container host Compiler: gcc (Ubuntu 10.5.0-1ubuntu1~20.04) 10.5.0 Fedora 40 (ARM Clang) Kernel: Depends on container host Compiler: clang 18.1.8 (Fedora 18.1.8-1.fc40) Fedora 40 (ARM) Kernel: Depends on container host Compiler: gcc 14.2.1 20240912 (Red Hat 14.2.1-3) Fedora 41 (ARM) Kernel: Depends on container host Compiler: gcc 14.2.1 20240912 (Red Hat 14.2.1-3) Fedora 41 (ARM Clang) Kernel: Depends on container host Compiler: clang 19.1.5 (Fedora 19.1.5-1.fc41) Ubuntu 20.04 (ARM) Kernel: Depends on container host Compiler: gcc (Ubuntu 9.4.0-1ubuntu1~20.04.2) 9.4.0 Ubuntu 22.04 (ARM) Kernel: Depends on container host Compiler: gcc (Ubuntu 11.4.0-1ubuntu1~22.04) 11.4.0 Ubuntu 24.04 (ARM) Kernel: Depends on container host Compiler: gcc (Ubuntu 13.3.0-6ubuntu2~24.04) 13.3.0 CentOS Stream 9 (ARM) Kernel: Depends on container host Compiler: gcc 11.5.0 20240719 (Red Hat 11.5.0-2) Debian 12 (arm) Kernel: Depends on container host Compiler: gcc (Debian 12.2.0-14) 12.2.0 CentOS Stream 10 (ARM) Kernel: Depends on container host Compiler: gcc 14.2.1 20241104 (Red Hat 14.2.1-6) Ubuntu 20.04 ARM Clang Cross Compile Kernel: Depends on container host Compiler: clang 10.0.0-4ubuntu1 Ubuntu 20.04 aarch32 GCC Cross Compile Kernel: Depends on container host Compiler: gcc 9.4.0 To view detailed results, visit: https://lab.dpdk.org/results/dashboard/patchsets/33127/ UNH-IOL DPDK Community Lab To manage your email subscriptions, visit: https://lab.dpdk.org/results/dashboard/preferences/subscriptions/