From mboxrd@z Thu Jan 1 00:00:00 1970 Return-Path: Received: from mails.dpdk.org (mails.dpdk.org [217.70.189.124]) by inbox.dpdk.org (Postfix) with ESMTP id B579F466DD for ; Wed, 7 May 2025 01:22:12 +0200 (CEST) Received: from mails.dpdk.org (localhost [127.0.0.1]) by mails.dpdk.org (Postfix) with ESMTP id 934EE4025D; Wed, 7 May 2025 01:22:12 +0200 (CEST) Received: from mail-pf1-f228.google.com (mail-pf1-f228.google.com [209.85.210.228]) by mails.dpdk.org (Postfix) with ESMTP id B786C4025A for ; Wed, 7 May 2025 01:22:11 +0200 (CEST) Received: by mail-pf1-f228.google.com with SMTP id d2e1a72fcca58-72d3b48d2ffso6725791b3a.2 for ; Tue, 06 May 2025 16:22:11 -0700 (PDT) DKIM-Signature: v=1; a=rsa-sha256; c=relaxed/relaxed; d=iol.unh.edu; s=unh-iol; t=1746573731; x=1747178531; darn=dpdk.org; h=references:in-reply-to:cc:to:from:subject:message-id:date:from:to :cc:subject:date:message-id:reply-to; bh=jJaa/Wzzy7iRrRN+KFoq/M/DrpFK/Pz7IlPmCnaD8e8=; b=DoGtT30WzpXsx1LGMsKMZWr1Owa7pJfKSpFvBqIKxHsgITUINNS1/p9JbN6t0+iTre kdmLqhAA4YpIhpJZpwAWskmBoMBgXROGjnj/jiuFg5j6dUDwgg14h5fYGJynuBBD0OMT tNhDndyv5IVgaGxmW4wgsdg3oFyloPGuunK6Q= X-Google-DKIM-Signature: v=1; a=rsa-sha256; c=relaxed/relaxed; d=1e100.net; s=20230601; t=1746573731; x=1747178531; h=references:in-reply-to:cc:to:from:subject:message-id:date :x-gm-message-state:from:to:cc:subject:date:message-id:reply-to; bh=jJaa/Wzzy7iRrRN+KFoq/M/DrpFK/Pz7IlPmCnaD8e8=; b=mqlbHkPCnydMskpqHst5iGkxW9u4lpsEwiWbQlTQQOHzY0v7UkIgly0mDgRzjawS0Y SmMW0PIA1reqZiCzKuk4u+ytmaQjdGa6/0rO4UfW6VoOzJLWidc+Qwkq00lmrhOIu34W V79kNi4yU646hFFRHBnKOeaoBOj4RdBvF73Qke36LopVyMgl5TwLyDBZrAfZXKTl7xL6 vEQtzNpFLkfuqrk7uxaoK28f0mPvwBFo0LgBJdkf2urK3tli63PD0vbIKO2sF8mMmDJC dNHNJeJBoaDUoGCUuGI7aK6WrlSb8BR39meod4664DHSgoEH6oGqIImgWQ+Rjnd6ZK9f WWFA== X-Gm-Message-State: AOJu0YwGwEMhk5ODCvm+qW0KgF6BfUvV5CF09KfdTNNWcPpWxyrNc/jx +PwHU7QnLS4mq3W2CER1Dt2s2iWACHce7L20AYMvr5h+/eU4HLeQMVuT0WMeREnoM+nxh4MZDek LnSe57n5h6VFr+Jg1MoDJgoSHz596EnTsYp1G/cQO X-Gm-Gg: ASbGncvqgB/+JCUglM1/6VCyP+Uu32k1fsmahOV8rPnq/X2V38bAf+nTwV8ZPWI+EYp 7CUfMf2cgCzdr/EH8GddaGdJG+k9aIcKFNmSUuu337nwffpNaJgJVMZZnJNgutQE51nPTFLXdxR bmwF9n+WH908T1PmwzWSF3eat5nkfV62eChpTO6nDSx2G0/gLEBwLz7WobkWxytvKYLKsgWv/ui jzUAOmyXRRQ1GWz2LQsahgQ5E5N228uuCPjoBiuClZRkE9NTzB2f9GlPOULyUoQuCoWMTtedlIX JLH1jCKAVcM32xqV1tWb55XXKCnMi4Q8OuYR3YxQdF5yGgOeZe0EcsGjgHg= X-Google-Smtp-Source: AGHT+IEkjcABRkAnr/O6NskTQ2G6jlVBex5sf5M+yw8VupPtNGG+Nz4ByVRh6Y9IQhEEDz3Xyj8U/XFuTpwZ X-Received: by 2002:a05:6a00:4404:b0:740:6615:33c7 with SMTP id d2e1a72fcca58-7409d00fdecmr1473970b3a.23.1746573730770; Tue, 06 May 2025 16:22:10 -0700 (PDT) Received: from postal.iol.unh.edu (postal.iol.unh.edu. [132.177.123.84]) by smtp-relay.gmail.com with ESMTPS id d2e1a72fcca58-7405905d228sm2163607b3a.21.2025.05.06.16.22.10 (version=TLS1_2 cipher=ECDHE-ECDSA-AES128-GCM-SHA256 bits=128/128); Tue, 06 May 2025 16:22:10 -0700 (PDT) X-Relaying-Domain: iol.unh.edu Date: Tue, 06 May 2025 16:22:10 -0700 (PDT) Message-ID: <681a99a2.050a0220.1e4b82.e5aeSMTPIN_ADDED_MISSING@mx.google.com> Received: from [172.21.0.5] (unknown [172.18.0.240]) by postal.iol.unh.edu (Postfix) with ESMTP id CE7DD6052471; Tue, 6 May 2025 19:22:09 -0400 (EDT) Subject: |SUCCESS| pw153332 [PATCH] kernel/freebsd: Allow contigmem allocatio From: dpdklab@iol.unh.edu To: Test Report Cc: dpdk-test-reports@iol.unh.edu In-Reply-To: <20250506174941.1141140-1-jfree@FreeBSD.org> References: <20250506174941.1141140-1-jfree@FreeBSD.org> Content-Type: text/plain X-BeenThere: test-report@dpdk.org X-Mailman-Version: 2.1.29 Precedence: list List-Id: automatic DPDK test reports List-Unsubscribe: , List-Archive: List-Post: List-Help: List-Subscribe: , Errors-To: test-report-bounces@dpdk.org Test-Label: iol-compile-arm64-testing Test-Status: SUCCESS http://dpdk.org/patch/153332 _Testing PASS_ Submitter: Jake Freeland Date: Tuesday, May 06 2025 17:48:38 DPDK git baseline: Repo:dpdk Branch: master CommitID:75f179ebe347b6098cf3af26d3d3b7168fe3fe24 153332 --> testing pass Upstream job id: Generic-DPDK-Compile-Meson#385686 Test environment and result as below: +----------------------------------------+--------------------+ | Environment | dpdk_meson_compile | +========================================+====================+ | RHEL9 (ARM) | PASS | +----------------------------------------+--------------------+ | Ubuntu 20.04 ARM GCC Cross Compile | PASS | +----------------------------------------+--------------------+ | Debian 12 with MUSDK | PASS | +----------------------------------------+--------------------+ | Ubuntu 20.04 ARM SVE | PASS | +----------------------------------------+--------------------+ | Fedora 40 (ARM Clang) | PASS | +----------------------------------------+--------------------+ | Fedora 40 (ARM) | PASS | +----------------------------------------+--------------------+ | Fedora 41 (ARM) | PASS | +----------------------------------------+--------------------+ | Fedora 41 (ARM Clang) | PASS | +----------------------------------------+--------------------+ | Ubuntu 20.04 (ARM) | PASS | +----------------------------------------+--------------------+ | Ubuntu 22.04 (ARM) | PASS | +----------------------------------------+--------------------+ | Ubuntu 24.04 (ARM) | PASS | +----------------------------------------+--------------------+ | CentOS Stream 9 (ARM) | PASS | +----------------------------------------+--------------------+ | Debian 12 (arm) | PASS | +----------------------------------------+--------------------+ | CentOS Stream 10 (ARM) | PASS | +----------------------------------------+--------------------+ | Ubuntu 20.04 ARM Clang Cross Compile | PASS | +----------------------------------------+--------------------+ | Ubuntu 20.04 aarch32 GCC Cross Compile | PASS | +----------------------------------------+--------------------+ RHEL9 (ARM) Kernel: Depends on container host Compiler: gcc 11.5.0 20240719 (Red Hat 11.5.0-2) Ubuntu 20.04 ARM GCC Cross Compile Kernel: Depends on container host Compiler: aarch64-linux-gnu-gcc (Ubuntu 9.4.0-1ubuntu1~20.04.2) 9.4.0 Debian 12 with MUSDK Kernel: Depends on container host Compiler: gcc (Debian 12.2.0-14) 12.2.0 Ubuntu 20.04 ARM SVE Kernel: Depends on container host Compiler: gcc (Ubuntu 10.5.0-1ubuntu1~20.04) 10.5.0 Fedora 40 (ARM Clang) Kernel: Depends on container host Compiler: clang 18.1.8 (Fedora 18.1.8-1.fc40) Fedora 40 (ARM) Kernel: Depends on container host Compiler: gcc 14.2.1 20240912 (Red Hat 14.2.1-3) Fedora 41 (ARM) Kernel: Depends on container host Compiler: gcc 14.2.1 20240912 (Red Hat 14.2.1-3) Fedora 41 (ARM Clang) Kernel: Depends on container host Compiler: clang 19.1.5 (Fedora 19.1.5-1.fc41) Ubuntu 20.04 (ARM) Kernel: Depends on container host Compiler: gcc (Ubuntu 9.4.0-1ubuntu1~20.04.2) 9.4.0 Ubuntu 22.04 (ARM) Kernel: Depends on container host Compiler: gcc (Ubuntu 11.4.0-1ubuntu1~22.04) 11.4.0 Ubuntu 24.04 (ARM) Kernel: Depends on container host Compiler: gcc (Ubuntu 13.3.0-6ubuntu2~24.04) 13.3.0 CentOS Stream 9 (ARM) Kernel: Depends on container host Compiler: gcc 11.5.0 20240719 (Red Hat 11.5.0-2) Debian 12 (arm) Kernel: Depends on container host Compiler: gcc (Debian 12.2.0-14) 12.2.0 CentOS Stream 10 (ARM) Kernel: Depends on container host Compiler: gcc 14.2.1 20241104 (Red Hat 14.2.1-6) Ubuntu 20.04 ARM Clang Cross Compile Kernel: Depends on container host Compiler: clang 10.0.0-4ubuntu1 Ubuntu 20.04 aarch32 GCC Cross Compile Kernel: Depends on container host Compiler: gcc 9.4.0 To view detailed results, visit: https://lab.dpdk.org/results/dashboard/patchsets/33127/ UNH-IOL DPDK Community Lab To manage your email subscriptions, visit: https://lab.dpdk.org/results/dashboard/preferences/subscriptions/