From mboxrd@z Thu Jan  1 00:00:00 1970
Return-Path: <test-report-bounces@dpdk.org>
Received: from mails.dpdk.org (mails.dpdk.org [217.70.189.124])
	by inbox.dpdk.org (Postfix) with ESMTP id 63925466DD
	for <public@inbox.dpdk.org>; Wed,  7 May 2025 01:27:36 +0200 (CEST)
Received: from mails.dpdk.org (localhost [127.0.0.1])
	by mails.dpdk.org (Postfix) with ESMTP id 324AF4025D;
	Wed,  7 May 2025 01:27:36 +0200 (CEST)
Received: from mail-ot1-f98.google.com (mail-ot1-f98.google.com
 [209.85.210.98]) by mails.dpdk.org (Postfix) with ESMTP id 57DB24025A
 for <test-report@dpdk.org>; Wed,  7 May 2025 01:27:35 +0200 (CEST)
Received: by mail-ot1-f98.google.com with SMTP id
 46e09a7af769-72ecb4d9a10so4271602a34.3
 for <test-report@dpdk.org>; Tue, 06 May 2025 16:27:35 -0700 (PDT)
DKIM-Signature: v=1; a=rsa-sha256; c=relaxed/relaxed;
 d=iol.unh.edu; s=unh-iol; t=1746574054; x=1747178854; darn=dpdk.org;
 h=references:in-reply-to:cc:to:from:subject:message-id:date:from:to
 :cc:subject:date:message-id:reply-to;
 bh=Jco0GTzPjAscroJN15NLFYYLCh6PyU0BqL6lvPAClrU=;
 b=bmvNh8DtUYF8lxvx6vnCZp6ZuSIo4tpTYk3SMKgbB/1ObPkD1YX5ZJZRm1rPYt1vxz
 S8gvFI0OIzkpKUdo5I8wq5ic54/Ic9MfgaE0rrlRnANhAQLrLc/iRxckYolhZL7N6VSf
 HPxDwAOa/FqA0kkR4ovVS258BbafG72MxCylE=
X-Google-DKIM-Signature: v=1; a=rsa-sha256; c=relaxed/relaxed;
 d=1e100.net; s=20230601; t=1746574054; x=1747178854;
 h=references:in-reply-to:cc:to:from:subject:message-id:date
 :x-gm-message-state:from:to:cc:subject:date:message-id:reply-to;
 bh=Jco0GTzPjAscroJN15NLFYYLCh6PyU0BqL6lvPAClrU=;
 b=G3cGvDim0l1VdniQdIBaXigDhTl5MOC+Z2LCv6sL36XOUpLwJ+rkFgMBgWRd5mxJhA
 eXbanLMtzKOKHPipB/jRFh9Ium2xisXwq0j2Dq4OO2ZhN9/Sjd4UfyVpliYYqijJmXC/
 giBL8sUP5qsLhBm/TRvYZkew9P87FT28I7wADCu2EX6GswQzTAQKdnetk/7CrAHdBagA
 l6ipKcLCBD/98MdFZPZlMSZioU2mjZQE1SkMrWwXA870h+nK2fRWy+pWUrA8PZqbQV8j
 xgjdFdWHkodz6YM6E97or2bKrSfvgT3abXCgLOlxTFx2iqICsdplcZctVUryKtVPdm1I
 cPxA==
X-Gm-Message-State: AOJu0YzaEqsVsuJgOlvASFjIEm+bKxMDT7jzOkSycvmNKC154Skjvveo
 XVbnDXyBgWMeFQkRv0JjiRyGAT4faXUXoylP4tIRQPAld3U9c/zGIG24a/DDrtnEMHv2CPPN0IV
 zBTpWUsYtWK29ndzb8p2llpDYNYlrOrk6fCYL59flptBkfKbWmEVEDMgN
X-Gm-Gg: ASbGncsihptaBXN65MJqUB1NotmwcWDFcmupTVuoosqxDJwTlHoeJO2a5E4mAjqC7jv
 m+cZq21fXZn7O1oh/OEmQ3qXTGx9PAyP5J4StZ6CIH1BbOq3DmQRCokjGyQZcW/14nW1QmwkQdu
 uwNFyaEEb6Y2DR3EAi4Wznx1S82kyKeRWTNGS1X8PGjb5Bkx9IkvXwiePv03uj4T+cML5PdSq5+
 ZMW3vTip4Iyq17C+dNQKBrryoAs33zHkYfaSoCGHGf9EWMm2Ftrmyltz6Hmk5RqbVk5DYJTZb/b
 /GbIcxY5jaImiAMIgZXIVdnKJi8MOo7KwMfP
X-Google-Smtp-Source: AGHT+IH/zQj+N1CA2jN6DZ3yV4Fc+gou1snMEWTh5UDDF7zD+ICN+Jznjon0YuLWVKiXaRkAgKfZmsqiDrpW
X-Received: by 2002:a05:6870:5246:b0:28c:8476:dd76 with SMTP id
 586e51a60fabf-2db5c09647amr824786fac.29.1746574053174; 
 Tue, 06 May 2025 16:27:33 -0700 (PDT)
Received: from postal.iol.unh.edu (postal.iol.unh.edu.
 [2606:4100:3880:1234::84]) by smtp-relay.gmail.com with ESMTPS id
 46e09a7af769-73210a95d79sm31651a34.8.2025.05.06.16.27.33
 (version=TLS1_2 cipher=ECDHE-ECDSA-AES128-GCM-SHA256 bits=128/128);
 Tue, 06 May 2025 16:27:33 -0700 (PDT)
X-Relaying-Domain: iol.unh.edu
Date: Tue, 06 May 2025 16:27:33 -0700 (PDT)
Message-ID: <681a9ae5.050a0220.520c7.1e68SMTPIN_ADDED_MISSING@mx.google.com>
Received: from [172.21.0.5] (unknown [172.18.0.240])
 by postal.iol.unh.edu (Postfix) with ESMTP id 983E46052471;
 Tue,  6 May 2025 19:27:32 -0400 (EDT)
Subject: |SUCCESS| pw153328-153331 [PATCH] [4/4] bus/pci/bsd: Fix device exis
From: dpdklab@iol.unh.edu
To: Test Report <test-report@dpdk.org>
Cc: dpdk-test-reports@iol.unh.edu
In-Reply-To: <20250506174046.1136711-5-jfree@FreeBSD.org>
References: <20250506174046.1136711-5-jfree@FreeBSD.org>
Content-Type: text/plain
X-BeenThere: test-report@dpdk.org
X-Mailman-Version: 2.1.29
Precedence: list
List-Id: automatic DPDK test reports <test-report.dpdk.org>
List-Unsubscribe: <https://mails.dpdk.org/options/test-report>,
 <mailto:test-report-request@dpdk.org?subject=unsubscribe>
List-Archive: <http://mails.dpdk.org/archives/test-report/>
List-Post: <mailto:test-report@dpdk.org>
List-Help: <mailto:test-report-request@dpdk.org?subject=help>
List-Subscribe: <https://mails.dpdk.org/listinfo/test-report>,
 <mailto:test-report-request@dpdk.org?subject=subscribe>
Errors-To: test-report-bounces@dpdk.org

Test-Label: iol-unit-arm64-testing
Test-Status: SUCCESS
http://dpdk.org/patch/153331

_Testing PASS_

Submitter: Jake Freeland <jfree@freebsd.org>
Date: Tuesday, May 06 2025 17:40:44 
DPDK git baseline: Repo:dpdk
  Branch: master
  CommitID:75f179ebe347b6098cf3af26d3d3b7168fe3fe24

153328-153331 --> testing pass

Upstream job id: Aarch32-Unit-Test#6154

Test environment and result as below:

+-----------------------------+--------------+---------------------------+------------------------------+----------------+
|         Environment         | lpm_autotest | cryptodev_sw_zuc_autotest | cryptodev_sw_snow3g_autotest | dpdk_unit_test |
+=============================+==============+===========================+==============================+================+
| Ubuntu 20.04 ARM SVE        | PASS         | SKIPPED                   | SKIPPED                      | SKIPPED        |
+-----------------------------+--------------+---------------------------+------------------------------+----------------+
| Debian 12 (arm)             | SKIPPED      | PASS                      | PASS                         | PASS           |
+-----------------------------+--------------+---------------------------+------------------------------+----------------+
| CentOS Stream 9 (ARM)       | SKIPPED      | SKIPPED                   | SKIPPED                      | PASS           |
+-----------------------------+--------------+---------------------------+------------------------------+----------------+
| CentOS Stream 10 (ARM)      | SKIPPED      | SKIPPED                   | SKIPPED                      | PASS           |
+-----------------------------+--------------+---------------------------+------------------------------+----------------+
| Fedora 41 (ARM)             | SKIPPED      | SKIPPED                   | SKIPPED                      | PASS           |
+-----------------------------+--------------+---------------------------+------------------------------+----------------+
| Fedora 40 (ARM)             | SKIPPED      | SKIPPED                   | SKIPPED                      | PASS           |
+-----------------------------+--------------+---------------------------+------------------------------+----------------+
| Ubuntu 22.04 (ARM)          | SKIPPED      | SKIPPED                   | SKIPPED                      | PASS           |
+-----------------------------+--------------+---------------------------+------------------------------+----------------+
| Fedora 40 (ARM Clang)       | SKIPPED      | SKIPPED                   | SKIPPED                      | PASS           |
+-----------------------------+--------------+---------------------------+------------------------------+----------------+
| Fedora 41 (ARM Clang)       | SKIPPED      | SKIPPED                   | SKIPPED                      | PASS           |
+-----------------------------+--------------+---------------------------+------------------------------+----------------+
| RHEL9 (ARM)                 | SKIPPED      | SKIPPED                   | SKIPPED                      | PASS           |
+-----------------------------+--------------+---------------------------+------------------------------+----------------+
| Ubuntu 20.04 (ARM)          | SKIPPED      | SKIPPED                   | SKIPPED                      | PASS           |
+-----------------------------+--------------+---------------------------+------------------------------+----------------+
| Ubuntu 24.04 (ARM)          | SKIPPED      | SKIPPED                   | SKIPPED                      | PASS           |
+-----------------------------+--------------+---------------------------+------------------------------+----------------+
| 32-bit Ubuntu 22.04.4 (ARM) | SKIPPED      | SKIPPED                   | SKIPPED                      | PASS           |
+-----------------------------+--------------+---------------------------+------------------------------+----------------+


Ubuntu 20.04 ARM SVE
	Kernel: Depends on container host
	Compiler: gcc (Ubuntu 10.5.0-1ubuntu1~20.04) 10.5.0

Debian 12 (arm)
	Kernel: Depends on container host
	Compiler: gcc (Debian 12.2.0-14) 12.2.0

CentOS Stream 9 (ARM)
	Kernel: Depends on container host
	Compiler: gcc 11.5.0 20240719 (Red Hat 11.5.0-2)

CentOS Stream 10 (ARM)
	Kernel: Depends on container host
	Compiler: gcc 14.2.1 20241104 (Red Hat 14.2.1-6)

Fedora 41 (ARM)
	Kernel: Depends on container host
	Compiler: gcc 14.2.1 20240912 (Red Hat 14.2.1-3)

Fedora 40 (ARM)
	Kernel: Depends on container host
	Compiler: gcc 14.2.1 20240912 (Red Hat 14.2.1-3)

Ubuntu 22.04 (ARM)
	Kernel: Depends on container host
	Compiler: gcc (Ubuntu 11.4.0-1ubuntu1~22.04) 11.4.0

Fedora 40 (ARM Clang)
	Kernel: Depends on container host
	Compiler: clang 18.1.8 (Fedora 18.1.8-1.fc40)

Fedora 41 (ARM Clang)
	Kernel: Depends on container host
	Compiler: clang 19.1.5 (Fedora 19.1.5-1.fc41)

RHEL9 (ARM)
	Kernel: Depends on container host
	Compiler: gcc 11.5.0 20240719 (Red Hat 11.5.0-2)

Ubuntu 20.04 (ARM)
	Kernel: Depends on container host
	Compiler: gcc (Ubuntu 9.4.0-1ubuntu1~20.04.2) 9.4.0

Ubuntu 24.04 (ARM)
	Kernel: Depends on container host
	Compiler: gcc (Ubuntu 13.3.0-6ubuntu2~24.04) 13.3.0

32-bit Ubuntu 22.04.4 (ARM)
	Kernel: 5.15.83+ aarch64
	Compiler: gcc (Ubuntu 11.4.0-1ubuntu1~22.04) 11.4.0

To view detailed results, visit:
https://lab.dpdk.org/results/dashboard/patchsets/33126/

UNH-IOL DPDK Community Lab

To manage your email subscriptions, visit: 
https://lab.dpdk.org/results/dashboard/preferences/subscriptions/