From mboxrd@z Thu Jan 1 00:00:00 1970 Return-Path: Received: from mails.dpdk.org (mails.dpdk.org [217.70.189.124]) by inbox.dpdk.org (Postfix) with ESMTP id 64421466DE for ; Wed, 7 May 2025 01:45:02 +0200 (CEST) Received: from mails.dpdk.org (localhost [127.0.0.1]) by mails.dpdk.org (Postfix) with ESMTP id 417004025D; Wed, 7 May 2025 01:45:02 +0200 (CEST) Received: from mail-pl1-f226.google.com (mail-pl1-f226.google.com [209.85.214.226]) by mails.dpdk.org (Postfix) with ESMTP id CB6FD4025A for ; Wed, 7 May 2025 01:45:01 +0200 (CEST) Received: by mail-pl1-f226.google.com with SMTP id d9443c01a7336-227b828de00so73685565ad.1 for ; Tue, 06 May 2025 16:45:01 -0700 (PDT) DKIM-Signature: v=1; a=rsa-sha256; c=relaxed/relaxed; d=iol.unh.edu; s=unh-iol; t=1746575101; x=1747179901; darn=dpdk.org; h=references:in-reply-to:cc:to:from:subject:message-id:date:from:to :cc:subject:date:message-id:reply-to; bh=pHs3NkmgYESOSLdis7PvTsg6O/Bxl/xB3nK9QV28+pc=; b=IX7x/aUfYH+/fi4gB6Rz5kokCpYmWUXQ98pp+UMgYJugf9aNIjRl/u7PvndlwxIl6s AkHFoSDbSp9KDcti/sH6mjADPVaO0Fh4WnKN1L/5OvklSobsZD83XyNzN2WAFwh/JtCt qqElzART4YyHTheubwKnx2U8IYNUIAauGZYOM= X-Google-DKIM-Signature: v=1; a=rsa-sha256; c=relaxed/relaxed; d=1e100.net; s=20230601; t=1746575101; x=1747179901; h=references:in-reply-to:cc:to:from:subject:message-id:date :x-gm-message-state:from:to:cc:subject:date:message-id:reply-to; bh=pHs3NkmgYESOSLdis7PvTsg6O/Bxl/xB3nK9QV28+pc=; b=xBvObSmD/rIXh0NuBkQu5NXJoYblSJB9RwuPH/L5bRvC/ENvjt9EOOuTt9Iiqh/pTz 5W+iKGN1h4KFHo+IE1PMouGm8EEdWWP3Bw8voFol8ZQgcqLKppFXWEZRZAQKfAxyUhzV J8lzRTAvy7lKeStOxMlir65dkNmYbvrKDp273jIbWGpF2AZfxTwO8o+BtYnQbjieA+j4 aIZjx/oih7P8uAujZ/NLk/SkWHz548Phsy4nUEpcjvTOI2wWal9B9Sr66TVbXk1BED7L 6+9V3/IT4dCqetw09A4bqA4G8YaIL32eQvF1FFAvRZsY0Fg2e7WD8Lo6ht+g/QN+maHc MpzA== X-Gm-Message-State: AOJu0Yx1qXdIbQvap/T5H3eIe1iGyy6yIVdlbhkO8DH+4G6/2GQQ6kq6 llbtzTNtcNnTt+edpC4q3+oM/+cHDBhfb3cOm5RMFj57ye6CeHvFmToBd7Ynec+yIoxZQOPgZ7V TPES0PazTkZ74x5YDIlLiuujFwsFoKcsTOg/WM2Bh2ftfxJwQUP4ePi1H X-Gm-Gg: ASbGnctWMxju24/kNjxUaT4THDIxPgAjh2uZFGDN0JDVp9qbJaW1pcuWn84V55Uvm6t deK+o3CGo1noMi6cbzkENQPLuOTtDIERo84U54whe1jnI+doomuMTvnWrxnff9ciTO3QqD50hJm KqwIDjXCQvyGDoLQq0YSI2a0bV804vYxrRSq7MEoebNoOTlrmkI69FsabaXKsE7UNj7Joom9OYg ryu5jJzI7KPS0jGvz5rTSWbTFrgpbmFO+o1KFI8L8stNRM6rf8j+oA4oaH37WlnHoHPiPJK8VL6 hH1r3XNJFLPHg7SW6sXFduH/dHRNBF3J/63o X-Google-Smtp-Source: AGHT+IFNSmRQrgWoFxHbVJq0FMrOzRcu6fwkX0aFPM2NC8DO0zf63gqKA2Fv9MUVBVwLpCYiVqbVar6O1TKm X-Received: by 2002:a17:90b:3908:b0:30a:29be:8fe1 with SMTP id 98e67ed59e1d1-30aac19d3c9mr2062210a91.9.1746575100771; Tue, 06 May 2025 16:45:00 -0700 (PDT) Received: from postal.iol.unh.edu (postal.iol.unh.edu. [2606:4100:3880:1234::84]) by smtp-relay.gmail.com with ESMTPS id d9443c01a7336-22e1522b411sm17883815ad.80.2025.05.06.16.45.00 (version=TLS1_2 cipher=ECDHE-ECDSA-AES128-GCM-SHA256 bits=128/128); Tue, 06 May 2025 16:45:00 -0700 (PDT) X-Relaying-Domain: iol.unh.edu Date: Tue, 06 May 2025 16:45:00 -0700 (PDT) Message-ID: <681a9efc.170a0220.101b44.977aSMTPIN_ADDED_MISSING@mx.google.com> Received: from [172.21.0.5] (unknown [172.18.0.240]) by postal.iol.unh.edu (Postfix) with ESMTP id E97996052471; Tue, 6 May 2025 19:44:59 -0400 (EDT) Subject: |SUCCESS| pw153332 [PATCH] kernel/freebsd: Allow contigmem allocatio From: dpdklab@iol.unh.edu To: Test Report Cc: dpdk-test-reports@iol.unh.edu In-Reply-To: <20250506174941.1141140-1-jfree@FreeBSD.org> References: <20250506174941.1141140-1-jfree@FreeBSD.org> Content-Type: text/plain X-BeenThere: test-report@dpdk.org X-Mailman-Version: 2.1.29 Precedence: list List-Id: automatic DPDK test reports List-Unsubscribe: , List-Archive: List-Post: List-Help: List-Subscribe: , Errors-To: test-report-bounces@dpdk.org Test-Label: iol-compile-amd64-testing Test-Status: SUCCESS http://dpdk.org/patch/153332 _Testing PASS_ Submitter: Jake Freeland Date: Tuesday, May 06 2025 17:48:38 DPDK git baseline: Repo:dpdk Branch: master CommitID:75f179ebe347b6098cf3af26d3d3b7168fe3fe24 153332 --> testing pass Upstream job id: Windows-Compile-DPDK-Native#28245 Test environment and result as below: +-----------------------------------+--------------------+-------------------+------------------+-------------------+-------------------------+----------------------+ | Environment | dpdk_meson_compile | dpdk_compile_spdk | dpdk_compile_ovs | dpdk_msvc_compile | dpdk_llvm_clang_compile | dpdk_mingw64_compile | +===================================+====================+===================+==================+===================+=========================+======================+ | CentOS Stream 9 | PASS | PASS | SKIPPED | SKIPPED | SKIPPED | SKIPPED | +-----------------------------------+--------------------+-------------------+------------------+-------------------+-------------------------+----------------------+ | CentOS Stream 10 | PASS | SKIPPED | SKIPPED | SKIPPED | SKIPPED | SKIPPED | +-----------------------------------+--------------------+-------------------+------------------+-------------------+-------------------------+----------------------+ | Debian 12 | PASS | PASS | SKIPPED | SKIPPED | SKIPPED | SKIPPED | +-----------------------------------+--------------------+-------------------+------------------+-------------------+-------------------------+----------------------+ | Fedora 40 (Clang) | PASS | PASS | SKIPPED | SKIPPED | SKIPPED | SKIPPED | +-----------------------------------+--------------------+-------------------+------------------+-------------------+-------------------------+----------------------+ | Fedora 41 | PASS | PASS | PASS | SKIPPED | SKIPPED | SKIPPED | +-----------------------------------+--------------------+-------------------+------------------+-------------------+-------------------------+----------------------+ | Fedora 40 | PASS | PASS | SKIPPED | SKIPPED | SKIPPED | SKIPPED | +-----------------------------------+--------------------+-------------------+------------------+-------------------+-------------------------+----------------------+ | Fedora 41 (Clang) | PASS | PASS | PASS | SKIPPED | SKIPPED | SKIPPED | +-----------------------------------+--------------------+-------------------+------------------+-------------------+-------------------------+----------------------+ | openSUSE Leap 15 | PASS | SKIPPED | SKIPPED | SKIPPED | SKIPPED | SKIPPED | +-----------------------------------+--------------------+-------------------+------------------+-------------------+-------------------------+----------------------+ | RHEL9 | PASS | SKIPPED | SKIPPED | SKIPPED | SKIPPED | SKIPPED | +-----------------------------------+--------------------+-------------------+------------------+-------------------+-------------------------+----------------------+ | Ubuntu 20.04 | PASS | SKIPPED | SKIPPED | SKIPPED | SKIPPED | SKIPPED | +-----------------------------------+--------------------+-------------------+------------------+-------------------+-------------------------+----------------------+ | RHEL8 | PASS | SKIPPED | SKIPPED | SKIPPED | SKIPPED | SKIPPED | +-----------------------------------+--------------------+-------------------+------------------+-------------------+-------------------------+----------------------+ | Ubuntu 22.04 | PASS | PASS | SKIPPED | SKIPPED | SKIPPED | SKIPPED | +-----------------------------------+--------------------+-------------------+------------------+-------------------+-------------------------+----------------------+ | Ubuntu 24.04 | PASS | PASS | PASS | SKIPPED | SKIPPED | SKIPPED | +-----------------------------------+--------------------+-------------------+------------------+-------------------+-------------------------+----------------------+ | Alpine | PASS | SKIPPED | SKIPPED | SKIPPED | SKIPPED | SKIPPED | +-----------------------------------+--------------------+-------------------+------------------+-------------------+-------------------------+----------------------+ | Ubuntu 24.04 32 Bit Cross Compile | PASS | SKIPPED | SKIPPED | SKIPPED | SKIPPED | SKIPPED | +-----------------------------------+--------------------+-------------------+------------------+-------------------+-------------------------+----------------------+ | FreeBSD 13.5 | PASS | SKIPPED | SKIPPED | SKIPPED | SKIPPED | SKIPPED | +-----------------------------------+--------------------+-------------------+------------------+-------------------+-------------------------+----------------------+ | FreeBSD 14.2 | PASS | SKIPPED | SKIPPED | SKIPPED | SKIPPED | SKIPPED | +-----------------------------------+--------------------+-------------------+------------------+-------------------+-------------------------+----------------------+ | Windows Server 2022 | SKIPPED | SKIPPED | SKIPPED | PASS | PASS | PASS | +-----------------------------------+--------------------+-------------------+------------------+-------------------+-------------------------+----------------------+ CentOS Stream 9 Kernel: Depends on container host Compiler: gcc 11.5.0 20240719 (Red Hat 11.5.0-2) CentOS Stream 10 Kernel: Depends on container host Compiler: gcc 14.2.1 20241104 (Red Hat 14.2.1-6) Debian 12 Kernel: Depends on container host Compiler: gcc (Debian 12.2.0-14) 12.2.0 Fedora 40 (Clang) Kernel: Depends on container host Compiler: clang 18.1.8 (Fedora 18.1.8-1.fc40) Fedora 41 Kernel: Depends on container host Compiler: gcc 14.2.1 20240912 (Red Hat 14.2.1-3) Fedora 40 Kernel: Depends on container host Compiler: gcc 14.2.1 20240912 (Red Hat 14.2.1-3) Fedora 41 (Clang) Kernel: Depends on container host Compiler: clang 19.1.5 (Fedora 19.1.5-1.fc41) openSUSE Leap 15 Kernel: Depends on container host Compiler: gcc (SUSE Linux) 7.5.0 RHEL9 Kernel: Depends on container host Compiler: gcc 11.5.0 20240719 (Red Hat 11.5.0-2) Ubuntu 20.04 Kernel: Depends on container host Compiler: gcc (Ubuntu 9.4.0-1ubuntu1~20.04.2) 9.4.0 RHEL8 Kernel: Depends on container host Compiler: gcc 8.5.0 20210514 (Red Hat 8.5.0-22) Ubuntu 22.04 Kernel: Depends on container host Compiler: gcc (Ubuntu 11.4.0-1ubuntu1~22.04) 11.4.0 Ubuntu 24.04 Kernel: Depends on container host Compiler: gcc (Ubuntu 13.3.0-6ubuntu2~24.04) 13.3.0 Alpine Kernel: Depends on container host Compiler: gcc (Alpine 14.2.0) 14.2.0 Ubuntu 24.04 32 Bit Cross Compile Kernel: Depends on container host Compiler: gcc (Ubuntu 13.3.0-6ubuntu2~24.04) 13.3.0 FreeBSD 13.5 Kernel: 13.5-RELEASE Compiler: clang 19.1.7 FreeBSD 14.2 Kernel: 14.2-RELEASE Compiler: clang 18.1.6 Windows Server 2022 Kernel: 10.0.20348.2031 Compiler: clang 15.0.7, gcc 14.1.0 (MinGW), and MSVC VS 19.39.33521 To view detailed results, visit: https://lab.dpdk.org/results/dashboard/patchsets/33127/ UNH-IOL DPDK Community Lab To manage your email subscriptions, visit: https://lab.dpdk.org/results/dashboard/preferences/subscriptions/