From mboxrd@z Thu Jan 1 00:00:00 1970 Return-Path: Received: from mails.dpdk.org (mails.dpdk.org [217.70.189.124]) by inbox.dpdk.org (Postfix) with ESMTP id A812F466E0 for ; Wed, 7 May 2025 02:08:04 +0200 (CEST) Received: from mails.dpdk.org (localhost [127.0.0.1]) by mails.dpdk.org (Postfix) with ESMTP id 912164025D; Wed, 7 May 2025 02:08:04 +0200 (CEST) Received: from mail-il1-f228.google.com (mail-il1-f228.google.com [209.85.166.228]) by mails.dpdk.org (Postfix) with ESMTP id 5E00C4025A for ; Wed, 7 May 2025 02:08:03 +0200 (CEST) Received: by mail-il1-f228.google.com with SMTP id e9e14a558f8ab-3d93f4fe5baso24130495ab.2 for ; Tue, 06 May 2025 17:08:03 -0700 (PDT) DKIM-Signature: v=1; a=rsa-sha256; c=relaxed/relaxed; d=iol.unh.edu; s=unh-iol; t=1746576482; x=1747181282; darn=dpdk.org; h=references:in-reply-to:cc:to:from:subject:message-id:date:from:to :cc:subject:date:message-id:reply-to; bh=O6Qn96IVsChceGh3IdgWozAL0Fh/12F04Mflfx/vMlQ=; b=TNqev3myfSGAzDVI8GvF1YKYN3X31nXvutkU5ayIF4TY2lrGbRmo0Q4se5f8v17q07 m516rJMAAw75oPXG6EYjMFRe23LIsMGkoa/6APQKcLYKw2fyO9AZC4nrpq+8exr9Gxjz 77IgcYBjCyVUcVF4sh6BzoaXJO6Ehx2Na/7Ko= X-Google-DKIM-Signature: v=1; a=rsa-sha256; c=relaxed/relaxed; d=1e100.net; s=20230601; t=1746576482; x=1747181282; h=references:in-reply-to:cc:to:from:subject:message-id:date :x-gm-message-state:from:to:cc:subject:date:message-id:reply-to; bh=O6Qn96IVsChceGh3IdgWozAL0Fh/12F04Mflfx/vMlQ=; b=AbhTbbTaT++BZ4+YnEDEnafqrnEzXtQYzJjQGjQqfhVsSbRVsa16eGhCXY8QY4ffkd Y+KDZ6YK5LiAGThYTqHCEEGrSbtGl6FpOGNaj2u32zHgkHbR86DrPkzHsZKcRdjCDSPT kb3dVwsk0eGC6Ivyq3+z+4/n8SjajqIRs7nLK7p6L733Nbe9c++GbcV+wNLd/UxQyKG9 Srgj6nsXLbjamWSqVy66Qizsfg8sFzldgznoY1I96P0bYjotNRHlK387Fz7wMwQs8Djd GMT3/OoNwGjtCvJWJSnwi5xSfzT8l2Uss4WZ8SddVGBBbzL92tLBgEGIC/3ynYJWoEP/ dQyA== X-Gm-Message-State: AOJu0YyIYm9qttYTxWZdlkdt7ul6CsXhJwwmoeClOY8Nz3SW7cPektz0 acdFjjFgHrop8s/OFwdkC+CKm0ra9Kp30ADoRz6HiIBilun4AvAZqElsPGJ0aT9sShEVxfprir1 GRCAhlPI0XtwkZp+xMFcH0IIrnL+x3my2kz3f+OIpxIuMLzdnHAnJzXnS X-Gm-Gg: ASbGnctXImMPJEo9mKSXNj0vV1P3Etci5rxaYOFMSMlF8UcbQB3rmMuRsJAoQJynjZU 9WmdJUMYpEZvA9h4wdaTeqB2XnM8+Id/ddDHA+jZj/v1+rmqnMAysctbxoJpMjOasV++K9Rxk9+ VQJBLIdiGU5dSvK+lTWxxNkalQTfRz6H9PlBdV4SUkzlD3Ejtao0EKEzWAnIDgHSR3TObUkSjmk oiglTg4YFB7QCo6Trm9cYGNq4nf26QwuMcRD/Y+2AQ7QGF7UA7X9KISgYa9hu8wQTGCFD/EWvHP nx1lWn+wR1YbOuiNIwu/2KeolEC3CMek5YSE X-Google-Smtp-Source: AGHT+IGsIxRFtoRo6lxQF4T5spDPQw5dARxgZ5wXJf7J0mb3qfYZfRB+D6rWRJLXbfeyuFOJ7MCIZsnBcTuk X-Received: by 2002:a05:6e02:1748:b0:3da:7176:81bf with SMTP id e9e14a558f8ab-3da739304e7mr13711595ab.21.1746576482557; Tue, 06 May 2025 17:08:02 -0700 (PDT) Received: from postal.iol.unh.edu (postal.iol.unh.edu. [2606:4100:3880:1234::84]) by smtp-relay.gmail.com with ESMTPS id 8926c6da1cb9f-4f88a9140d2sm2141063173.23.2025.05.06.17.08.02 (version=TLS1_2 cipher=ECDHE-ECDSA-AES128-GCM-SHA256 bits=128/128); Tue, 06 May 2025 17:08:02 -0700 (PDT) X-Relaying-Domain: iol.unh.edu Date: Tue, 06 May 2025 17:08:02 -0700 (PDT) Message-ID: <681aa462.050a0220.32bf11.ae3aSMTPIN_ADDED_MISSING@mx.google.com> Received: from [172.21.0.6] (unknown [172.18.0.240]) by postal.iol.unh.edu (Postfix) with ESMTP id 161796052471; Tue, 6 May 2025 20:08:02 -0400 (EDT) Subject: |SUCCESS| pw153328-153331 [PATCH] [4/4] bus/pci/bsd: Fix device exis From: dpdklab@iol.unh.edu To: Test Report Cc: dpdk-test-reports@iol.unh.edu In-Reply-To: <20250506174046.1136711-5-jfree@FreeBSD.org> References: <20250506174046.1136711-5-jfree@FreeBSD.org> Content-Type: text/plain X-BeenThere: test-report@dpdk.org X-Mailman-Version: 2.1.29 Precedence: list List-Id: automatic DPDK test reports List-Unsubscribe: , List-Archive: List-Post: List-Help: List-Subscribe: , Errors-To: test-report-bounces@dpdk.org Test-Label: iol-unit-arm64-testing Test-Status: SUCCESS http://dpdk.org/patch/153331 _Testing PASS_ Submitter: Jake Freeland Date: Tuesday, May 06 2025 17:40:44 DPDK git baseline: Repo:dpdk Branch: master CommitID:75f179ebe347b6098cf3af26d3d3b7168fe3fe24 153328-153331 --> testing pass Upstream job id: Generic-Unit-Test-DPDK#335930 Test environment and result as below: +------------------------+------------------------------+--------------+---------------------------+----------------+ | Environment | cryptodev_sw_snow3g_autotest | lpm_autotest | cryptodev_sw_zuc_autotest | dpdk_unit_test | +========================+==============================+==============+===========================+================+ | Debian 12 (arm) | PASS | SKIPPED | PASS | PASS | +------------------------+------------------------------+--------------+---------------------------+----------------+ | Ubuntu 20.04 ARM SVE | SKIPPED | PASS | SKIPPED | SKIPPED | +------------------------+------------------------------+--------------+---------------------------+----------------+ | CentOS Stream 10 (ARM) | SKIPPED | SKIPPED | SKIPPED | PASS | +------------------------+------------------------------+--------------+---------------------------+----------------+ | CentOS Stream 9 (ARM) | SKIPPED | SKIPPED | SKIPPED | PASS | +------------------------+------------------------------+--------------+---------------------------+----------------+ | Fedora 40 (ARM) | SKIPPED | SKIPPED | SKIPPED | PASS | +------------------------+------------------------------+--------------+---------------------------+----------------+ | Ubuntu 20.04 (ARM) | SKIPPED | SKIPPED | SKIPPED | PASS | +------------------------+------------------------------+--------------+---------------------------+----------------+ | RHEL9 (ARM) | SKIPPED | SKIPPED | SKIPPED | PASS | +------------------------+------------------------------+--------------+---------------------------+----------------+ | Fedora 41 (ARM Clang) | SKIPPED | SKIPPED | SKIPPED | PASS | +------------------------+------------------------------+--------------+---------------------------+----------------+ | Fedora 40 (ARM Clang) | SKIPPED | SKIPPED | SKIPPED | PASS | +------------------------+------------------------------+--------------+---------------------------+----------------+ | Ubuntu 22.04 (ARM) | SKIPPED | SKIPPED | SKIPPED | PASS | +------------------------+------------------------------+--------------+---------------------------+----------------+ | Ubuntu 24.04 (ARM) | SKIPPED | SKIPPED | SKIPPED | PASS | +------------------------+------------------------------+--------------+---------------------------+----------------+ | Fedora 41 (ARM) | SKIPPED | SKIPPED | SKIPPED | PASS | +------------------------+------------------------------+--------------+---------------------------+----------------+ Debian 12 (arm) Kernel: Depends on container host Compiler: gcc (Debian 12.2.0-14) 12.2.0 Ubuntu 20.04 ARM SVE Kernel: Depends on container host Compiler: gcc (Ubuntu 10.5.0-1ubuntu1~20.04) 10.5.0 CentOS Stream 10 (ARM) Kernel: Depends on container host Compiler: gcc 14.2.1 20241104 (Red Hat 14.2.1-6) CentOS Stream 9 (ARM) Kernel: Depends on container host Compiler: gcc 11.5.0 20240719 (Red Hat 11.5.0-2) Fedora 40 (ARM) Kernel: Depends on container host Compiler: gcc 14.2.1 20240912 (Red Hat 14.2.1-3) Ubuntu 20.04 (ARM) Kernel: Depends on container host Compiler: gcc (Ubuntu 9.4.0-1ubuntu1~20.04.2) 9.4.0 RHEL9 (ARM) Kernel: Depends on container host Compiler: gcc 11.5.0 20240719 (Red Hat 11.5.0-2) Fedora 41 (ARM Clang) Kernel: Depends on container host Compiler: clang 19.1.5 (Fedora 19.1.5-1.fc41) Fedora 40 (ARM Clang) Kernel: Depends on container host Compiler: clang 18.1.8 (Fedora 18.1.8-1.fc40) Ubuntu 22.04 (ARM) Kernel: Depends on container host Compiler: gcc (Ubuntu 11.4.0-1ubuntu1~22.04) 11.4.0 Ubuntu 24.04 (ARM) Kernel: Depends on container host Compiler: gcc (Ubuntu 13.3.0-6ubuntu2~24.04) 13.3.0 Fedora 41 (ARM) Kernel: Depends on container host Compiler: gcc 14.2.1 20240912 (Red Hat 14.2.1-3) To view detailed results, visit: https://lab.dpdk.org/results/dashboard/patchsets/33126/ UNH-IOL DPDK Community Lab To manage your email subscriptions, visit: https://lab.dpdk.org/results/dashboard/preferences/subscriptions/