From: dpdklab@iol.unh.edu
To: Test Report <test-report@dpdk.org>
Cc: dpdk-test-reports@iol.unh.edu
Subject: |SUCCESS| pw153328-153331 [PATCH] [4/4] bus/pci/bsd: Fix device exis
Date: Tue, 06 May 2025 17:08:26 -0700 (PDT) [thread overview]
Message-ID: <681aa47a.d40a0220.2f2ec9.247dSMTPIN_ADDED_MISSING@mx.google.com> (raw)
In-Reply-To: <20250506174046.1136711-5-jfree@FreeBSD.org>
Test-Label: iol-unit-arm64-testing
Test-Status: SUCCESS
http://dpdk.org/patch/153331
_Testing PASS_
Submitter: Jake Freeland <jfree@freebsd.org>
Date: Tuesday, May 06 2025 17:40:44
DPDK git baseline: Repo:dpdk
Branch: master
CommitID:75f179ebe347b6098cf3af26d3d3b7168fe3fe24
153328-153331 --> testing pass
Upstream job id: Generic-Unit-Test-DPDK#335926
Test environment and result as below:
+------------------------+------------------------------+--------------+---------------------------+----------------+
| Environment | cryptodev_sw_snow3g_autotest | lpm_autotest | cryptodev_sw_zuc_autotest | dpdk_unit_test |
+========================+==============================+==============+===========================+================+
| Debian 12 (arm) | PASS | SKIPPED | PASS | PASS |
+------------------------+------------------------------+--------------+---------------------------+----------------+
| Ubuntu 20.04 ARM SVE | SKIPPED | PASS | SKIPPED | SKIPPED |
+------------------------+------------------------------+--------------+---------------------------+----------------+
| CentOS Stream 10 (ARM) | SKIPPED | SKIPPED | SKIPPED | PASS |
+------------------------+------------------------------+--------------+---------------------------+----------------+
| CentOS Stream 9 (ARM) | SKIPPED | SKIPPED | SKIPPED | PASS |
+------------------------+------------------------------+--------------+---------------------------+----------------+
| Fedora 40 (ARM) | SKIPPED | SKIPPED | SKIPPED | PASS |
+------------------------+------------------------------+--------------+---------------------------+----------------+
| Ubuntu 20.04 (ARM) | SKIPPED | SKIPPED | SKIPPED | PASS |
+------------------------+------------------------------+--------------+---------------------------+----------------+
| RHEL9 (ARM) | SKIPPED | SKIPPED | SKIPPED | PASS |
+------------------------+------------------------------+--------------+---------------------------+----------------+
| Fedora 41 (ARM Clang) | SKIPPED | SKIPPED | SKIPPED | PASS |
+------------------------+------------------------------+--------------+---------------------------+----------------+
| Fedora 40 (ARM Clang) | SKIPPED | SKIPPED | SKIPPED | PASS |
+------------------------+------------------------------+--------------+---------------------------+----------------+
| Ubuntu 22.04 (ARM) | SKIPPED | SKIPPED | SKIPPED | PASS |
+------------------------+------------------------------+--------------+---------------------------+----------------+
| Ubuntu 24.04 (ARM) | SKIPPED | SKIPPED | SKIPPED | PASS |
+------------------------+------------------------------+--------------+---------------------------+----------------+
| Fedora 41 (ARM) | SKIPPED | SKIPPED | SKIPPED | PASS |
+------------------------+------------------------------+--------------+---------------------------+----------------+
Debian 12 (arm)
Kernel: Depends on container host
Compiler: gcc (Debian 12.2.0-14) 12.2.0
Ubuntu 20.04 ARM SVE
Kernel: Depends on container host
Compiler: gcc (Ubuntu 10.5.0-1ubuntu1~20.04) 10.5.0
CentOS Stream 10 (ARM)
Kernel: Depends on container host
Compiler: gcc 14.2.1 20241104 (Red Hat 14.2.1-6)
CentOS Stream 9 (ARM)
Kernel: Depends on container host
Compiler: gcc 11.5.0 20240719 (Red Hat 11.5.0-2)
Fedora 40 (ARM)
Kernel: Depends on container host
Compiler: gcc 14.2.1 20240912 (Red Hat 14.2.1-3)
Ubuntu 20.04 (ARM)
Kernel: Depends on container host
Compiler: gcc (Ubuntu 9.4.0-1ubuntu1~20.04.2) 9.4.0
RHEL9 (ARM)
Kernel: Depends on container host
Compiler: gcc 11.5.0 20240719 (Red Hat 11.5.0-2)
Fedora 41 (ARM Clang)
Kernel: Depends on container host
Compiler: clang 19.1.5 (Fedora 19.1.5-1.fc41)
Fedora 40 (ARM Clang)
Kernel: Depends on container host
Compiler: clang 18.1.8 (Fedora 18.1.8-1.fc40)
Ubuntu 22.04 (ARM)
Kernel: Depends on container host
Compiler: gcc (Ubuntu 11.4.0-1ubuntu1~22.04) 11.4.0
Ubuntu 24.04 (ARM)
Kernel: Depends on container host
Compiler: gcc (Ubuntu 13.3.0-6ubuntu2~24.04) 13.3.0
Fedora 41 (ARM)
Kernel: Depends on container host
Compiler: gcc 14.2.1 20240912 (Red Hat 14.2.1-3)
To view detailed results, visit:
https://lab.dpdk.org/results/dashboard/patchsets/33126/
UNH-IOL DPDK Community Lab
To manage your email subscriptions, visit:
https://lab.dpdk.org/results/dashboard/preferences/subscriptions/
next prev parent reply other threads:[~2025-05-07 0:08 UTC|newest]
Thread overview: 47+ messages / expand[flat|nested] mbox.gz Atom feed top
[not found] <20250506174046.1136711-5-jfree@FreeBSD.org>
2025-05-06 17:07 ` |SUCCESS| pw153328-153331 [PATCH 4/4] bus/pci/bsd: Fix device existence check qemudev
2025-05-06 17:12 ` qemudev
2025-05-06 17:41 ` |WARNING| pw153331 " checkpatch
2025-05-06 19:04 ` |SUCCESS| " 0-day Robot
2025-05-06 21:50 ` |SUCCESS| pw153328-153331 [PATCH] [4/4] bus/pci/bsd: Fix device exis dpdklab
2025-05-06 21:57 ` dpdklab
2025-05-06 22:02 ` dpdklab
2025-05-06 22:07 ` dpdklab
2025-05-06 22:25 ` dpdklab
2025-05-06 22:34 ` dpdklab
2025-05-06 22:38 ` dpdklab
2025-05-06 22:39 ` dpdklab
2025-05-06 22:40 ` |PENDING| " dpdklab
2025-05-06 22:44 ` |SUCCESS| " dpdklab
2025-05-06 22:48 ` dpdklab
2025-05-06 22:48 ` dpdklab
2025-05-06 22:49 ` dpdklab
2025-05-06 22:52 ` dpdklab
2025-05-06 23:01 ` dpdklab
2025-05-06 23:02 ` dpdklab
2025-05-06 23:07 ` dpdklab
2025-05-06 23:08 ` dpdklab
2025-05-06 23:13 ` dpdklab
2025-05-06 23:23 ` |PENDING| " dpdklab
2025-05-06 23:27 ` |SUCCESS| " dpdklab
2025-05-06 23:27 ` |PENDING| " dpdklab
2025-05-06 23:30 ` |SUCCESS| " dpdklab
2025-05-06 23:33 ` |PENDING| " dpdklab
2025-05-07 0:08 ` |SUCCESS| " dpdklab
2025-05-07 0:08 ` dpdklab [this message]
2025-05-07 0:13 ` dpdklab
2025-05-07 0:28 ` dpdklab
2025-05-07 0:29 ` dpdklab
2025-05-07 1:01 ` dpdklab
2025-05-07 1:04 ` dpdklab
2025-05-07 1:23 ` dpdklab
2025-05-07 2:05 ` dpdklab
2025-05-07 2:22 ` dpdklab
2025-05-07 2:49 ` dpdklab
2025-05-07 2:52 ` dpdklab
2025-05-07 3:41 ` dpdklab
2025-05-07 4:04 ` dpdklab
2025-05-07 4:35 ` dpdklab
2025-05-07 5:07 ` dpdklab
2025-05-07 5:48 ` dpdklab
2025-05-07 7:11 ` dpdklab
2025-05-07 8:35 ` dpdklab
Reply instructions:
You may reply publicly to this message via plain-text email
using any one of the following methods:
* Save the following mbox file, import it into your mail client,
and reply-to-all from there: mbox
Avoid top-posting and favor interleaved quoting:
https://en.wikipedia.org/wiki/Posting_style#Interleaved_style
* Reply using the --to, --cc, and --in-reply-to
switches of git-send-email(1):
git send-email \
--in-reply-to=681aa47a.d40a0220.2f2ec9.247dSMTPIN_ADDED_MISSING@mx.google.com \
--to=dpdklab@iol.unh.edu \
--cc=dpdk-test-reports@iol.unh.edu \
--cc=test-report@dpdk.org \
/path/to/YOUR_REPLY
https://kernel.org/pub/software/scm/git/docs/git-send-email.html
* If your mail client supports setting the In-Reply-To header
via mailto: links, try the mailto: link
Be sure your reply has a Subject: header at the top and a blank line
before the message body.
This is a public inbox, see mirroring instructions
for how to clone and mirror all data and code used for this inbox;
as well as URLs for NNTP newsgroup(s).