From mboxrd@z Thu Jan 1 00:00:00 1970 Return-Path: Received: from mails.dpdk.org (mails.dpdk.org [217.70.189.124]) by inbox.dpdk.org (Postfix) with ESMTP id AF37F466E0 for ; Wed, 7 May 2025 02:08:28 +0200 (CEST) Received: from mails.dpdk.org (localhost [127.0.0.1]) by mails.dpdk.org (Postfix) with ESMTP id AA8284025D; Wed, 7 May 2025 02:08:28 +0200 (CEST) Received: from mail-qv1-f98.google.com (mail-qv1-f98.google.com [209.85.219.98]) by mails.dpdk.org (Postfix) with ESMTP id 910A44025A for ; Wed, 7 May 2025 02:08:27 +0200 (CEST) Received: by mail-qv1-f98.google.com with SMTP id 6a1803df08f44-6f54079e54bso7141416d6.1 for ; Tue, 06 May 2025 17:08:27 -0700 (PDT) DKIM-Signature: v=1; a=rsa-sha256; c=relaxed/relaxed; d=iol.unh.edu; s=unh-iol; t=1746576507; x=1747181307; darn=dpdk.org; h=references:in-reply-to:cc:to:from:subject:message-id:date:from:to :cc:subject:date:message-id:reply-to; bh=wj6jRJTw+34+/L1d5Jmw0ug4uIRUZ8Sa8A+uGP0LrZI=; b=ea2UX9rmF7z8cZ3PTj1eNqyxTZXszBUymmgoQyAiaD/6juAHq+SBCqtQKZFhcB/shU o/gVFjJiTRmgdtG2IVuI46h0yMThnOHKEfYFBAlGiax3sbTYaXRWfmg1VjDwMboLpdaH 2iNsUdKHThb3ExlRWvjPHVZlbWLbnLGlDu4MY= X-Google-DKIM-Signature: v=1; a=rsa-sha256; c=relaxed/relaxed; d=1e100.net; s=20230601; t=1746576507; x=1747181307; h=references:in-reply-to:cc:to:from:subject:message-id:date :x-gm-message-state:from:to:cc:subject:date:message-id:reply-to; bh=wj6jRJTw+34+/L1d5Jmw0ug4uIRUZ8Sa8A+uGP0LrZI=; b=pXkuGhboxJA6MGqB61ClHSxRvA3I+oMGzsScZseML8oWOCQ+VpKbE6BRmBu8PoTLEF 5A5rXXZX1GzOoClQEmqcEvPNaqSi97ERMcPxM90/+c/bYibi1JdHPt/zZwCh2LErMCa+ 3y3KvMOz5f13c/jeJo0VmeCVbKltuPsATSBUpMnqzoqxkZ3/cpSHuvvEevFISHBYuXLu YkgM55STSX9x6bFksjeBYrZUa1VJ/9IfJi58sRaKc7UhmopTm8HOA1ssrxHY5dMNe6Q2 KmfjgE54pFHFgElrRccOM1XkmSOYq3O3edH8u9T7UfSmMyJUToSLrXi+2/2gd90nMldR rq7A== X-Gm-Message-State: AOJu0Yxe2N6qAJg56f0/k0C2+hSkpDQQ806avOD4m8jXe15r8vdgJZRE EuB8Gn/5kHZWkAqg6WGpksSWHcqqEp50xOdjrzn0Kdfi8uBHEiNfcF7Ehm5z6dfKaIjHK71LTK1 MXeYV5VUCWUWMd9DSQbCg31ZViHirzcWzrtAvHDBC X-Gm-Gg: ASbGnctQLgM0kCGSnEkh4XRGzvYnSBpkrX0DzE5BGvVHBqB7ePuHPSRLciSxEOoUzBF 1LUcxz9UdNFlEH8Nrco3im/X+MzUdDX8X5eKHxpQdVdwdFmy7dYHOXvcIRvYps+mEuKV0iACwTQ kxe2V1H5A+hlrMjxWEb6G3yCk+QP6iSbaqdCvMO5cdbsMlOUuyLlhk/N8mF9rkjHyYIyD3pwf/L lGKgVsn+siC8zRGpzc2DJ9c3EHlD4NXoTm4s7bWn6pNfTki7ry0EW8cWw6JhBN8NDi0SAvB2Kcc iUUB4IiQDoiSWvsGIuNbJnNcHgnFrM8DA1d2lqy4T/oycAsO6qWEHYPgIXg= X-Google-Smtp-Source: AGHT+IETXH9tm0fxxrT5MxL0hL+mqgVfnDMUITzXD24Actc5N3jE2lLHTRD2+25yrhMhLoB6N2UoxmnoDdoK X-Received: by 2002:a05:6214:f04:b0:6e4:2e5f:c03b with SMTP id 6a1803df08f44-6f542a75f06mr18689916d6.22.1746576506944; Tue, 06 May 2025 17:08:26 -0700 (PDT) Received: from postal.iol.unh.edu (postal.iol.unh.edu. [132.177.123.84]) by smtp-relay.gmail.com with ESMTPS id 6a1803df08f44-6f54261fb24sm373946d6.7.2025.05.06.17.08.26 (version=TLS1_2 cipher=ECDHE-ECDSA-AES128-GCM-SHA256 bits=128/128); Tue, 06 May 2025 17:08:26 -0700 (PDT) X-Relaying-Domain: iol.unh.edu Date: Tue, 06 May 2025 17:08:26 -0700 (PDT) Message-ID: <681aa47a.d40a0220.2f2ec9.247dSMTPIN_ADDED_MISSING@mx.google.com> Received: from [172.21.0.6] (unknown [172.18.0.240]) by postal.iol.unh.edu (Postfix) with ESMTP id A16246052471; Tue, 6 May 2025 20:08:26 -0400 (EDT) Subject: |SUCCESS| pw153328-153331 [PATCH] [4/4] bus/pci/bsd: Fix device exis From: dpdklab@iol.unh.edu To: Test Report Cc: dpdk-test-reports@iol.unh.edu In-Reply-To: <20250506174046.1136711-5-jfree@FreeBSD.org> References: <20250506174046.1136711-5-jfree@FreeBSD.org> Content-Type: text/plain X-BeenThere: test-report@dpdk.org X-Mailman-Version: 2.1.29 Precedence: list List-Id: automatic DPDK test reports List-Unsubscribe: , List-Archive: List-Post: List-Help: List-Subscribe: , Errors-To: test-report-bounces@dpdk.org Test-Label: iol-unit-arm64-testing Test-Status: SUCCESS http://dpdk.org/patch/153331 _Testing PASS_ Submitter: Jake Freeland Date: Tuesday, May 06 2025 17:40:44 DPDK git baseline: Repo:dpdk Branch: master CommitID:75f179ebe347b6098cf3af26d3d3b7168fe3fe24 153328-153331 --> testing pass Upstream job id: Generic-Unit-Test-DPDK#335926 Test environment and result as below: +------------------------+------------------------------+--------------+---------------------------+----------------+ | Environment | cryptodev_sw_snow3g_autotest | lpm_autotest | cryptodev_sw_zuc_autotest | dpdk_unit_test | +========================+==============================+==============+===========================+================+ | Debian 12 (arm) | PASS | SKIPPED | PASS | PASS | +------------------------+------------------------------+--------------+---------------------------+----------------+ | Ubuntu 20.04 ARM SVE | SKIPPED | PASS | SKIPPED | SKIPPED | +------------------------+------------------------------+--------------+---------------------------+----------------+ | CentOS Stream 10 (ARM) | SKIPPED | SKIPPED | SKIPPED | PASS | +------------------------+------------------------------+--------------+---------------------------+----------------+ | CentOS Stream 9 (ARM) | SKIPPED | SKIPPED | SKIPPED | PASS | +------------------------+------------------------------+--------------+---------------------------+----------------+ | Fedora 40 (ARM) | SKIPPED | SKIPPED | SKIPPED | PASS | +------------------------+------------------------------+--------------+---------------------------+----------------+ | Ubuntu 20.04 (ARM) | SKIPPED | SKIPPED | SKIPPED | PASS | +------------------------+------------------------------+--------------+---------------------------+----------------+ | RHEL9 (ARM) | SKIPPED | SKIPPED | SKIPPED | PASS | +------------------------+------------------------------+--------------+---------------------------+----------------+ | Fedora 41 (ARM Clang) | SKIPPED | SKIPPED | SKIPPED | PASS | +------------------------+------------------------------+--------------+---------------------------+----------------+ | Fedora 40 (ARM Clang) | SKIPPED | SKIPPED | SKIPPED | PASS | +------------------------+------------------------------+--------------+---------------------------+----------------+ | Ubuntu 22.04 (ARM) | SKIPPED | SKIPPED | SKIPPED | PASS | +------------------------+------------------------------+--------------+---------------------------+----------------+ | Ubuntu 24.04 (ARM) | SKIPPED | SKIPPED | SKIPPED | PASS | +------------------------+------------------------------+--------------+---------------------------+----------------+ | Fedora 41 (ARM) | SKIPPED | SKIPPED | SKIPPED | PASS | +------------------------+------------------------------+--------------+---------------------------+----------------+ Debian 12 (arm) Kernel: Depends on container host Compiler: gcc (Debian 12.2.0-14) 12.2.0 Ubuntu 20.04 ARM SVE Kernel: Depends on container host Compiler: gcc (Ubuntu 10.5.0-1ubuntu1~20.04) 10.5.0 CentOS Stream 10 (ARM) Kernel: Depends on container host Compiler: gcc 14.2.1 20241104 (Red Hat 14.2.1-6) CentOS Stream 9 (ARM) Kernel: Depends on container host Compiler: gcc 11.5.0 20240719 (Red Hat 11.5.0-2) Fedora 40 (ARM) Kernel: Depends on container host Compiler: gcc 14.2.1 20240912 (Red Hat 14.2.1-3) Ubuntu 20.04 (ARM) Kernel: Depends on container host Compiler: gcc (Ubuntu 9.4.0-1ubuntu1~20.04.2) 9.4.0 RHEL9 (ARM) Kernel: Depends on container host Compiler: gcc 11.5.0 20240719 (Red Hat 11.5.0-2) Fedora 41 (ARM Clang) Kernel: Depends on container host Compiler: clang 19.1.5 (Fedora 19.1.5-1.fc41) Fedora 40 (ARM Clang) Kernel: Depends on container host Compiler: clang 18.1.8 (Fedora 18.1.8-1.fc40) Ubuntu 22.04 (ARM) Kernel: Depends on container host Compiler: gcc (Ubuntu 11.4.0-1ubuntu1~22.04) 11.4.0 Ubuntu 24.04 (ARM) Kernel: Depends on container host Compiler: gcc (Ubuntu 13.3.0-6ubuntu2~24.04) 13.3.0 Fedora 41 (ARM) Kernel: Depends on container host Compiler: gcc 14.2.1 20240912 (Red Hat 14.2.1-3) To view detailed results, visit: https://lab.dpdk.org/results/dashboard/patchsets/33126/ UNH-IOL DPDK Community Lab To manage your email subscriptions, visit: https://lab.dpdk.org/results/dashboard/preferences/subscriptions/