From mboxrd@z Thu Jan 1 00:00:00 1970 Return-Path: Received: from mails.dpdk.org (mails.dpdk.org [217.70.189.124]) by inbox.dpdk.org (Postfix) with ESMTP id E9708466E0 for ; Wed, 7 May 2025 02:29:17 +0200 (CEST) Received: from mails.dpdk.org (localhost [127.0.0.1]) by mails.dpdk.org (Postfix) with ESMTP id E434E4025D; Wed, 7 May 2025 02:29:17 +0200 (CEST) Received: from mail-io1-f97.google.com (mail-io1-f97.google.com [209.85.166.97]) by mails.dpdk.org (Postfix) with ESMTP id 6D97E4025A for ; Wed, 7 May 2025 02:29:16 +0200 (CEST) Received: by mail-io1-f97.google.com with SMTP id ca18e2360f4ac-85e1b1f08a5so163305939f.2 for ; Tue, 06 May 2025 17:29:16 -0700 (PDT) DKIM-Signature: v=1; a=rsa-sha256; c=relaxed/relaxed; d=iol.unh.edu; s=unh-iol; t=1746577755; x=1747182555; darn=dpdk.org; h=references:in-reply-to:cc:to:from:subject:message-id:date:from:to :cc:subject:date:message-id:reply-to; bh=nqrkF+BS8DNlB5NTNWxmMZHXvaYhiEgV3h7bV7lpncQ=; b=R0F+GAf3YUx1DnK6mWmJhhE1iw9nrx/5VgiK1Lpgsbbix7metS46eCzheV6RFu9s81 qQufMBQ7w8TnE54u/rTexPmqn72fk2AOPqywESXd62LCQS71o8PZeutUsSYky8BMag8f TK5l/ge89Dmdn0WYIRDrEmCkSIoJZPbk70OYg= X-Google-DKIM-Signature: v=1; a=rsa-sha256; c=relaxed/relaxed; d=1e100.net; s=20230601; t=1746577755; x=1747182555; h=references:in-reply-to:cc:to:from:subject:message-id:date :x-gm-message-state:from:to:cc:subject:date:message-id:reply-to; bh=nqrkF+BS8DNlB5NTNWxmMZHXvaYhiEgV3h7bV7lpncQ=; b=JDk+WOMO7+GJ7Pkb/Fteitm5v+zsLR7Mk9QTuB9P4W3iZKZpyv9Mkt9Pxm9dyNGaxR HmVWk4YSQN2f0tcEA9xAZOi2SQT76nThg5otkIctWpRsNJDetgUQEuFDdhRi/6cBSlsm u4MVHHp2Ko3w46EhFBy4qHFPcUrSlgtkckndtPw1XFOMQWbYqF7GkOAcxNeoNwjRmr/P mOfjEAxw32rCcfwLMP4eOXwG3VW3hqbluBL5zK2g8JpaycQWCzjcXEBfr90hsAXXok4j eaftxnor6M82RSsMuMRb+0lqbjP37ho/U2c/2G54zOy8uHxm8Nh6qRBOr0TeaBH11dtP uFDA== X-Gm-Message-State: AOJu0YySW4JQm2npZ0aTMLRD0w5CTVBNQKU43ttQl7lcKa6N9Q8y1h5E SXsRJGNHd2IMBt5ce89aH6vLUIK/gRA8+K7igCtVNeb0YQ2pKkIVeZBPJ2/UOqCLe0e1WxRKgyy +R7xAkTUCilngWIDX02dfO1ILxAncCf/YwlGn8+W//p8nenIA4hrGfni/ X-Gm-Gg: ASbGncuQnc+q6zesOVBvw1+BPc9vxgosL0UcwX4Q0fF7exG6Kfpy7ykDEl5GH+5+AdH J+0nRZs3YM/R33DGtzxM43c6uaVkhAs+J5wCEGOssVZkc+suZnCanXuDWRMyoHx/a1kUijQYeLW S+cGaylMADOx4ARdv4Pdkg5DPCbZrlMar5F2eOhptEn4kf71P+Ck3P9gwSR+fY9J/CyK/XBOGqN GGrPYuChNyTFuFh14//jOPIaOvXK4fveMRsFlrlUFHK5qM70inmljpgZoN/zMfCr2/eYQethCEk wu3inl6l4Zel0mE/ibVZFJkdCN0g9gabL/wH X-Google-Smtp-Source: AGHT+IFW8P+8wGbAhtF/FSGYyHy8XASKCPne62QC/mgOTaLxaEwJt2rJ0xlUpmpzWdKwI0QTevMsddsWNl9L X-Received: by 2002:a05:6602:1584:b0:85b:3f8e:f186 with SMTP id ca18e2360f4ac-8674725215emr199252339f.6.1746577755537; Tue, 06 May 2025 17:29:15 -0700 (PDT) Received: from postal.iol.unh.edu (postal.iol.unh.edu. [2606:4100:3880:1234::84]) by smtp-relay.gmail.com with ESMTPS id ca18e2360f4ac-864aa587d76sm216934739f.28.2025.05.06.17.29.15 (version=TLS1_2 cipher=ECDHE-ECDSA-AES128-GCM-SHA256 bits=128/128); Tue, 06 May 2025 17:29:15 -0700 (PDT) X-Relaying-Domain: iol.unh.edu Date: Tue, 06 May 2025 17:29:15 -0700 (PDT) Message-ID: <681aa95b.050a0220.2422e.b70eSMTPIN_ADDED_MISSING@mx.google.com> Received: from [172.17.0.3] (unknown [172.18.0.74]) by postal.iol.unh.edu (Postfix) with ESMTP id 0A6BD6052471; Tue, 6 May 2025 20:29:15 -0400 (EDT) Subject: |SUCCESS| pw153328-153331 [PATCH] [4/4] bus/pci/bsd: Fix device exis From: dpdklab@iol.unh.edu To: Test Report Cc: dpdk-test-reports@iol.unh.edu In-Reply-To: <20250506174046.1136711-5-jfree@FreeBSD.org> References: <20250506174046.1136711-5-jfree@FreeBSD.org> Content-Type: text/plain X-BeenThere: test-report@dpdk.org X-Mailman-Version: 2.1.29 Precedence: list List-Id: automatic DPDK test reports List-Unsubscribe: , List-Archive: List-Post: List-Help: List-Subscribe: , Errors-To: test-report-bounces@dpdk.org Test-Label: iol-compile-amd64-testing Test-Status: SUCCESS http://dpdk.org/patch/153331 _Testing PASS_ Submitter: Jake Freeland Date: Tuesday, May 06 2025 17:40:44 DPDK git baseline: Repo:dpdk Branch: master CommitID:75f179ebe347b6098cf3af26d3d3b7168fe3fe24 153328-153331 --> testing pass Upstream job id: Generic-DPDK-Compile-Meson#385720 Test environment and result as below: +-----------------------------------+--------------------+-------------------+------------------+-------------------+ | Environment | dpdk_meson_compile | dpdk_compile_spdk | dpdk_compile_ovs | dpdk_msvc_compile | +===================================+====================+===================+==================+===================+ | CentOS Stream 9 | PASS | PASS | SKIPPED | SKIPPED | +-----------------------------------+--------------------+-------------------+------------------+-------------------+ | CentOS Stream 10 | PASS | SKIPPED | SKIPPED | SKIPPED | +-----------------------------------+--------------------+-------------------+------------------+-------------------+ | Fedora 40 (Clang) | PASS | PASS | SKIPPED | SKIPPED | +-----------------------------------+--------------------+-------------------+------------------+-------------------+ | Debian 12 | PASS | PASS | SKIPPED | SKIPPED | +-----------------------------------+--------------------+-------------------+------------------+-------------------+ | Fedora 41 (Clang) | PASS | PASS | PASS | SKIPPED | +-----------------------------------+--------------------+-------------------+------------------+-------------------+ | Fedora 41 | PASS | PASS | PASS | SKIPPED | +-----------------------------------+--------------------+-------------------+------------------+-------------------+ | openSUSE Leap 15 | PASS | SKIPPED | SKIPPED | SKIPPED | +-----------------------------------+--------------------+-------------------+------------------+-------------------+ | RHEL8 | PASS | SKIPPED | SKIPPED | SKIPPED | +-----------------------------------+--------------------+-------------------+------------------+-------------------+ | RHEL9 | PASS | SKIPPED | SKIPPED | SKIPPED | +-----------------------------------+--------------------+-------------------+------------------+-------------------+ | Ubuntu 22.04 | PASS | PASS | SKIPPED | SKIPPED | +-----------------------------------+--------------------+-------------------+------------------+-------------------+ | Ubuntu 24.04 | PASS | PASS | PASS | SKIPPED | +-----------------------------------+--------------------+-------------------+------------------+-------------------+ | Ubuntu 20.04 | PASS | SKIPPED | SKIPPED | SKIPPED | +-----------------------------------+--------------------+-------------------+------------------+-------------------+ | Alpine | PASS | SKIPPED | SKIPPED | SKIPPED | +-----------------------------------+--------------------+-------------------+------------------+-------------------+ | FreeBSD 13.5 | PASS | SKIPPED | SKIPPED | SKIPPED | +-----------------------------------+--------------------+-------------------+------------------+-------------------+ | Ubuntu 24.04 32 Bit Cross Compile | PASS | SKIPPED | SKIPPED | SKIPPED | +-----------------------------------+--------------------+-------------------+------------------+-------------------+ | Fedora 40 | PASS | PASS | SKIPPED | SKIPPED | +-----------------------------------+--------------------+-------------------+------------------+-------------------+ | FreeBSD 14.2 | PASS | SKIPPED | SKIPPED | SKIPPED | +-----------------------------------+--------------------+-------------------+------------------+-------------------+ | Windows Server 2022 | SKIPPED | SKIPPED | SKIPPED | PASS | +-----------------------------------+--------------------+-------------------+------------------+-------------------+ CentOS Stream 9 Kernel: Depends on container host Compiler: gcc 11.5.0 20240719 (Red Hat 11.5.0-2) CentOS Stream 10 Kernel: Depends on container host Compiler: gcc 14.2.1 20241104 (Red Hat 14.2.1-6) Fedora 40 (Clang) Kernel: Depends on container host Compiler: clang 18.1.8 (Fedora 18.1.8-1.fc40) Debian 12 Kernel: Depends on container host Compiler: gcc (Debian 12.2.0-14) 12.2.0 Fedora 41 (Clang) Kernel: Depends on container host Compiler: clang 19.1.5 (Fedora 19.1.5-1.fc41) Fedora 41 Kernel: Depends on container host Compiler: gcc 14.2.1 20240912 (Red Hat 14.2.1-3) openSUSE Leap 15 Kernel: Depends on container host Compiler: gcc (SUSE Linux) 7.5.0 RHEL8 Kernel: Depends on container host Compiler: gcc 8.5.0 20210514 (Red Hat 8.5.0-22) RHEL9 Kernel: Depends on container host Compiler: gcc 11.5.0 20240719 (Red Hat 11.5.0-2) Ubuntu 22.04 Kernel: Depends on container host Compiler: gcc (Ubuntu 11.4.0-1ubuntu1~22.04) 11.4.0 Ubuntu 24.04 Kernel: Depends on container host Compiler: gcc (Ubuntu 13.3.0-6ubuntu2~24.04) 13.3.0 Ubuntu 20.04 Kernel: 4.19.325-0419325-generic Compiler: gcc (Ubuntu 9.4.0-1ubuntu1~20.04.2) 9.4.0 Alpine Kernel: Depends on container host Compiler: gcc (Alpine 14.2.0) 14.2.0 FreeBSD 13.5 Kernel: 13.5-RELEASE Compiler: clang 19.1.7 Ubuntu 24.04 32 Bit Cross Compile Kernel: Depends on container host Compiler: gcc (Ubuntu 13.3.0-6ubuntu2~24.04) 13.3.0 Fedora 40 Kernel: Depends on container host Compiler: gcc 14.2.1 20240912 (Red Hat 14.2.1-3) FreeBSD 14.2 Kernel: 14.2-RELEASE Compiler: clang 18.1.6 Windows Server 2022 Kernel: 10.0.20348.2031 Compiler: clang 15.0.7, gcc 14.1.0 (MinGW), and MSVC VS 19.39.33521 To view detailed results, visit: https://lab.dpdk.org/results/dashboard/patchsets/33126/ UNH-IOL DPDK Community Lab To manage your email subscriptions, visit: https://lab.dpdk.org/results/dashboard/preferences/subscriptions/