From mboxrd@z Thu Jan 1 00:00:00 1970 Return-Path: Received: from mails.dpdk.org (mails.dpdk.org [217.70.189.124]) by inbox.dpdk.org (Postfix) with ESMTP id 71227466E0 for ; Wed, 7 May 2025 02:43:55 +0200 (CEST) Received: from mails.dpdk.org (localhost [127.0.0.1]) by mails.dpdk.org (Postfix) with ESMTP id 6D04D4025D; Wed, 7 May 2025 02:43:55 +0200 (CEST) Received: from mail-qv1-f98.google.com (mail-qv1-f98.google.com [209.85.219.98]) by mails.dpdk.org (Postfix) with ESMTP id 074B94025A for ; Wed, 7 May 2025 02:43:54 +0200 (CEST) Received: by mail-qv1-f98.google.com with SMTP id 6a1803df08f44-6ecfbf8fa76so84596116d6.0 for ; Tue, 06 May 2025 17:43:53 -0700 (PDT) DKIM-Signature: v=1; a=rsa-sha256; c=relaxed/relaxed; d=iol.unh.edu; s=unh-iol; t=1746578633; x=1747183433; darn=dpdk.org; h=references:in-reply-to:cc:to:from:subject:message-id:date:from:to :cc:subject:date:message-id:reply-to; bh=HdCuzAGdEWczOHhmztm+P6zDIDguM1sAQkHLxkQwowc=; b=RW7w8lAEHWbIFbFa7iVt3SbGZ3wHzTI6aBcWkHHwJj2oD18q/r2c/FIBO50d0sBwRF nz1aWgb+2OoBR7PL/WHmA/wvBLcjmXuU/BO1f7JxTB4LBaJNp0DQOPs0Dl2M0VC+eCOL vinzai13TBL1aHLmiG9SUTFNDHB+957Zcy7jU= X-Google-DKIM-Signature: v=1; a=rsa-sha256; c=relaxed/relaxed; d=1e100.net; s=20230601; t=1746578633; x=1747183433; h=references:in-reply-to:cc:to:from:subject:message-id:date :x-gm-message-state:from:to:cc:subject:date:message-id:reply-to; bh=HdCuzAGdEWczOHhmztm+P6zDIDguM1sAQkHLxkQwowc=; b=opHJU7FvjrcW+6jRKKYVtHwsksKD4+z5qr/QET55Z2VnoMkyvzoUuPGzu2KTvhOVfT lQ2PASbwyD9wL/1L7001BxuFglazv43KGF++k9YXKuhY8TMO3Pz77jwQ0wh5aJTpDjui q9DyrnaHFTiTJ5EysW8os1HfLRvYxDCqPuhD30JkmjiuRWGCGGEHZgyxWBAarHJQ5XFI u8ABT6tfOJEvsmsYdAa4cOgICaOGvVdkZz5aZqXxDqJcSAApDqVOKt7QKvrdmGRWbJmJ K790+iplJ+V8LTeP/Fr0ZC6JUZ807ASSFUP7YZi1zzQ9PW//xi5XRp5GiYgvxl2Dp3cH Zsqw== X-Gm-Message-State: AOJu0YxDz6SL81dwkunHpD6camwyWlJ2deV9tmR4FDQ4xXKIlInMDxm9 VoGKXLAs2CIxfyhTLxS/PFoFwwrd4WnpGe1igixjOSmUDOZSveEQeEG5uRZI6dtPzBy0F8zqW39 VLtPLiVYLrtYU6HBTz68AR17i3ZsdFb7E3BNBleSD X-Gm-Gg: ASbGnct0z45pgmPpJsqtG+HNnmYCgAkjwKsizNJO3/fj6Qev2Lmex2kZ4YLgVGxYEQj T3ikwplYck9EFkSxip3XQ23vDA+qsci10jNvvA/UUHtcLXeP7tHBLOFBwB89p1DV44E5/UNaLC0 tC6tTF20H5Qy4Xhy3KytCplYhRhZok/R3ohAO3T16VqRuTzzuEBxaZAh9EHDVF8bSD4LgNAClEm +prfK34ZdCUIIR6o++FelsS05GbHXFL6fPuqX1e/z4xyxr5zQSi1G4UxatXoNGed1helxL8XRS3 K1GC3UjS+seWHy8vKLofy42KlQRZmR5NyK8aYQElXVM+q3CX2nA+CMIqkYY= X-Google-Smtp-Source: AGHT+IHWWHPLWfy3EUqYI4PzVxba5FOxUxK6J1T3oVHGZEj0Mw5cA5CoMtQC6NZXHJYrSHiy0oIHjvVq6WEs X-Received: by 2002:ad4:5745:0:b0:6e8:f3ec:5406 with SMTP id 6a1803df08f44-6f542a4d380mr24835616d6.19.1746578633407; Tue, 06 May 2025 17:43:53 -0700 (PDT) Received: from postal.iol.unh.edu (postal.iol.unh.edu. [132.177.123.84]) by smtp-relay.gmail.com with ESMTPS id 6a1803df08f44-6f54266a876sm407446d6.34.2025.05.06.17.43.53 (version=TLS1_2 cipher=ECDHE-ECDSA-AES128-GCM-SHA256 bits=128/128); Tue, 06 May 2025 17:43:53 -0700 (PDT) X-Relaying-Domain: iol.unh.edu Date: Tue, 06 May 2025 17:43:53 -0700 (PDT) Message-ID: <681aacc9.050a0220.3d680f.2628SMTPIN_ADDED_MISSING@mx.google.com> Received: from [172.17.0.3] (unknown [172.18.0.76]) by postal.iol.unh.edu (Postfix) with ESMTP id 26F286052471; Tue, 6 May 2025 20:43:53 -0400 (EDT) Subject: |SUCCESS| pw153333-153335 [PATCH] [3/3] eal/linux: Check hugepage ac From: dpdklab@iol.unh.edu To: Test Report Cc: dpdk-test-reports@iol.unh.edu In-Reply-To: <20250506175010.1141585-4-jfree@FreeBSD.org> References: <20250506175010.1141585-4-jfree@FreeBSD.org> Content-Type: text/plain X-BeenThere: test-report@dpdk.org X-Mailman-Version: 2.1.29 Precedence: list List-Id: automatic DPDK test reports List-Unsubscribe: , List-Archive: List-Post: List-Help: List-Subscribe: , Errors-To: test-report-bounces@dpdk.org Test-Label: iol-sample-apps-testing Test-Status: SUCCESS http://dpdk.org/patch/153335 _Testing PASS_ Submitter: Jake Freeland Date: Tuesday, May 06 2025 17:50:09 DPDK git baseline: Repo:dpdk Branch: master CommitID:75f179ebe347b6098cf3af26d3d3b7168fe3fe24 153333-153335 --> testing pass Upstream job id: ACVP-FIPS-testing#9730 Test environment and result as below: +--------------------+----------------------+----------------------+ | Environment | compressdev_zlib_pmd | dpdk_fips_validation | +====================+======================+======================+ | Ubuntu 22.04 (ARM) | PASS | SKIPPED | +--------------------+----------------------+----------------------+ | Ubuntu 22.04 | PASS | SKIPPED | +--------------------+----------------------+----------------------+ | Ubuntu 20.04 | SKIPPED | PASS | +--------------------+----------------------+----------------------+ Ubuntu 22.04 (ARM) Kernel: 5.15.0-97-generic Compiler: gcc gcc (Ubuntu 11.4.0-1ubuntu1~22.04) 11.4.0 Ubuntu 22.04 Kernel: 5.15.0-100-generic Compiler: gcc gcc (Ubuntu 11.4.0-1ubuntu1~22.04) 11.4.0 Ubuntu 20.04 Kernel: Depends on container host Compiler: gcc (Ubuntu 9.4.0-1ubuntu1~20.04.2) 9.4.0 To view detailed results, visit: https://lab.dpdk.org/results/dashboard/patchsets/33128/ UNH-IOL DPDK Community Lab To manage your email subscriptions, visit: https://lab.dpdk.org/results/dashboard/preferences/subscriptions/