From mboxrd@z Thu Jan 1 00:00:00 1970 Return-Path: Received: from mails.dpdk.org (mails.dpdk.org [217.70.189.124]) by inbox.dpdk.org (Postfix) with ESMTP id 94020466E0 for ; Wed, 7 May 2025 02:52:35 +0200 (CEST) Received: from mails.dpdk.org (localhost [127.0.0.1]) by mails.dpdk.org (Postfix) with ESMTP id 756294025D; Wed, 7 May 2025 02:52:35 +0200 (CEST) Received: from mail-io1-f99.google.com (mail-io1-f99.google.com [209.85.166.99]) by mails.dpdk.org (Postfix) with ESMTP id C0B394025A for ; Wed, 7 May 2025 02:52:33 +0200 (CEST) Received: by mail-io1-f99.google.com with SMTP id ca18e2360f4ac-86135ae2a29so569497739f.2 for ; Tue, 06 May 2025 17:52:33 -0700 (PDT) DKIM-Signature: v=1; a=rsa-sha256; c=relaxed/relaxed; d=iol.unh.edu; s=unh-iol; t=1746579153; x=1747183953; darn=dpdk.org; h=references:in-reply-to:cc:to:from:subject:message-id:date:from:to :cc:subject:date:message-id:reply-to; bh=5KsH7ebM/tmUEdAPUhlks6ejecmki3sTr/aXf1nYShs=; b=BYeRdD4aU8u+kXz2QZIht52lqhCk43BLH8d/pG83yfyaPTrxW54vPaQ38Yj9HAckBy XG+I6TUMZhsC9pTfB8juV4ssn8POSv74mR4hAlk88JqFIQX15n4dgS6pCo8cCLTBvyNt cdkQY3mLNMPMCHWKwxkz+Krxp0j3cO7m08zWI= X-Google-DKIM-Signature: v=1; a=rsa-sha256; c=relaxed/relaxed; d=1e100.net; s=20230601; t=1746579153; x=1747183953; h=references:in-reply-to:cc:to:from:subject:message-id:date :x-gm-message-state:from:to:cc:subject:date:message-id:reply-to; bh=5KsH7ebM/tmUEdAPUhlks6ejecmki3sTr/aXf1nYShs=; b=IqD5SSq2mGFceiXIRXi3qcPfbPLnkDnF18u7QiYjN/N0orOwltXA/6fo7WaRshiSno Or2TuVBU3WSepCdkXCljh2zt/xdAE0D+tEAxM5ks5Yei0NvQMN0IlNMKQuP1A3FkwhNo T0A/tcATNW2o2UjJCMKzBDxgvlhc4uC6OFbFmhcdHGSu+sBZ0FlOZp6kBjiK0DM4fj42 +QbBcWP/2Z3rMtd1WIwvEbQfY8mU/7f5e0n1BWvQkcETn0JMJwvAhBK+s2f3zTOi/Vbs GdgzOIyMqMDk9PiywGhcfax3mzipXlCSEdqjtZhQkZPzcNf6XVQao7TXjm3FujmRxvIJ IsVA== X-Gm-Message-State: AOJu0Yx6H/qZy4cw/fqmYlPCtXwREzTd9jNMYjdUjB7ESvgE8Bur7eBv 39zieX41KdNSBvH7fsakcwOIJreFdtA6WgfSxziUx07PvkKA9c3K86WbMtqO8X4UaqjcUgzSDlN mx4TFNLYqByOpavB5FhDruzJKSnWk8LIRGzyOrPxR X-Gm-Gg: ASbGnctXenXY6y4L6K7I4lAtgWJK/gzgflSAY45l1KMMYIa+4utBdigFhLMDfWFyOys 3qcLu0+TfmXCXW9glc6vAPIgzxVfMogKRHE1jldV/A4rcMnGbvcIwgIjieHRDWSYLz4RJx+nUct WLKlJ03RoRvDflR9OxUokXZXIZmA3ZgOzhfLUFNeLdLoixd6O/ybYRqeFzYgrYISEfxC0/aDqnh RojDwuFkFSSwquCvBz0Qhnh46unhaahWw7VQeWAY1+Jmoi0tES+2IKNgg+bZYbgOExuZrat2oaM 1DZCSGYAzvyRTY6NR15pXqTZyq/40owxJFEUu0lJQbBgdU8gucm3Fo0yKoQ= X-Google-Smtp-Source: AGHT+IGLxzsJu7NnA3gDhfgB7K/JL9BlUSWCQaRramMiNxLGBzY7wPCqbN6BKJiNSIAqoRkszb+izbrDi9Fh X-Received: by 2002:a05:6e02:2303:b0:3d9:3e8e:60da with SMTP id e9e14a558f8ab-3da7392cbdcmr13166215ab.17.1746579152816; Tue, 06 May 2025 17:52:32 -0700 (PDT) Received: from postal.iol.unh.edu (postal.iol.unh.edu. [132.177.123.84]) by smtp-relay.gmail.com with ESMTPS id e9e14a558f8ab-3d975e81ecesm22804795ab.25.2025.05.06.17.52.32 (version=TLS1_2 cipher=ECDHE-ECDSA-AES128-GCM-SHA256 bits=128/128); Tue, 06 May 2025 17:52:32 -0700 (PDT) X-Relaying-Domain: iol.unh.edu Date: Tue, 06 May 2025 17:52:32 -0700 (PDT) Message-ID: <681aaed0.050a0220.1d0e03.dd55SMTPIN_ADDED_MISSING@mx.google.com> Received: from [172.21.0.6] (unknown [172.18.0.240]) by postal.iol.unh.edu (Postfix) with ESMTP id 6BA096052471; Tue, 6 May 2025 20:52:32 -0400 (EDT) Subject: |SUCCESS| pw153327 [PATCH] net/mlx5: fix error notification for larg From: dpdklab@iol.unh.edu To: Test Report Cc: dpdk-test-reports@iol.unh.edu In-Reply-To: <20250506133206.379993-1-getelson@nvidia.com> References: <20250506133206.379993-1-getelson@nvidia.com> Content-Type: text/plain X-BeenThere: test-report@dpdk.org X-Mailman-Version: 2.1.29 Precedence: list List-Id: automatic DPDK test reports List-Unsubscribe: , List-Archive: List-Post: List-Help: List-Subscribe: , Errors-To: test-report-bounces@dpdk.org Test-Label: iol-abi-testing Test-Status: SUCCESS http://dpdk.org/patch/153327 _Testing PASS_ Submitter: Gregory Etelson Date: Tuesday, May 06 2025 13:31:51 DPDK git baseline: Repo:dpdk Branch: master CommitID:edd3f4b1265e6da707c46ca9b6c39d332647baea 153327 --> testing pass Upstream job id: Generic-DPDK-Compile-ABI#125519 Test environment and result as below: +-------------------+----------+ | Environment | abi_test | +===================+==========+ | CentOS Stream 10 | PASS | +-------------------+----------+ | CentOS Stream 9 | PASS | +-------------------+----------+ | Debian 12 | PASS | +-------------------+----------+ | Fedora 40 (Clang) | PASS | +-------------------+----------+ | Fedora 40 | PASS | +-------------------+----------+ | Fedora 41 (Clang) | PASS | +-------------------+----------+ | Fedora 41 | PASS | +-------------------+----------+ | openSUSE Leap 15 | PASS | +-------------------+----------+ | RHEL9 | PASS | +-------------------+----------+ | RHEL8 | PASS | +-------------------+----------+ | Ubuntu 24.04 | PASS | +-------------------+----------+ | Ubuntu 22.04 | PASS | +-------------------+----------+ CentOS Stream 10 Kernel: Depends on container host Compiler: gcc 14.2.1 20241104 (Red Hat 14.2.1-6) CentOS Stream 9 Kernel: Depends on container host Compiler: gcc 11.5.0 20240719 (Red Hat 11.5.0-2) Debian 12 Kernel: Depends on container host Compiler: gcc (Debian 12.2.0-14) 12.2.0 Fedora 40 (Clang) Kernel: Depends on container host Compiler: clang 18.1.8 (Fedora 18.1.8-1.fc40) Fedora 40 Kernel: Depends on container host Compiler: gcc 14.2.1 20240912 (Red Hat 14.2.1-3) Fedora 41 (Clang) Kernel: Depends on container host Compiler: clang 19.1.5 (Fedora 19.1.5-1.fc41) Fedora 41 Kernel: Depends on container host Compiler: gcc 14.2.1 20240912 (Red Hat 14.2.1-3) openSUSE Leap 15 Kernel: Depends on container host Compiler: gcc (SUSE Linux) 7.5.0 RHEL9 Kernel: Depends on container host Compiler: gcc 11.5.0 20240719 (Red Hat 11.5.0-2) RHEL8 Kernel: Depends on container host Compiler: gcc 8.5.0 20210514 (Red Hat 8.5.0-22) Ubuntu 24.04 Kernel: Depends on container host Compiler: gcc (Ubuntu 13.3.0-6ubuntu2~24.04) 13.3.0 Ubuntu 22.04 Kernel: Depends on container host Compiler: gcc (Ubuntu 11.4.0-1ubuntu1~22.04) 11.4.0 To view detailed results, visit: https://lab.dpdk.org/results/dashboard/patchsets/33125/ UNH-IOL DPDK Community Lab To manage your email subscriptions, visit: https://lab.dpdk.org/results/dashboard/preferences/subscriptions/