From mboxrd@z Thu Jan 1 00:00:00 1970 Return-Path: Received: from mails.dpdk.org (mails.dpdk.org [217.70.189.124]) by inbox.dpdk.org (Postfix) with ESMTP id BA3B2466E0 for ; Wed, 7 May 2025 03:01:36 +0200 (CEST) Received: from mails.dpdk.org (localhost [127.0.0.1]) by mails.dpdk.org (Postfix) with ESMTP id 97B814025D; Wed, 7 May 2025 03:01:36 +0200 (CEST) Received: from mail-pl1-f228.google.com (mail-pl1-f228.google.com [209.85.214.228]) by mails.dpdk.org (Postfix) with ESMTP id 3AFCA4025A for ; Wed, 7 May 2025 03:01:35 +0200 (CEST) Received: by mail-pl1-f228.google.com with SMTP id d9443c01a7336-22928d629faso59236865ad.3 for ; Tue, 06 May 2025 18:01:35 -0700 (PDT) DKIM-Signature: v=1; a=rsa-sha256; c=relaxed/relaxed; d=iol.unh.edu; s=unh-iol; t=1746579694; x=1747184494; darn=dpdk.org; h=references:in-reply-to:cc:to:from:subject:message-id:date:from:to :cc:subject:date:message-id:reply-to; bh=wGlYBlL8YCoe7PjUvk14uwBu/nxnNfGVaEMOmOAK85s=; b=Jm8vRK3SCf75homqxt9jppozqAnuP3DCzRjsVqtMSQ3FvMHdLENZLBwpzQPo1/wYe0 8n4x++tYnszGTEf8MjmyCyk5tg1QfftgjRkjCv0sfhjoNBQQlpif0MqqH/TispIEIlYW e/c1XnTJCxMTPiR4uZBKGgWQNm/Lw77KlQGWY= X-Google-DKIM-Signature: v=1; a=rsa-sha256; c=relaxed/relaxed; d=1e100.net; s=20230601; t=1746579694; x=1747184494; h=references:in-reply-to:cc:to:from:subject:message-id:date :x-gm-message-state:from:to:cc:subject:date:message-id:reply-to; bh=wGlYBlL8YCoe7PjUvk14uwBu/nxnNfGVaEMOmOAK85s=; b=xAM4BYd5GSYRqkHf5zSRqhggCxdghtmI+7MTRoxHaQdsg5JAxkeQ2d8G/sE+paEUi/ ng4Ib/9ZLZlXNL9JtHNfe9mmDuiS5NtBx4mfj1GD4d7oiFkxhGgkyffDlWzvIJbAFUiC 29KU4dITKRHsouV6NnD1XOtiBN+mbV6Czu0KuMlyPuxpgyCdQpX/26f3b5lXaNg1y5HP MZynuNCnsHX1wKMLtPD3FU3GVMmRl1yc/6O7CJHvG3UwdasU+Rh4S6VRFqG13VFnopj9 7efmHV+mJXaq5p8FRQEogA6N3Y0lmyiBgZCl4SZfTvxsIqWu/YeTJSjqF/Uy58SP/f+G XivA== X-Gm-Message-State: AOJu0YyEVOI2u0wPAEa/ANiftOiKgdqIpd64rnGsOvGTQH3hTGkHlYu8 D6HRZIVk9bv1GRv2OFU5JbI4Qcq91bLFDxdiuMGJAtY2KZtl/hiMCVlzie5tJeF3JbkJBsTiNWz sQMAs/K42PkcrvGtxru9vgPAz+UQgmx/wciheYuCQ X-Gm-Gg: ASbGncs12Kqug87WrCAauQnBQk9WTiv2yC5lr3BjOSrlXnodtXPqLn9tfohJ2WvqTDJ OS7A+DcicWcSZd+9LQ3vXKg9XQkl74wXe80he+PnvPGrcjC3+C/3Kg9lNc4za52GaNVVm/ZmSy7 PpD55YDRQ1gR6osNqPY/wkqcd4MdQx/JpFk6gCpPfsWKoJN/g5r+5nPGMWcmvkBlxcGR9SHlRZ4 8iyvVrbwbsBU5uc7dguSGJyfwHAuaK7Om0+Fcoa8c9aY3q7wjqBzOTJ+ilIPrMc9Au215ZduBJB NBGtvdkjyaO/+UjUKks5GVw1dVQ8Axd6TxqOsB94RjLMIxc8APNPhwc6IL0= X-Google-Smtp-Source: AGHT+IEBbowCbl086NjZCcsBUiyZp7uN68wgBS5s0vC7vn5BoIIRdMwXqKT/JH4aja9dWgvamnV5I75ynDAC X-Received: by 2002:a17:903:189:b0:223:39ae:a98 with SMTP id d9443c01a7336-22e5ea86482mr21140405ad.22.1746579694021; Tue, 06 May 2025 18:01:34 -0700 (PDT) Received: from postal.iol.unh.edu (postal.iol.unh.edu. [132.177.123.84]) by smtp-relay.gmail.com with ESMTPS id d9443c01a7336-22e151e925dsm18296005ad.27.2025.05.06.18.01.33 (version=TLS1_2 cipher=ECDHE-ECDSA-AES128-GCM-SHA256 bits=128/128); Tue, 06 May 2025 18:01:34 -0700 (PDT) X-Relaying-Domain: iol.unh.edu Date: Tue, 06 May 2025 18:01:34 -0700 (PDT) Message-ID: <681ab0ee.170a0220.2b46a.943dSMTPIN_ADDED_MISSING@mx.google.com> Received: from [172.21.0.11] (unknown [172.18.0.240]) by postal.iol.unh.edu (Postfix) with ESMTP id 0A6126052471; Tue, 6 May 2025 21:01:33 -0400 (EDT) Subject: |SUCCESS| pw153328-153331 [PATCH] [4/4] bus/pci/bsd: Fix device exis From: dpdklab@iol.unh.edu To: Test Report Cc: dpdk-test-reports@iol.unh.edu In-Reply-To: <20250506174046.1136711-5-jfree@FreeBSD.org> References: <20250506174046.1136711-5-jfree@FreeBSD.org> Content-Type: text/plain X-BeenThere: test-report@dpdk.org X-Mailman-Version: 2.1.29 Precedence: list List-Id: automatic DPDK test reports List-Unsubscribe: , List-Archive: List-Post: List-Help: List-Subscribe: , Errors-To: test-report-bounces@dpdk.org Test-Label: iol-abi-testing Test-Status: SUCCESS http://dpdk.org/patch/153331 _Testing PASS_ Submitter: Jake Freeland Date: Tuesday, May 06 2025 17:40:44 DPDK git baseline: Repo:dpdk Branch: master CommitID:75f179ebe347b6098cf3af26d3d3b7168fe3fe24 153328-153331 --> testing pass Upstream job id: Generic-DPDK-Compile-ABI#125507 Test environment and result as below: +-------------------+----------+ | Environment | abi_test | +===================+==========+ | CentOS Stream 9 | PASS | +-------------------+----------+ | Fedora 41 | PASS | +-------------------+----------+ | Fedora 40 | PASS | +-------------------+----------+ | Debian 12 | PASS | +-------------------+----------+ | openSUSE Leap 15 | PASS | +-------------------+----------+ | CentOS Stream 10 | PASS | +-------------------+----------+ | Fedora 40 (Clang) | PASS | +-------------------+----------+ | RHEL9 | PASS | +-------------------+----------+ | RHEL8 | PASS | +-------------------+----------+ | Ubuntu 22.04 | PASS | +-------------------+----------+ | Ubuntu 24.04 | PASS | +-------------------+----------+ | Fedora 41 (Clang) | PASS | +-------------------+----------+ CentOS Stream 9 Kernel: Depends on container host Compiler: gcc 11.5.0 20240719 (Red Hat 11.5.0-2) Fedora 41 Kernel: Depends on container host Compiler: gcc 14.2.1 20240912 (Red Hat 14.2.1-3) Fedora 40 Kernel: Depends on container host Compiler: gcc 14.2.1 20240912 (Red Hat 14.2.1-3) Debian 12 Kernel: Depends on container host Compiler: gcc (Debian 12.2.0-14) 12.2.0 openSUSE Leap 15 Kernel: Depends on container host Compiler: gcc (SUSE Linux) 7.5.0 CentOS Stream 10 Kernel: Depends on container host Compiler: gcc 14.2.1 20241104 (Red Hat 14.2.1-6) Fedora 40 (Clang) Kernel: Depends on container host Compiler: clang 18.1.8 (Fedora 18.1.8-1.fc40) RHEL9 Kernel: Depends on container host Compiler: gcc 11.5.0 20240719 (Red Hat 11.5.0-2) RHEL8 Kernel: Depends on container host Compiler: gcc 8.5.0 20210514 (Red Hat 8.5.0-22) Ubuntu 22.04 Kernel: Depends on container host Compiler: gcc (Ubuntu 11.4.0-1ubuntu1~22.04) 11.4.0 Ubuntu 24.04 Kernel: Depends on container host Compiler: gcc (Ubuntu 13.3.0-6ubuntu2~24.04) 13.3.0 Fedora 41 (Clang) Kernel: Depends on container host Compiler: clang 19.1.5 (Fedora 19.1.5-1.fc41) To view detailed results, visit: https://lab.dpdk.org/results/dashboard/patchsets/33126/ UNH-IOL DPDK Community Lab To manage your email subscriptions, visit: https://lab.dpdk.org/results/dashboard/preferences/subscriptions/