From mboxrd@z Thu Jan 1 00:00:00 1970 Return-Path: Received: from mails.dpdk.org (mails.dpdk.org [217.70.189.124]) by inbox.dpdk.org (Postfix) with ESMTP id 15642466E0 for ; Wed, 7 May 2025 03:04:46 +0200 (CEST) Received: from mails.dpdk.org (localhost [127.0.0.1]) by mails.dpdk.org (Postfix) with ESMTP id E6BB24025D; Wed, 7 May 2025 03:04:45 +0200 (CEST) Received: from mail-yb1-f225.google.com (mail-yb1-f225.google.com [209.85.219.225]) by mails.dpdk.org (Postfix) with ESMTP id 179074025A for ; Wed, 7 May 2025 03:04:44 +0200 (CEST) Received: by mail-yb1-f225.google.com with SMTP id 3f1490d57ef6-e694601f624so4813660276.1 for ; Tue, 06 May 2025 18:04:43 -0700 (PDT) DKIM-Signature: v=1; a=rsa-sha256; c=relaxed/relaxed; d=iol.unh.edu; s=unh-iol; t=1746579883; x=1747184683; darn=dpdk.org; h=references:in-reply-to:cc:to:from:subject:message-id:date:from:to :cc:subject:date:message-id:reply-to; bh=iMnLJ4aYxzHs8vZ9a5EkZOycufxRdV5Y9hDyuQALbCY=; b=XKSTQRzbk2gkquQUcFfHuM8PrdH3pTe+5XqGCl/2/nv9Spjis4CbC3QF1sjtD/wSt2 ffQyCJImbkxez+B+gOpzniAdT/oyssq2B3INKaujwvcnY+ffFjg9TppccYdcjr4LjjLN U55Nlr+7FPBmuQXsziLxS2UfMsbFbZEZ25utI= X-Google-DKIM-Signature: v=1; a=rsa-sha256; c=relaxed/relaxed; d=1e100.net; s=20230601; t=1746579883; x=1747184683; h=references:in-reply-to:cc:to:from:subject:message-id:date :x-gm-message-state:from:to:cc:subject:date:message-id:reply-to; bh=iMnLJ4aYxzHs8vZ9a5EkZOycufxRdV5Y9hDyuQALbCY=; b=jQiQu3siEOspJPFJzWPkObmTvxnyRfghY4CYDGDWETJrJxFNfXmYp2/lKAkti5TKjc 5Be1yulMW4paV3npHFpdU0mZxj8OBdvTD72C8TQHoP5TMUp7awEwezHrGE/hZ58Mv0qA jokKLmQU9qRN72FRIHbLIEt2NJ+cohnSfTvIEBt2wVB9uc8C9UAdQHfnvlzcqbikiL8r f194UxpIRKxsEUiJI+refbMjGB4my+jM2OvBLGWdapEKiWD4+bYWI1irxgZuETwuSO67 L/l+5In+CFLDtAZ8h012NWnyM9yCQr1AZihA5sM1VQ3/ln04JzD1WNnyVfsVJDEzi7Au 9+wQ== X-Gm-Message-State: AOJu0Yx+wQkiq1Rc/TQHafV3XmHp4aG31bYtRwKSYt/UMK5zuJuDqOIW zlHJX0akDF4onpHhEIlyj56PM6MveVqIvTU8WFxFbBQRIdRODJ3NGidMQ3RdSZLcSW72XwR2tPs ao5ol+3H4/8xGhFBw6flbTxA1ouA9pJRbMTflfG/MFMF2k38jQJwk+Kqc X-Gm-Gg: ASbGncuQObzTSK+EO4cELtZVtMTAxm/VIlkzw+B3+Cc36x72yGZa2l3G6ougaxhi8Ar Ep07UAES85qbm2KN/M2Tf6UvLD1MeQypdlJCI+s07uDCOdtxbTOkyTS7DEWKfWAv9YBrSR2h2tw tJMjZFZzrQaMFBU93YEgRCgauYrDfXQjXcyS2MyJtEbHK4oeaMWOptn3MxnPIxYxIjr0M3Q3bKR cEPA7mhjXg2F6VpJnzDSVF4iuiDM3BnBuCZaqxYVmBKCZX2d+nzlH1lBGll0itHdy+/yJp4yCUq iYph+QqEIQXPbyb/7zmtOgp49e+k8cEOlEoF X-Google-Smtp-Source: AGHT+IHU6ochGJ6SmDr5T5Ruspe9KeHADzBA5B4ENhTFGn3vqCCr2PXii2ah8El4YsBdulu0p6Qq3zaWTYSL X-Received: by 2002:a05:6902:4909:b0:e78:75f5:2fd9 with SMTP id 3f1490d57ef6-e7880f8ae0bmr1871487276.11.1746579883098; Tue, 06 May 2025 18:04:43 -0700 (PDT) Received: from postal.iol.unh.edu (postal.iol.unh.edu. [2606:4100:3880:1234::84]) by smtp-relay.gmail.com with ESMTPS id 3f1490d57ef6-e764e5721a3sm42438276.22.2025.05.06.18.04.43 (version=TLS1_2 cipher=ECDHE-ECDSA-AES128-GCM-SHA256 bits=128/128); Tue, 06 May 2025 18:04:43 -0700 (PDT) X-Relaying-Domain: iol.unh.edu Date: Tue, 06 May 2025 18:04:43 -0700 (PDT) Message-ID: <681ab1ab.050a0220.15e45.2322SMTPIN_ADDED_MISSING@mx.google.com> Received: from [172.21.0.5] (unknown [172.18.0.240]) by postal.iol.unh.edu (Postfix) with ESMTP id BA4316052471; Tue, 6 May 2025 21:04:42 -0400 (EDT) Subject: |SUCCESS| pw153328-153331 [PATCH] [4/4] bus/pci/bsd: Fix device exis From: dpdklab@iol.unh.edu To: Test Report Cc: dpdk-test-reports@iol.unh.edu In-Reply-To: <20250506174046.1136711-5-jfree@FreeBSD.org> References: <20250506174046.1136711-5-jfree@FreeBSD.org> Content-Type: text/plain X-BeenThere: test-report@dpdk.org X-Mailman-Version: 2.1.29 Precedence: list List-Id: automatic DPDK test reports List-Unsubscribe: , List-Archive: List-Post: List-Help: List-Subscribe: , Errors-To: test-report-bounces@dpdk.org Test-Label: iol-unit-arm64-testing Test-Status: SUCCESS http://dpdk.org/patch/153331 _Testing PASS_ Submitter: Jake Freeland Date: Tuesday, May 06 2025 17:40:44 DPDK git baseline: Repo:dpdk Branch: master CommitID:75f179ebe347b6098cf3af26d3d3b7168fe3fe24 153328-153331 --> testing pass Upstream job id: Aarch32-Unit-Test#6155 Test environment and result as below: +-----------------------------+------------------------------+--------------+---------------------------+----------------+ | Environment | cryptodev_sw_snow3g_autotest | lpm_autotest | cryptodev_sw_zuc_autotest | dpdk_unit_test | +=============================+==============================+==============+===========================+================+ | Debian 12 (arm) | PASS | SKIPPED | PASS | PASS | +-----------------------------+------------------------------+--------------+---------------------------+----------------+ | Ubuntu 20.04 ARM SVE | SKIPPED | PASS | SKIPPED | SKIPPED | +-----------------------------+------------------------------+--------------+---------------------------+----------------+ | CentOS Stream 10 (ARM) | SKIPPED | SKIPPED | SKIPPED | PASS | +-----------------------------+------------------------------+--------------+---------------------------+----------------+ | CentOS Stream 9 (ARM) | SKIPPED | SKIPPED | SKIPPED | PASS | +-----------------------------+------------------------------+--------------+---------------------------+----------------+ | Fedora 40 (ARM) | SKIPPED | SKIPPED | SKIPPED | PASS | +-----------------------------+------------------------------+--------------+---------------------------+----------------+ | Ubuntu 20.04 (ARM) | SKIPPED | SKIPPED | SKIPPED | PASS | +-----------------------------+------------------------------+--------------+---------------------------+----------------+ | RHEL9 (ARM) | SKIPPED | SKIPPED | SKIPPED | PASS | +-----------------------------+------------------------------+--------------+---------------------------+----------------+ | Fedora 41 (ARM Clang) | SKIPPED | SKIPPED | SKIPPED | PASS | +-----------------------------+------------------------------+--------------+---------------------------+----------------+ | Fedora 40 (ARM Clang) | SKIPPED | SKIPPED | SKIPPED | PASS | +-----------------------------+------------------------------+--------------+---------------------------+----------------+ | Ubuntu 22.04 (ARM) | SKIPPED | SKIPPED | SKIPPED | PASS | +-----------------------------+------------------------------+--------------+---------------------------+----------------+ | Ubuntu 24.04 (ARM) | SKIPPED | SKIPPED | SKIPPED | PASS | +-----------------------------+------------------------------+--------------+---------------------------+----------------+ | Fedora 41 (ARM) | SKIPPED | SKIPPED | SKIPPED | PASS | +-----------------------------+------------------------------+--------------+---------------------------+----------------+ | 32-bit Ubuntu 22.04.4 (ARM) | SKIPPED | SKIPPED | SKIPPED | PASS | +-----------------------------+------------------------------+--------------+---------------------------+----------------+ Debian 12 (arm) Kernel: Depends on container host Compiler: gcc (Debian 12.2.0-14) 12.2.0 Ubuntu 20.04 ARM SVE Kernel: Depends on container host Compiler: gcc (Ubuntu 10.5.0-1ubuntu1~20.04) 10.5.0 CentOS Stream 10 (ARM) Kernel: Depends on container host Compiler: gcc 14.2.1 20241104 (Red Hat 14.2.1-6) CentOS Stream 9 (ARM) Kernel: Depends on container host Compiler: gcc 11.5.0 20240719 (Red Hat 11.5.0-2) Fedora 40 (ARM) Kernel: Depends on container host Compiler: gcc 14.2.1 20240912 (Red Hat 14.2.1-3) Ubuntu 20.04 (ARM) Kernel: Depends on container host Compiler: gcc (Ubuntu 9.4.0-1ubuntu1~20.04.2) 9.4.0 RHEL9 (ARM) Kernel: Depends on container host Compiler: gcc 11.5.0 20240719 (Red Hat 11.5.0-2) Fedora 41 (ARM Clang) Kernel: Depends on container host Compiler: clang 19.1.5 (Fedora 19.1.5-1.fc41) Fedora 40 (ARM Clang) Kernel: Depends on container host Compiler: clang 18.1.8 (Fedora 18.1.8-1.fc40) Ubuntu 22.04 (ARM) Kernel: Depends on container host Compiler: gcc (Ubuntu 11.4.0-1ubuntu1~22.04) 11.4.0 Ubuntu 24.04 (ARM) Kernel: Depends on container host Compiler: gcc (Ubuntu 13.3.0-6ubuntu2~24.04) 13.3.0 Fedora 41 (ARM) Kernel: Depends on container host Compiler: gcc 14.2.1 20240912 (Red Hat 14.2.1-3) 32-bit Ubuntu 22.04.4 (ARM) Kernel: 5.15.83+ aarch64 Compiler: gcc (Ubuntu 11.4.0-1ubuntu1~22.04) 11.4.0 To view detailed results, visit: https://lab.dpdk.org/results/dashboard/patchsets/33126/ UNH-IOL DPDK Community Lab To manage your email subscriptions, visit: https://lab.dpdk.org/results/dashboard/preferences/subscriptions/