From: dpdklab@iol.unh.edu
To: Test Report <test-report@dpdk.org>
Cc: dpdk-test-reports@iol.unh.edu
Subject: |SUCCESS| pw153327 [PATCH] net/mlx5: fix error notification for larg
Date: Tue, 06 May 2025 18:33:51 -0700 (PDT) [thread overview]
Message-ID: <681ab87f.170a0220.217b7f.19f5SMTPIN_ADDED_MISSING@mx.google.com> (raw)
In-Reply-To: <20250506133206.379993-1-getelson@nvidia.com>
Test-Label: iol-unit-arm64-testing
Test-Status: SUCCESS
http://dpdk.org/patch/153327
_Testing PASS_
Submitter: Gregory Etelson <getelson@nvidia.com>
Date: Tuesday, May 06 2025 13:31:51
DPDK git baseline: Repo:dpdk
Branch: master
CommitID:edd3f4b1265e6da707c46ca9b6c39d332647baea
153327 --> testing pass
Upstream job id: Generic-Unit-Test-DPDK#335959
Test environment and result as below:
+------------------------+----------------+---------------------------+--------------+------------------------------+
| Environment | dpdk_unit_test | cryptodev_sw_zuc_autotest | lpm_autotest | cryptodev_sw_snow3g_autotest |
+========================+================+===========================+==============+==============================+
| CentOS Stream 9 (ARM) | PASS | SKIPPED | SKIPPED | SKIPPED |
+------------------------+----------------+---------------------------+--------------+------------------------------+
| Fedora 40 (ARM Clang) | PASS | SKIPPED | SKIPPED | SKIPPED |
+------------------------+----------------+---------------------------+--------------+------------------------------+
| CentOS Stream 10 (ARM) | PASS | SKIPPED | SKIPPED | SKIPPED |
+------------------------+----------------+---------------------------+--------------+------------------------------+
| Fedora 40 (ARM) | PASS | SKIPPED | SKIPPED | SKIPPED |
+------------------------+----------------+---------------------------+--------------+------------------------------+
| Fedora 41 (ARM Clang) | PASS | SKIPPED | SKIPPED | SKIPPED |
+------------------------+----------------+---------------------------+--------------+------------------------------+
| Fedora 41 (ARM) | PASS | SKIPPED | SKIPPED | SKIPPED |
+------------------------+----------------+---------------------------+--------------+------------------------------+
| Ubuntu 20.04 (ARM) | PASS | SKIPPED | SKIPPED | SKIPPED |
+------------------------+----------------+---------------------------+--------------+------------------------------+
| RHEL9 (ARM) | PASS | SKIPPED | SKIPPED | SKIPPED |
+------------------------+----------------+---------------------------+--------------+------------------------------+
| Ubuntu 24.04 (ARM) | PASS | SKIPPED | SKIPPED | SKIPPED |
+------------------------+----------------+---------------------------+--------------+------------------------------+
| Ubuntu 22.04 (ARM) | PASS | SKIPPED | SKIPPED | SKIPPED |
+------------------------+----------------+---------------------------+--------------+------------------------------+
| Debian 12 (arm) | PASS | PASS | SKIPPED | PASS |
+------------------------+----------------+---------------------------+--------------+------------------------------+
| Ubuntu 20.04 ARM SVE | SKIPPED | SKIPPED | PASS | SKIPPED |
+------------------------+----------------+---------------------------+--------------+------------------------------+
CentOS Stream 9 (ARM)
Kernel: Depends on container host
Compiler: gcc 11.5.0 20240719 (Red Hat 11.5.0-2)
Fedora 40 (ARM Clang)
Kernel: Depends on container host
Compiler: clang 18.1.8 (Fedora 18.1.8-1.fc40)
CentOS Stream 10 (ARM)
Kernel: Depends on container host
Compiler: gcc 14.2.1 20241104 (Red Hat 14.2.1-6)
Fedora 40 (ARM)
Kernel: Depends on container host
Compiler: gcc 14.2.1 20240912 (Red Hat 14.2.1-3)
Fedora 41 (ARM Clang)
Kernel: Depends on container host
Compiler: clang 19.1.5 (Fedora 19.1.5-1.fc41)
Fedora 41 (ARM)
Kernel: Depends on container host
Compiler: gcc 14.2.1 20240912 (Red Hat 14.2.1-3)
Ubuntu 20.04 (ARM)
Kernel: Depends on container host
Compiler: gcc (Ubuntu 9.4.0-1ubuntu1~20.04.2) 9.4.0
RHEL9 (ARM)
Kernel: Depends on container host
Compiler: gcc 11.5.0 20240719 (Red Hat 11.5.0-2)
Ubuntu 24.04 (ARM)
Kernel: Depends on container host
Compiler: gcc (Ubuntu 13.3.0-6ubuntu2~24.04) 13.3.0
Ubuntu 22.04 (ARM)
Kernel: Depends on container host
Compiler: gcc (Ubuntu 11.4.0-1ubuntu1~22.04) 11.4.0
Debian 12 (arm)
Kernel: Depends on container host
Compiler: gcc (Debian 12.2.0-14) 12.2.0
Ubuntu 20.04 ARM SVE
Kernel: Depends on container host
Compiler: gcc (Ubuntu 10.5.0-1ubuntu1~20.04) 10.5.0
To view detailed results, visit:
https://lab.dpdk.org/results/dashboard/patchsets/33125/
UNH-IOL DPDK Community Lab
To manage your email subscriptions, visit:
https://lab.dpdk.org/results/dashboard/preferences/subscriptions/
next prev parent reply other threads:[~2025-05-07 1:33 UTC|newest]
Thread overview: 27+ messages / expand[flat|nested] mbox.gz Atom feed top
[not found] <20250506133206.379993-1-getelson@nvidia.com>
2025-05-06 13:01 ` |SUCCESS| pw153327 [PATCH] net/mlx5: fix error notification for large patterns qemudev
2025-05-06 13:06 ` qemudev
2025-05-06 13:33 ` checkpatch
2025-05-06 14:45 ` 0-day Robot
2025-05-06 23:04 ` |SUCCESS| pw153327 [PATCH] net/mlx5: fix error notification for larg dpdklab
2025-05-06 23:12 ` dpdklab
2025-05-06 23:15 ` dpdklab
2025-05-06 23:19 ` dpdklab
2025-05-06 23:22 ` dpdklab
2025-05-06 23:31 ` dpdklab
2025-05-06 23:42 ` dpdklab
2025-05-06 23:51 ` dpdklab
2025-05-07 0:01 ` dpdklab
2025-05-07 0:52 ` dpdklab
2025-05-07 0:58 ` |PENDING| " dpdklab
2025-05-07 1:33 ` dpdklab [this message]
2025-05-07 1:55 ` |SUCCESS| " dpdklab
2025-05-07 2:23 ` dpdklab
2025-05-07 2:58 ` dpdklab
2025-05-07 2:59 ` dpdklab
2025-05-07 3:11 ` dpdklab
2025-05-07 3:12 ` dpdklab
2025-05-07 5:51 ` dpdklab
2025-05-07 7:33 ` dpdklab
2025-05-07 9:08 ` dpdklab
2025-05-07 12:30 ` dpdklab
2025-05-07 13:56 ` dpdklab
Reply instructions:
You may reply publicly to this message via plain-text email
using any one of the following methods:
* Save the following mbox file, import it into your mail client,
and reply-to-all from there: mbox
Avoid top-posting and favor interleaved quoting:
https://en.wikipedia.org/wiki/Posting_style#Interleaved_style
* Reply using the --to, --cc, and --in-reply-to
switches of git-send-email(1):
git send-email \
--in-reply-to=681ab87f.170a0220.217b7f.19f5SMTPIN_ADDED_MISSING@mx.google.com \
--to=dpdklab@iol.unh.edu \
--cc=dpdk-test-reports@iol.unh.edu \
--cc=test-report@dpdk.org \
/path/to/YOUR_REPLY
https://kernel.org/pub/software/scm/git/docs/git-send-email.html
* If your mail client supports setting the In-Reply-To header
via mailto: links, try the mailto: link
Be sure your reply has a Subject: header at the top and a blank line
before the message body.
This is a public inbox, see mirroring instructions
for how to clone and mirror all data and code used for this inbox;
as well as URLs for NNTP newsgroup(s).