From mboxrd@z Thu Jan 1 00:00:00 1970 Return-Path: Received: from mails.dpdk.org (mails.dpdk.org [217.70.189.124]) by inbox.dpdk.org (Postfix) with ESMTP id EA362466E0 for ; Wed, 7 May 2025 03:55:18 +0200 (CEST) Received: from mails.dpdk.org (localhost [127.0.0.1]) by mails.dpdk.org (Postfix) with ESMTP id C66674026D; Wed, 7 May 2025 03:55:18 +0200 (CEST) Received: from mail-ot1-f98.google.com (mail-ot1-f98.google.com [209.85.210.98]) by mails.dpdk.org (Postfix) with ESMTP id E632E4025A for ; Wed, 7 May 2025 03:55:17 +0200 (CEST) Received: by mail-ot1-f98.google.com with SMTP id 46e09a7af769-72c09f8369cso2117500a34.3 for ; Tue, 06 May 2025 18:55:17 -0700 (PDT) DKIM-Signature: v=1; a=rsa-sha256; c=relaxed/relaxed; d=iol.unh.edu; s=unh-iol; t=1746582917; x=1747187717; darn=dpdk.org; h=references:in-reply-to:cc:to:from:subject:message-id:date:from:to :cc:subject:date:message-id:reply-to; bh=/lSYNy9DzKT77Cm18hnAJRcw2a4wZWv9serNswiW1qg=; b=ABPGP0zv7Eb+JzarvIndYcoII5Iuc/BvoelN1UChum1nMGfALvuXtKJ8UXzjNjcMBP yDFpv9v8VEr57pajXL5TVwNb44s/vZmlzSeEla/swJYMAKsf8xItDilxfNzKUVE04ipg IJ+JPxu81AaUyvkZMr8CgCAVDumKPU/MvdzZI= X-Google-DKIM-Signature: v=1; a=rsa-sha256; c=relaxed/relaxed; d=1e100.net; s=20230601; t=1746582917; x=1747187717; h=references:in-reply-to:cc:to:from:subject:message-id:date :x-gm-message-state:from:to:cc:subject:date:message-id:reply-to; bh=/lSYNy9DzKT77Cm18hnAJRcw2a4wZWv9serNswiW1qg=; b=hBuE+z7PVA7qcPnBxl2Pl2VPvS8/jTjThTFcozg+crttU1XO5xonJJlowA/oGgfykg 7KKAkBROl6dTx87FWsCSwnvFMUwpEnKjIh/PZFdYwgY1sDC0A1S6aQlWS6vhRwDAR6mB wx567L/Ay84ve/7RKBdRcVlvc0VirI5Ec7EAMCNFMKodKchr+UX/jbQ1uWMbklpfhFzc KPXBs2Modd72yQpnYV2iiy92CKA0bFbQifj89RIoMhfMX1irU7sg80SFw9j51XnEitSq 5EvLy6KSqrprBvUuRbaP4FPMLrGYMlE3xNZ1z/23ELFWL9VCmfF1yVNSQKuvvOm950uQ 4QDA== X-Gm-Message-State: AOJu0YyZhIfK/hoeVssj+MnsCkTq7/BuZmg5U6mRwmIq1tt72pL8RsT/ bLkzTv6tVGyExtcK2FTdDeYV422PYKpgqjIMdnILzknq+bBqq7I17fNSlDMu+Q0Wj8Gv40g8m0u I+Zfp4huz/GcsHYd763N7mPtK9YvId1lAlLV2miL8pTi/4kwcf1bYSU8N X-Gm-Gg: ASbGncvYtF4JvuC2uT58Lv76aOOxkj6ddIssSzjLmxz/1ETpUuPfj1b0kpkv/XhtOYe HPhjl9rUtxeoQweDjCKP8+o16eyF/Ys20G7j5YxkYZ6K+yEbIh5nUxd5jCZmuvim0epc1MnfVBv HfBPgX7A3LvN/rH4Lqv4nDphxGPR2k6KipFivQbjvSsLFMshIupmCEAOcWqR+hZRnbANgBQGoju AabZ/8O8Whf07OV/y7C2J7SpaZFvhYejoIGHhR4aXtHaiYFgR3S7oefwobE0ZAyrUAdr0s11kz5 l0cWZjptwPJ/FnDGLhnYFFgUoSLgCvygHkfU X-Google-Smtp-Source: AGHT+IG7bdQGxsLP/1ExVfEYSouaG6e2znjdqRIzDu2jkZbTkaUxp5T0sdpJ4hJ77FEtj+gh3obPhzeZx7na X-Received: by 2002:a05:6830:6888:b0:727:3439:5bec with SMTP id 46e09a7af769-73210ab2c82mr980125a34.15.1746582917003; Tue, 06 May 2025 18:55:17 -0700 (PDT) Received: from postal.iol.unh.edu (postal.iol.unh.edu. [2606:4100:3880:1234::84]) by smtp-relay.gmail.com with ESMTPS id 46e09a7af769-73210a95d68sm40885a34.9.2025.05.06.18.55.16 (version=TLS1_2 cipher=ECDHE-ECDSA-AES128-GCM-SHA256 bits=128/128); Tue, 06 May 2025 18:55:16 -0700 (PDT) X-Relaying-Domain: iol.unh.edu Date: Tue, 06 May 2025 18:55:16 -0700 (PDT) Message-ID: <681abd84.050a0220.1da16e.3500SMTPIN_ADDED_MISSING@mx.google.com> Received: from [172.21.0.6] (unknown [172.18.0.240]) by postal.iol.unh.edu (Postfix) with ESMTP id 1C4886052471; Tue, 6 May 2025 21:55:16 -0400 (EDT) Subject: |SUCCESS| pw153327 [PATCH] net/mlx5: fix error notification for larg From: dpdklab@iol.unh.edu To: Test Report Cc: dpdk-test-reports@iol.unh.edu In-Reply-To: <20250506133206.379993-1-getelson@nvidia.com> References: <20250506133206.379993-1-getelson@nvidia.com> Content-Type: text/plain X-BeenThere: test-report@dpdk.org X-Mailman-Version: 2.1.29 Precedence: list List-Id: automatic DPDK test reports List-Unsubscribe: , List-Archive: List-Post: List-Help: List-Subscribe: , Errors-To: test-report-bounces@dpdk.org Test-Label: iol-unit-amd64-testing Test-Status: SUCCESS http://dpdk.org/patch/153327 _Testing PASS_ Submitter: Gregory Etelson Date: Tuesday, May 06 2025 13:31:51 DPDK git baseline: Repo:dpdk Branch: master CommitID:edd3f4b1265e6da707c46ca9b6c39d332647baea 153327 --> testing pass Upstream job id: Generic-Unit-Test-DPDK#335964 Test environment and result as below: +-------------------+----------------+ | Environment | dpdk_unit_test | +===================+================+ | CentOS Stream 9 | PASS | +-------------------+----------------+ | CentOS Stream 10 | PASS | +-------------------+----------------+ | Fedora 41 | PASS | +-------------------+----------------+ | RHEL8 | PASS | +-------------------+----------------+ | Debian 12 | PASS | +-------------------+----------------+ | Fedora 40 | PASS | +-------------------+----------------+ | RHEL9 | PASS | +-------------------+----------------+ | Fedora 40 (Clang) | PASS | +-------------------+----------------+ | Fedora 41 (Clang) | PASS | +-------------------+----------------+ | Ubuntu 22.04 | PASS | +-------------------+----------------+ | Ubuntu 20.04 | PASS | +-------------------+----------------+ | Ubuntu 24.04 | PASS | +-------------------+----------------+ CentOS Stream 9 Kernel: Depends on container host Compiler: gcc 11.5.0 20240719 (Red Hat 11.5.0-2) CentOS Stream 10 Kernel: Depends on container host Compiler: gcc 14.2.1 20241104 (Red Hat 14.2.1-6) Fedora 41 Kernel: Depends on container host Compiler: gcc 14.2.1 20240912 (Red Hat 14.2.1-3) RHEL8 Kernel: Depends on container host Compiler: gcc 8.5.0 20210514 (Red Hat 8.5.0-22) Debian 12 Kernel: Depends on container host Compiler: gcc (Debian 12.2.0-14) 12.2.0 Fedora 40 Kernel: Depends on container host Compiler: gcc 14.2.1 20240912 (Red Hat 14.2.1-3) RHEL9 Kernel: Depends on container host Compiler: gcc 11.5.0 20240719 (Red Hat 11.5.0-2) Fedora 40 (Clang) Kernel: Depends on container host Compiler: clang 18.1.8 (Fedora 18.1.8-1.fc40) Fedora 41 (Clang) Kernel: Depends on container host Compiler: clang 19.1.5 (Fedora 19.1.5-1.fc41) Ubuntu 22.04 Kernel: Depends on container host Compiler: gcc (Ubuntu 11.4.0-1ubuntu1~22.04) 11.4.0 Ubuntu 20.04 Kernel: Depends on container host Compiler: gcc (Ubuntu 9.4.0-1ubuntu1~20.04.2) 9.4.0 Ubuntu 24.04 Kernel: Depends on container host Compiler: gcc (Ubuntu 13.3.0-6ubuntu2~24.04) 13.3.0 To view detailed results, visit: https://lab.dpdk.org/results/dashboard/patchsets/33125/ UNH-IOL DPDK Community Lab To manage your email subscriptions, visit: https://lab.dpdk.org/results/dashboard/preferences/subscriptions/