From mboxrd@z Thu Jan 1 00:00:00 1970 Return-Path: Received: from mails.dpdk.org (mails.dpdk.org [217.70.189.124]) by inbox.dpdk.org (Postfix) with ESMTP id D71B8466E2 for ; Wed, 7 May 2025 04:05:15 +0200 (CEST) Received: from mails.dpdk.org (localhost [127.0.0.1]) by mails.dpdk.org (Postfix) with ESMTP id AC3084025D; Wed, 7 May 2025 04:05:15 +0200 (CEST) Received: from mail-oa1-f98.google.com (mail-oa1-f98.google.com [209.85.160.98]) by mails.dpdk.org (Postfix) with ESMTP id 8F9054025A for ; Wed, 7 May 2025 04:05:14 +0200 (CEST) Received: by mail-oa1-f98.google.com with SMTP id 586e51a60fabf-2da3b3bb560so3950413fac.3 for ; Tue, 06 May 2025 19:05:14 -0700 (PDT) DKIM-Signature: v=1; a=rsa-sha256; c=relaxed/relaxed; d=iol.unh.edu; s=unh-iol; t=1746583513; x=1747188313; darn=dpdk.org; h=references:in-reply-to:cc:to:from:subject:message-id:date:from:to :cc:subject:date:message-id:reply-to; bh=gKZhD/REV4LOBWtuRTwoF+5MKzwLHqLh/83tUlfNgs4=; b=HMeStujSeKbRQjF5u7hwoCfu8aI0ZbKKhBmIy8Qp2/0jMuCvca1ByFQhfH1P3Wnpl0 8lKKian2/jD+9XnQlgo8WTX7ixiXHSjFxVVr9BCSyZ7yaZ0hjgc5LRmtzPk95wFiOmCF UY9oWot5clpYq5OCo+MbDuaYZTBhWEFMlc3w0= X-Google-DKIM-Signature: v=1; a=rsa-sha256; c=relaxed/relaxed; d=1e100.net; s=20230601; t=1746583513; x=1747188313; h=references:in-reply-to:cc:to:from:subject:message-id:date :x-gm-message-state:from:to:cc:subject:date:message-id:reply-to; bh=gKZhD/REV4LOBWtuRTwoF+5MKzwLHqLh/83tUlfNgs4=; b=qSfomc1tg8lkpVxbVI+EOQhjwTih+WYEaqHVpJbVkFN5O2geh8F6aeWflCYuDRJaW3 wHIxVQ0KKIQq0anGiDiiCGih31GjVcrxcO+UTek++6rozcHyWe3szl4g3O27tsjv5lf/ lbT0TrMb3I0TY2+1iBEn59TAmQmgIS3gu+Ep/A3ICruqj6Y8dPEin+qIpOFYigfLb1on 5dsvzSZeNVKM7fPRBnizDUhGrvB/hQl7KxqosiRLNgP7zRVSNZLrv8L9uGiTHKdIntde /mUaxHDr/a1PIfUmQ1HeG7uDkZk0cN5bjNKM+8JvEkLzSlUxBKKS/DqPFOYUD5GeDc1Y kXEw== X-Gm-Message-State: AOJu0YxjgBY2uhXImnrBD/0cteK2cr9BfriKX6YCJCg7EfaxFsDcZfQn ktGIm8/wTcufXRq8IL55k6/n84f2n2cqu77xO4ubNaQ9eyAWozUw2UkieJ5189TF37bqBATmriJ qdA7VE7pFxtNkZnqeHr7TMf+VUMJJVQef1NQ4w/NxL6a4yCt6hDk9ObNK X-Gm-Gg: ASbGncsqFzlr0a75SthuZUpfhfWm1rlY7yN2c08F7vcrhfAsCFPC1d5ctHZc+Wyhou3 w41Cg3h8EleXHvZWoz0GmQZZdZQ/rZcxbl9ixVmgKfVj/ORmYYzx37tX0/uGQAsmH6vW4Kjqoi1 45T50rWyaXMWLLQLNMDdMaRGh2+fGOc7GgNqposTZq3Jnt291RZpf2J4dC7c3hRsoqM6IpWhJMM xBU4ucuoctHTjH7aVXf0EqOD9SvnMqyPJdDCne0rQ77/9+wSnEiGgr/0YpV+cwvJMqll96AcCKC ohBTPICvtuTSOTNvy612AEpUAej5mFum/UrG X-Google-Smtp-Source: AGHT+IHrVFht60gzrKgDxTvOkZ6DcFjghml4pd+xO+3zunoQgJORL7eIZ5eJWAxiL1zFIqgJd5fiolNR4/sQ X-Received: by 2002:a05:6871:2883:b0:2bc:7d6f:fa86 with SMTP id 586e51a60fabf-2db5c146ce3mr1098607fac.35.1746583513585; Tue, 06 May 2025 19:05:13 -0700 (PDT) Received: from postal.iol.unh.edu (postal.iol.unh.edu. [2606:4100:3880:1234::84]) by smtp-relay.gmail.com with ESMTPS id 586e51a60fabf-2db5cc02238sm41500fac.14.2025.05.06.19.05.13 (version=TLS1_2 cipher=ECDHE-ECDSA-AES128-GCM-SHA256 bits=128/128); Tue, 06 May 2025 19:05:13 -0700 (PDT) X-Relaying-Domain: iol.unh.edu Date: Tue, 06 May 2025 19:05:13 -0700 (PDT) Message-ID: <681abfd9.050a0220.15e51b.271dSMTPIN_ADDED_MISSING@mx.google.com> Received: from [172.21.0.5] (unknown [172.18.0.240]) by postal.iol.unh.edu (Postfix) with ESMTP id 05D8A6052471; Tue, 6 May 2025 22:05:13 -0400 (EDT) Subject: |SUCCESS| pw153328-153331 [PATCH] [4/4] bus/pci/bsd: Fix device exis From: dpdklab@iol.unh.edu To: Test Report Cc: dpdk-test-reports@iol.unh.edu In-Reply-To: <20250506174046.1136711-5-jfree@FreeBSD.org> References: <20250506174046.1136711-5-jfree@FreeBSD.org> Content-Type: text/plain X-BeenThere: test-report@dpdk.org X-Mailman-Version: 2.1.29 Precedence: list List-Id: automatic DPDK test reports List-Unsubscribe: , List-Archive: List-Post: List-Help: List-Subscribe: , Errors-To: test-report-bounces@dpdk.org Test-Label: iol-compile-arm64-testing Test-Status: SUCCESS http://dpdk.org/patch/153331 _Testing PASS_ Submitter: Jake Freeland Date: Tuesday, May 06 2025 17:40:44 DPDK git baseline: Repo:dpdk Branch: master CommitID:75f179ebe347b6098cf3af26d3d3b7168fe3fe24 153328-153331 --> testing pass Upstream job id: Generic-DPDK-Compile-Meson#385748 Test environment and result as below: +----------------------------------------+--------------------+ | Environment | dpdk_meson_compile | +========================================+====================+ | RHEL9 (ARM) | PASS | +----------------------------------------+--------------------+ | Ubuntu 20.04 ARM GCC Cross Compile | PASS | +----------------------------------------+--------------------+ | Ubuntu 20.04 ARM SVE | PASS | +----------------------------------------+--------------------+ | Debian 12 with MUSDK | PASS | +----------------------------------------+--------------------+ | Fedora 40 (ARM Clang) | PASS | +----------------------------------------+--------------------+ | Fedora 41 (ARM) | PASS | +----------------------------------------+--------------------+ | Fedora 40 (ARM) | PASS | +----------------------------------------+--------------------+ | Fedora 41 (ARM Clang) | PASS | +----------------------------------------+--------------------+ | Ubuntu 24.04 (ARM) | PASS | +----------------------------------------+--------------------+ | CentOS Stream 9 (ARM) | PASS | +----------------------------------------+--------------------+ | Ubuntu 20.04 (ARM) | PASS | +----------------------------------------+--------------------+ | Ubuntu 22.04 (ARM) | PASS | +----------------------------------------+--------------------+ | Debian 12 (arm) | PASS | +----------------------------------------+--------------------+ | CentOS Stream 10 (ARM) | PASS | +----------------------------------------+--------------------+ | Ubuntu 20.04 ARM Clang Cross Compile | PASS | +----------------------------------------+--------------------+ | Ubuntu 20.04 aarch32 GCC Cross Compile | PASS | +----------------------------------------+--------------------+ RHEL9 (ARM) Kernel: Depends on container host Compiler: gcc 11.5.0 20240719 (Red Hat 11.5.0-2) Ubuntu 20.04 ARM GCC Cross Compile Kernel: Depends on container host Compiler: aarch64-linux-gnu-gcc (Ubuntu 9.4.0-1ubuntu1~20.04.2) 9.4.0 Ubuntu 20.04 ARM SVE Kernel: Depends on container host Compiler: gcc (Ubuntu 10.5.0-1ubuntu1~20.04) 10.5.0 Debian 12 with MUSDK Kernel: Depends on container host Compiler: gcc (Debian 12.2.0-14) 12.2.0 Fedora 40 (ARM Clang) Kernel: Depends on container host Compiler: clang 18.1.8 (Fedora 18.1.8-1.fc40) Fedora 41 (ARM) Kernel: Depends on container host Compiler: gcc 14.2.1 20240912 (Red Hat 14.2.1-3) Fedora 40 (ARM) Kernel: Depends on container host Compiler: gcc 14.2.1 20240912 (Red Hat 14.2.1-3) Fedora 41 (ARM Clang) Kernel: Depends on container host Compiler: clang 19.1.5 (Fedora 19.1.5-1.fc41) Ubuntu 24.04 (ARM) Kernel: Depends on container host Compiler: gcc (Ubuntu 13.3.0-6ubuntu2~24.04) 13.3.0 CentOS Stream 9 (ARM) Kernel: Depends on container host Compiler: gcc 11.5.0 20240719 (Red Hat 11.5.0-2) Ubuntu 20.04 (ARM) Kernel: Depends on container host Compiler: gcc (Ubuntu 9.4.0-1ubuntu1~20.04.2) 9.4.0 Ubuntu 22.04 (ARM) Kernel: Depends on container host Compiler: gcc (Ubuntu 11.4.0-1ubuntu1~22.04) 11.4.0 Debian 12 (arm) Kernel: Depends on container host Compiler: gcc (Debian 12.2.0-14) 12.2.0 CentOS Stream 10 (ARM) Kernel: Depends on container host Compiler: gcc 14.2.1 20241104 (Red Hat 14.2.1-6) Ubuntu 20.04 ARM Clang Cross Compile Kernel: Depends on container host Compiler: clang 10.0.0-4ubuntu1 Ubuntu 20.04 aarch32 GCC Cross Compile Kernel: Depends on container host Compiler: gcc 9.4.0 To view detailed results, visit: https://lab.dpdk.org/results/dashboard/patchsets/33126/ UNH-IOL DPDK Community Lab To manage your email subscriptions, visit: https://lab.dpdk.org/results/dashboard/preferences/subscriptions/