From mboxrd@z Thu Jan 1 00:00:00 1970 Return-Path: Received: from mails.dpdk.org (mails.dpdk.org [217.70.189.124]) by inbox.dpdk.org (Postfix) with ESMTP id 54CC9466E2 for ; Wed, 7 May 2025 04:23:04 +0200 (CEST) Received: from mails.dpdk.org (localhost [127.0.0.1]) by mails.dpdk.org (Postfix) with ESMTP id 4D7AB4025D; Wed, 7 May 2025 04:23:04 +0200 (CEST) Received: from mail-oa1-f100.google.com (mail-oa1-f100.google.com [209.85.160.100]) by mails.dpdk.org (Postfix) with ESMTP id 0542C4025A for ; Wed, 7 May 2025 04:23:03 +0200 (CEST) Received: by mail-oa1-f100.google.com with SMTP id 586e51a60fabf-2da73158006so3355679fac.0 for ; Tue, 06 May 2025 19:23:02 -0700 (PDT) DKIM-Signature: v=1; a=rsa-sha256; c=relaxed/relaxed; d=iol.unh.edu; s=unh-iol; t=1746584582; x=1747189382; darn=dpdk.org; h=references:in-reply-to:cc:to:from:subject:message-id:date:from:to :cc:subject:date:message-id:reply-to; bh=ekjPk+nyKPgc2R/hvtvHfdh8aCBh2FBMwhprA5Aw66M=; b=Symh8bfeFmRsW8Gb746IHk0DNrec4faFIWwLHg9rDrOtVZggbBAUPT9Hl2zVVJx13r Z6k8Qbyv+6h9ho7UcnLrC1dNzSQrTQC8DkD1pUXoBmZmKPR+3cbvYehX6XVchAPgBQRF 8Ebj8DvUqsYPuGrIuXR46WbOkjR6L0KMMgdjM= X-Google-DKIM-Signature: v=1; a=rsa-sha256; c=relaxed/relaxed; d=1e100.net; s=20230601; t=1746584582; x=1747189382; h=references:in-reply-to:cc:to:from:subject:message-id:date :x-gm-message-state:from:to:cc:subject:date:message-id:reply-to; bh=ekjPk+nyKPgc2R/hvtvHfdh8aCBh2FBMwhprA5Aw66M=; b=vZn1HA+vVTqVBd+UTF7B1qYm+VNaoltCvPoN6gJcvNEbDMjL+viwl1VxVUNbYXsJVh xLGnNn/ftVzNsqPOrz9+ac6u5tpsP4GWj5HK3UyizT4kVw6+F8LEvuUKPNCl8I/vVmkN UaUbLeFasl0aWh840VuqpowGBFR3pD0qmpqhWK2xZsvZUauX6fopPB/z6eAkGKYoSf/y 8DAXDHAc29UeqJdQQn4Zf1CvDW6KlLSGVcyFsQHrzXXIX+2UeME5qjIC0pVYBvh4ML9j EK0LSCU/Kss0FVJuzAtlx21KRJue7j1cn6wF3JlknT1SUThJxosOEpkIJYJ5CYnKyVCl VVCw== X-Gm-Message-State: AOJu0YylLHhUeRBfS1XPXFt8uKiR/CBjk6DqNSX4gAz+t+4DOyrxbxSP qe6Rd2j3xM2vC5k4u0130TfvUgSLe3dij5LJy/Y0sEgUa87hF8S8JN0KinrBEqsRF8cJN7SHbkD W3JQbqrgBDEqvbCvMWrTmXPrOemwNjWlwPWzlxpG9 X-Gm-Gg: ASbGncuaZpHHhwVDIwqEJ56T8X5OTxveit8GKhQCkGYTvNXytrla/dHAFc3Lz9EQ2+X +UNeyQyCLFIrSSaBgGzFwFHbzdLu9qv9inQmOkK/562LdZgsu2FQVYvCaCJpLk/+g00Qe2RX4dv hsx0EciNjpwWiR9z2cc9p5+iJM2Oi/iDK6tamxttnNQj82WH1j9azw6CHT8hM7AWmfZCkgodDh2 UqSchHzNne9cPwsTiVQJDc1pXujLDGVYPjwkeNo8cIozO352k1L+ZtyGP39jBQApgIohKeMN+Bh Jg7EsG67SjZYJmxgoVneeMN1xKZ/2REyI5z2wAeKN5P83VbRHlasa+qXHQQ= X-Google-Smtp-Source: AGHT+IGspPyl3aj0UhDNgQHDr6urFXLXmptlxG4GDN2tEzq5WeHY7q+1BtvjkCJ/yMiPjjXqoSLLnmhtWYhw X-Received: by 2002:a05:6871:3329:b0:2d4:d9d6:c8cf with SMTP id 586e51a60fabf-2db5bd9056cmr1061320fac.5.1746584582103; Tue, 06 May 2025 19:23:02 -0700 (PDT) Received: from postal.iol.unh.edu (postal.iol.unh.edu. [132.177.123.84]) by smtp-relay.gmail.com with ESMTPS id 586e51a60fabf-2db5cc02238sm43229fac.14.2025.05.06.19.23.02 (version=TLS1_2 cipher=ECDHE-ECDSA-AES128-GCM-SHA256 bits=128/128); Tue, 06 May 2025 19:23:02 -0700 (PDT) X-Relaying-Domain: iol.unh.edu Date: Tue, 06 May 2025 19:23:02 -0700 (PDT) Message-ID: <681ac406.050a0220.15e51b.288cSMTPIN_ADDED_MISSING@mx.google.com> Received: from [172.21.0.5] (unknown [172.18.0.240]) by postal.iol.unh.edu (Postfix) with ESMTP id 926706052471; Tue, 6 May 2025 22:23:01 -0400 (EDT) Subject: |SUCCESS| pw153327 [PATCH] net/mlx5: fix error notification for larg From: dpdklab@iol.unh.edu To: Test Report Cc: dpdk-test-reports@iol.unh.edu In-Reply-To: <20250506133206.379993-1-getelson@nvidia.com> References: <20250506133206.379993-1-getelson@nvidia.com> Content-Type: text/plain X-BeenThere: test-report@dpdk.org X-Mailman-Version: 2.1.29 Precedence: list List-Id: automatic DPDK test reports List-Unsubscribe: , List-Archive: List-Post: List-Help: List-Subscribe: , Errors-To: test-report-bounces@dpdk.org Test-Label: iol-unit-arm64-testing Test-Status: SUCCESS http://dpdk.org/patch/153327 _Testing PASS_ Submitter: Gregory Etelson Date: Tuesday, May 06 2025 13:31:51 DPDK git baseline: Repo:dpdk Branch: master CommitID:edd3f4b1265e6da707c46ca9b6c39d332647baea 153327 --> testing pass Upstream job id: Aarch32-Unit-Test#6156 Test environment and result as below: +-----------------------------+----------------+---------------------------+--------------+------------------------------+ | Environment | dpdk_unit_test | cryptodev_sw_zuc_autotest | lpm_autotest | cryptodev_sw_snow3g_autotest | +=============================+================+===========================+==============+==============================+ | CentOS Stream 9 (ARM) | PASS | SKIPPED | SKIPPED | SKIPPED | +-----------------------------+----------------+---------------------------+--------------+------------------------------+ | Fedora 40 (ARM Clang) | PASS | SKIPPED | SKIPPED | SKIPPED | +-----------------------------+----------------+---------------------------+--------------+------------------------------+ | CentOS Stream 10 (ARM) | PASS | SKIPPED | SKIPPED | SKIPPED | +-----------------------------+----------------+---------------------------+--------------+------------------------------+ | Fedora 40 (ARM) | PASS | SKIPPED | SKIPPED | SKIPPED | +-----------------------------+----------------+---------------------------+--------------+------------------------------+ | Fedora 41 (ARM Clang) | PASS | SKIPPED | SKIPPED | SKIPPED | +-----------------------------+----------------+---------------------------+--------------+------------------------------+ | Fedora 41 (ARM) | PASS | SKIPPED | SKIPPED | SKIPPED | +-----------------------------+----------------+---------------------------+--------------+------------------------------+ | Ubuntu 20.04 (ARM) | PASS | SKIPPED | SKIPPED | SKIPPED | +-----------------------------+----------------+---------------------------+--------------+------------------------------+ | RHEL9 (ARM) | PASS | SKIPPED | SKIPPED | SKIPPED | +-----------------------------+----------------+---------------------------+--------------+------------------------------+ | Ubuntu 24.04 (ARM) | PASS | SKIPPED | SKIPPED | SKIPPED | +-----------------------------+----------------+---------------------------+--------------+------------------------------+ | Ubuntu 22.04 (ARM) | PASS | SKIPPED | SKIPPED | SKIPPED | +-----------------------------+----------------+---------------------------+--------------+------------------------------+ | Debian 12 (arm) | PASS | PASS | SKIPPED | PASS | +-----------------------------+----------------+---------------------------+--------------+------------------------------+ | 32-bit Ubuntu 22.04.4 (ARM) | PASS | SKIPPED | SKIPPED | SKIPPED | +-----------------------------+----------------+---------------------------+--------------+------------------------------+ | Ubuntu 20.04 ARM SVE | SKIPPED | SKIPPED | PASS | SKIPPED | +-----------------------------+----------------+---------------------------+--------------+------------------------------+ CentOS Stream 9 (ARM) Kernel: Depends on container host Compiler: gcc 11.5.0 20240719 (Red Hat 11.5.0-2) Fedora 40 (ARM Clang) Kernel: Depends on container host Compiler: clang 18.1.8 (Fedora 18.1.8-1.fc40) CentOS Stream 10 (ARM) Kernel: Depends on container host Compiler: gcc 14.2.1 20241104 (Red Hat 14.2.1-6) Fedora 40 (ARM) Kernel: Depends on container host Compiler: gcc 14.2.1 20240912 (Red Hat 14.2.1-3) Fedora 41 (ARM Clang) Kernel: Depends on container host Compiler: clang 19.1.5 (Fedora 19.1.5-1.fc41) Fedora 41 (ARM) Kernel: Depends on container host Compiler: gcc 14.2.1 20240912 (Red Hat 14.2.1-3) Ubuntu 20.04 (ARM) Kernel: Depends on container host Compiler: gcc (Ubuntu 9.4.0-1ubuntu1~20.04.2) 9.4.0 RHEL9 (ARM) Kernel: Depends on container host Compiler: gcc 11.5.0 20240719 (Red Hat 11.5.0-2) Ubuntu 24.04 (ARM) Kernel: Depends on container host Compiler: gcc (Ubuntu 13.3.0-6ubuntu2~24.04) 13.3.0 Ubuntu 22.04 (ARM) Kernel: Depends on container host Compiler: gcc (Ubuntu 11.4.0-1ubuntu1~22.04) 11.4.0 Debian 12 (arm) Kernel: Depends on container host Compiler: gcc (Debian 12.2.0-14) 12.2.0 32-bit Ubuntu 22.04.4 (ARM) Kernel: 5.15.83+ aarch64 Compiler: gcc (Ubuntu 11.4.0-1ubuntu1~22.04) 11.4.0 Ubuntu 20.04 ARM SVE Kernel: Depends on container host Compiler: gcc (Ubuntu 10.5.0-1ubuntu1~20.04) 10.5.0 To view detailed results, visit: https://lab.dpdk.org/results/dashboard/patchsets/33125/ UNH-IOL DPDK Community Lab To manage your email subscriptions, visit: https://lab.dpdk.org/results/dashboard/preferences/subscriptions/