From mboxrd@z Thu Jan 1 00:00:00 1970 Return-Path: Received: from mails.dpdk.org (mails.dpdk.org [217.70.189.124]) by inbox.dpdk.org (Postfix) with ESMTP id 25C1F466E2 for ; Wed, 7 May 2025 04:40:53 +0200 (CEST) Received: from mails.dpdk.org (localhost [127.0.0.1]) by mails.dpdk.org (Postfix) with ESMTP id EFEF74025D; Wed, 7 May 2025 04:40:52 +0200 (CEST) Received: from mail-pg1-f228.google.com (mail-pg1-f228.google.com [209.85.215.228]) by mails.dpdk.org (Postfix) with ESMTP id D4D3E4025A for ; Wed, 7 May 2025 04:40:51 +0200 (CEST) Received: by mail-pg1-f228.google.com with SMTP id 41be03b00d2f7-af6a315b491so5783921a12.1 for ; Tue, 06 May 2025 19:40:51 -0700 (PDT) DKIM-Signature: v=1; a=rsa-sha256; c=relaxed/relaxed; d=iol.unh.edu; s=unh-iol; t=1746585651; x=1747190451; darn=dpdk.org; h=references:in-reply-to:cc:to:from:subject:message-id:date:from:to :cc:subject:date:message-id:reply-to; bh=9HMLmJCecv/m0CL6Aoct1gNo7uFFynXMFXQR7QJSDVs=; b=XoBm7S+CNOmax+aaOjM+9K+bGivP4QsaQnpgZ4Y1Oz0ynYnE7h4fMyGxjOUcHgB5Ll nlel949GVQJ0DmXaCTy66/X4bVyGlcRQJU9jSR68/S0drZAVu18tyLrjmDzk3FGOgb0k vKD/eHsZffp1157/Uqv4J9nzXkxNAcajOyDWk= X-Google-DKIM-Signature: v=1; a=rsa-sha256; c=relaxed/relaxed; d=1e100.net; s=20230601; t=1746585651; x=1747190451; h=references:in-reply-to:cc:to:from:subject:message-id:date :x-gm-message-state:from:to:cc:subject:date:message-id:reply-to; bh=9HMLmJCecv/m0CL6Aoct1gNo7uFFynXMFXQR7QJSDVs=; b=ZzWY9vbDWUJvW5+0PKc3Y4wUZNZA3xBcRD4E9WjInk0CvJj8v4IgtdWj1wSM5HJury cGbW9jTCh1AlELrQsSUP/jJUuxLc0sJZSEYY/rl+1kVXP+zYhg1JlakJbPaWw38/F71m romJnjzYQWLoX1+Ar+1qL2Y61qQqeej5HoJo4Vci16HJ9udtyzzFRzQAEAKKI+mbFA7g kmW7jA0xMbAtMoPeWB91PsHVfhTqsd09dUA7dXsukjNcFAKDJPwafV4R2kTIIiKfvsuJ b33ny6cSxLvIryRoxf5quEDlXxcdue+h40TtrHD8S/SBPLpLw434e6/OTPcHkQaYnsxp I5MA== X-Gm-Message-State: AOJu0YzvlPRRDiGArMJnpsLskyNoJsa6lfmN7XeoTxWFlmYE9l/mxev4 sj8656S1pdz53lH9D6Ze+dm8ZGQWmraw5nGxQPtIQ/9hONcK5CO1FD6jSo0oI3dOf6c25kN7/kJ f2Q7qI9EYq/xJIjw++GS/cuOSPLqDEEMmCdVzsgL+ X-Gm-Gg: ASbGncvGaKxwvfP1TL22CM+Lw32ovyQQVIJX/4lz7b/cKSHQ4/AEciWbpy7/p+qWgcn Bsn1X2SBTzvMVSy2l8fw2v6gq03Domw3n8pEwTCii91EcLQ7jKxCPVG1Y5AsP2BlA5c+3UJBa5E DIIML5PCEg2Y9RbStvZLYQSYc9Yze2wdojzR8jVhST7Z1ccpTxIkqmF9aGZz2XuS6VukG6J0y6+ v0NLjxdLx91u2jkMTbPyK5WQ/6gkC3Aamc3z/gLs/JRm5ZMARh68q26vCTW1VRh6P77a9EIWmY+ VqM4i3gRDtDIQ3PbvwLoskrUK4aUjMiN/iqk3hOjUcdfXbYLBIPUfqEAOdI= X-Google-Smtp-Source: AGHT+IFxG3UNKeyzCjuLfG+GFkZhkL2KhncsKQgX1/hEDdqTk5np3E5JlY+iHwZufs5Udtt0zctIdt4oW81S X-Received: by 2002:a17:90b:3849:b0:2ee:df70:1ff3 with SMTP id 98e67ed59e1d1-30aac092c73mr2975529a91.0.1746585650802; Tue, 06 May 2025 19:40:50 -0700 (PDT) Received: from postal.iol.unh.edu (postal.iol.unh.edu. [132.177.123.84]) by smtp-relay.gmail.com with ESMTPS id 98e67ed59e1d1-30aae4fffadsm49910a91.2.2025.05.06.19.40.50 (version=TLS1_2 cipher=ECDHE-ECDSA-AES128-GCM-SHA256 bits=128/128); Tue, 06 May 2025 19:40:50 -0700 (PDT) X-Relaying-Domain: iol.unh.edu Date: Tue, 06 May 2025 19:40:50 -0700 (PDT) Message-ID: <681ac832.170a0220.201af5.2dcaSMTPIN_ADDED_MISSING@mx.google.com> Received: from [172.17.0.4] (unknown [172.18.0.74]) by postal.iol.unh.edu (Postfix) with ESMTP id F3B1B6052471; Tue, 6 May 2025 22:40:49 -0400 (EDT) Subject: |SUCCESS| pw153332 [PATCH] kernel/freebsd: Allow contigmem allocatio From: dpdklab@iol.unh.edu To: Test Report Cc: dpdk-test-reports@iol.unh.edu In-Reply-To: <20250506174941.1141140-1-jfree@FreeBSD.org> References: <20250506174941.1141140-1-jfree@FreeBSD.org> Content-Type: text/plain X-BeenThere: test-report@dpdk.org X-Mailman-Version: 2.1.29 Precedence: list List-Id: automatic DPDK test reports List-Unsubscribe: , List-Archive: List-Post: List-Help: List-Subscribe: , Errors-To: test-report-bounces@dpdk.org Test-Label: iol-sample-apps-testing Test-Status: SUCCESS http://dpdk.org/patch/153332 _Testing PASS_ Submitter: Jake Freeland Date: Tuesday, May 06 2025 17:48:38 DPDK git baseline: Repo:dpdk Branch: master CommitID:75f179ebe347b6098cf3af26d3d3b7168fe3fe24 153332 --> testing pass Upstream job id: ACVP-FIPS-testing#9731 Test environment and result as below: +--------------------+----------------------+----------------------+ | Environment | compressdev_zlib_pmd | dpdk_fips_validation | +====================+======================+======================+ | Ubuntu 22.04 (ARM) | PASS | SKIPPED | +--------------------+----------------------+----------------------+ | Ubuntu 22.04 | PASS | SKIPPED | +--------------------+----------------------+----------------------+ | Ubuntu 20.04 | SKIPPED | PASS | +--------------------+----------------------+----------------------+ Ubuntu 22.04 (ARM) Kernel: 5.15.0-97-generic Compiler: gcc gcc (Ubuntu 11.4.0-1ubuntu1~22.04) 11.4.0 Ubuntu 22.04 Kernel: 5.15.0-100-generic Compiler: gcc gcc (Ubuntu 11.4.0-1ubuntu1~22.04) 11.4.0 Ubuntu 20.04 Kernel: Depends on container host Compiler: gcc (Ubuntu 9.4.0-1ubuntu1~20.04.2) 9.4.0 To view detailed results, visit: https://lab.dpdk.org/results/dashboard/patchsets/33127/ UNH-IOL DPDK Community Lab To manage your email subscriptions, visit: https://lab.dpdk.org/results/dashboard/preferences/subscriptions/