From mboxrd@z Thu Jan 1 00:00:00 1970 Return-Path: Received: from mails.dpdk.org (mails.dpdk.org [217.70.189.124]) by inbox.dpdk.org (Postfix) with ESMTP id 1176C466E2 for ; Wed, 7 May 2025 04:49:45 +0200 (CEST) Received: from mails.dpdk.org (localhost [127.0.0.1]) by mails.dpdk.org (Postfix) with ESMTP id 0C1684025D; Wed, 7 May 2025 04:49:45 +0200 (CEST) Received: from mail-il1-f228.google.com (mail-il1-f228.google.com [209.85.166.228]) by mails.dpdk.org (Postfix) with ESMTP id E1A804025A for ; Wed, 7 May 2025 04:49:43 +0200 (CEST) Received: by mail-il1-f228.google.com with SMTP id e9e14a558f8ab-3d965c64d53so23523485ab.1 for ; Tue, 06 May 2025 19:49:43 -0700 (PDT) DKIM-Signature: v=1; a=rsa-sha256; c=relaxed/relaxed; d=iol.unh.edu; s=unh-iol; t=1746586183; x=1747190983; darn=dpdk.org; h=references:in-reply-to:cc:to:from:subject:message-id:date:from:to :cc:subject:date:message-id:reply-to; bh=7xqPZOb20gbkjCofoMevYD5ZH5dFl7//t/pWB0SzY+U=; b=U5UOSWDMCJCIKBQ96Krf5+CBxYapOvdbE4SOtV9A+cbnSlfgT1pV0/Etr1bF/GhbTG Iy4AAehlVBkvyroKPh6bC8aw920j+Rn6cypcdS/XMayl6Hp1pSErtXcY4J1Oo7Sz1g9F Mk4OfKLv+8a1xYAcqqdizQ5qncmlUxj6ykZjQ= X-Google-DKIM-Signature: v=1; a=rsa-sha256; c=relaxed/relaxed; d=1e100.net; s=20230601; t=1746586183; x=1747190983; h=references:in-reply-to:cc:to:from:subject:message-id:date :x-gm-message-state:from:to:cc:subject:date:message-id:reply-to; bh=7xqPZOb20gbkjCofoMevYD5ZH5dFl7//t/pWB0SzY+U=; b=OLwDggvTHOwyLWjEtpzEMrAqOwG5pRorGCAdWnrbpFV6l2yO3agcPvzRbFJ4+ipnEB 5ObYnbihyRhiH8c2/GOSVHSmjraKNycfzxksJfDDJFQ0gcGGzEXTQQpkptfUYKuiyict 1dzRZCApIRN+H1ax3cGaYIjBr6kNtabrd9cNwP2ZGS9zGJp0orVx69WuPe/VCNS4/7N0 LuAgRl85h7ninfU6XubiscBQrf0YlLej8nUw9A5SAN/rRjZkVzVDar08uIg1JwhMdDNX +Q+uo9QswspY/3iPMy/kQmggIBzgpHLQko7KPwbR4pgvOMVA092JpSZ17SXY/Ra5QQuP qFZw== X-Gm-Message-State: AOJu0YyoeGfFP918sGhcSU4OGyq9ih9G/V6lC67CIxdhw8IAxZnCLd09 gQ44rr4IT0faysr6yHI12X6JDoGcFytgL++PidyJTl9CukVqQtUSX1eMR813Ywy4LjqGqXBBN+a j+HeA+O1e9UhNKwxlBnRltEdPoxiKiR/uZRnJT8niZPo8tJB7ra0LIl44 X-Gm-Gg: ASbGncvk5K11A55l27OC7/umFxt4/KmNsHS+ua+g/nuCqTQUXItxzWPn/csbZry9iRB 8/QobJauDLxofMVIXBSbB7yUQYmcPT67DbbLnBSDf734X26TicigeojrTQ7gnBcfZkx2Y5XLNka w6aWibS31W/5y7Iaz8+/sDrdPPNYDIuimc3jCRHDi8xDXMstT3psVAtkkYHyitr+pshuv3J3HAy TZlC5h+86GCeNdhbgl0lhDd0Dnpa2qV5mws8apwHaEWZc9UP6Zw8GuN8M/gan8GaVztq8IGQlXC rxSmNKRnFIv9s+i+UUjYUoN+QfOdG8i8QtWB X-Google-Smtp-Source: AGHT+IHAY6coEc5vcYfekC+BJkMfLU5fTYE0t7DtX6uldkMh6rJ3qAFQRogH+ToWgjBYP+AwpkXanTRzwkL1 X-Received: by 2002:a05:6e02:156f:b0:3d8:1d7c:e190 with SMTP id e9e14a558f8ab-3da738ef036mr16387105ab.7.1746586183169; Tue, 06 May 2025 19:49:43 -0700 (PDT) Received: from postal.iol.unh.edu (postal.iol.unh.edu. [2606:4100:3880:1234::84]) by smtp-relay.gmail.com with ESMTPS id 8926c6da1cb9f-4f88a9401a1sm2156549173.42.2025.05.06.19.49.43 (version=TLS1_2 cipher=ECDHE-ECDSA-AES128-GCM-SHA256 bits=128/128); Tue, 06 May 2025 19:49:43 -0700 (PDT) X-Relaying-Domain: iol.unh.edu Date: Tue, 06 May 2025 19:49:43 -0700 (PDT) Message-ID: <681aca47.050a0220.39d4ab.c26bSMTPIN_ADDED_MISSING@mx.google.com> Received: from [172.17.0.4] (unknown [172.18.0.74]) by postal.iol.unh.edu (Postfix) with ESMTP id A59296052471; Tue, 6 May 2025 22:49:42 -0400 (EDT) Subject: |SUCCESS| pw153328-153331 [PATCH] [4/4] bus/pci/bsd: Fix device exis From: dpdklab@iol.unh.edu To: Test Report Cc: dpdk-test-reports@iol.unh.edu In-Reply-To: <20250506174046.1136711-5-jfree@FreeBSD.org> References: <20250506174046.1136711-5-jfree@FreeBSD.org> Content-Type: text/plain X-BeenThere: test-report@dpdk.org X-Mailman-Version: 2.1.29 Precedence: list List-Id: automatic DPDK test reports List-Unsubscribe: , List-Archive: List-Post: List-Help: List-Subscribe: , Errors-To: test-report-bounces@dpdk.org Test-Label: iol-unit-amd64-testing Test-Status: SUCCESS http://dpdk.org/patch/153331 _Testing PASS_ Submitter: Jake Freeland Date: Tuesday, May 06 2025 17:40:44 DPDK git baseline: Repo:dpdk Branch: master CommitID:75f179ebe347b6098cf3af26d3d3b7168fe3fe24 153328-153331 --> testing pass Upstream job id: Generic-VM-Unit-Test-DPDK#28365 Test environment and result as below: +---------------------+----------------+ | Environment | dpdk_unit_test | +=====================+================+ | CentOS Stream 9 | PASS | +---------------------+----------------+ | Fedora 40 | PASS | +---------------------+----------------+ | Debian 12 | PASS | +---------------------+----------------+ | CentOS Stream 10 | PASS | +---------------------+----------------+ | Fedora 41 | PASS | +---------------------+----------------+ | Ubuntu 20.04 | PASS | +---------------------+----------------+ | Fedora 40 (Clang) | PASS | +---------------------+----------------+ | Ubuntu 24.04 | PASS | +---------------------+----------------+ | Fedora 41 (Clang) | PASS | +---------------------+----------------+ | RHEL9 | PASS | +---------------------+----------------+ | RHEL8 | PASS | +---------------------+----------------+ | Ubuntu 22.04 | PASS | +---------------------+----------------+ | Windows Server 2022 | PASS | +---------------------+----------------+ CentOS Stream 9 Kernel: Depends on container host Compiler: gcc 11.5.0 20240719 (Red Hat 11.5.0-2) Fedora 40 Kernel: Depends on container host Compiler: gcc 14.2.1 20240912 (Red Hat 14.2.1-3) Debian 12 Kernel: Depends on container host Compiler: gcc (Debian 12.2.0-14) 12.2.0 CentOS Stream 10 Kernel: Depends on container host Compiler: gcc 14.2.1 20241104 (Red Hat 14.2.1-6) Fedora 41 Kernel: Depends on container host Compiler: gcc 14.2.1 20240912 (Red Hat 14.2.1-3) Ubuntu 20.04 Kernel: Depends on container host Compiler: gcc (Ubuntu 9.4.0-1ubuntu1~20.04.2) 9.4.0 Fedora 40 (Clang) Kernel: Depends on container host Compiler: clang 18.1.8 (Fedora 18.1.8-1.fc40) Ubuntu 24.04 Kernel: Depends on container host Compiler: gcc (Ubuntu 13.3.0-6ubuntu2~24.04) 13.3.0 Fedora 41 (Clang) Kernel: Depends on container host Compiler: clang 19.1.5 (Fedora 19.1.5-1.fc41) RHEL9 Kernel: Depends on container host Compiler: gcc 11.5.0 20240719 (Red Hat 11.5.0-2) RHEL8 Kernel: Depends on container host Compiler: gcc 8.5.0 20210514 (Red Hat 8.5.0-22) Ubuntu 22.04 Kernel: Depends on container host Compiler: gcc (Ubuntu 11.4.0-1ubuntu1~22.04) 11.4.0 Windows Server 2022 Kernel: 10.0.20348.2031 Compiler: clang 15.0.7, gcc 14.1.0 (MinGW), and MSVC VS 19.39.33521 To view detailed results, visit: https://lab.dpdk.org/results/dashboard/patchsets/33126/ UNH-IOL DPDK Community Lab To manage your email subscriptions, visit: https://lab.dpdk.org/results/dashboard/preferences/subscriptions/