From mboxrd@z Thu Jan 1 00:00:00 1970 Return-Path: Received: from mails.dpdk.org (mails.dpdk.org [217.70.189.124]) by inbox.dpdk.org (Postfix) with ESMTP id 1004B466E2 for ; Wed, 7 May 2025 04:58:54 +0200 (CEST) Received: from mails.dpdk.org (localhost [127.0.0.1]) by mails.dpdk.org (Postfix) with ESMTP id DA51F4025D; Wed, 7 May 2025 04:58:53 +0200 (CEST) Received: from mail-oa1-f98.google.com (mail-oa1-f98.google.com [209.85.160.98]) by mails.dpdk.org (Postfix) with ESMTP id 6AF744025D for ; Wed, 7 May 2025 04:58:52 +0200 (CEST) Received: by mail-oa1-f98.google.com with SMTP id 586e51a60fabf-2da3b3bb560so3973497fac.3 for ; Tue, 06 May 2025 19:58:52 -0700 (PDT) DKIM-Signature: v=1; a=rsa-sha256; c=relaxed/relaxed; d=iol.unh.edu; s=unh-iol; t=1746586731; x=1747191531; darn=dpdk.org; h=references:in-reply-to:cc:to:from:subject:message-id:date:from:to :cc:subject:date:message-id:reply-to; bh=HaacG6kmWD41ty5ZFss8wxcbnytos1n6hds69+q0WL0=; b=a0KgQl71hhqGJ14N9nDBL61mBcOzhLv0GfbxOfdVRTRKGIahvv+bYgJSedfAcxenhi r+cBUMuNDgoXjHdNktZSYWa95Hm6+BvhY0Ii4luhi+H5xijZuFPDPY8kGz4ytWoZYlr8 U8K1MexdqaPLGcRyrnA6M9a6aPuncLkNwLVcc= X-Google-DKIM-Signature: v=1; a=rsa-sha256; c=relaxed/relaxed; d=1e100.net; s=20230601; t=1746586731; x=1747191531; h=references:in-reply-to:cc:to:from:subject:message-id:date :x-gm-message-state:from:to:cc:subject:date:message-id:reply-to; bh=HaacG6kmWD41ty5ZFss8wxcbnytos1n6hds69+q0WL0=; b=hvvqYZOTTzdGtBwwTuXTlzIz7RqA4D2W0jnKkRozoSKcRDDYMOjoWcExDXAQmKeg39 x5zWa0OuUsm8a1vLP3yhM45OHT5GzH9cikNrWh+9IyXHLU4NNnRxchbwr5GShXwT0dcp os51PGyxsbQo1CDpI0Mhg47C0p32nxAEmx4Y0vP/xIwRpgTfYH0n/eucc+JPPrzaYjA9 YyUwxjb8iKNH7DwlGqjimXvMu+d4cJf1XDhBrfzGLslc13Jc4BghojPktSFjc6ipuhG9 GTKHfNL4RANPeaKZI248LYDxrzRoytryaY4RNUVXOepzuQkSH4JBXM0UZQFNwG3IG2uP +a8g== X-Gm-Message-State: AOJu0Yw8sLnGN5ke8Q6TdTNdDmf83X4aLHiB+TbX+Jc8oNoduYXEXnWO n4bysTEwp31vF3LYz6muC8fDcRY81Fz8LcoDmMReSVftqhqbc6F1cX1vk7MbR5lyI9g9w8G1JNT 8lxV4ofTRAgtKgA5F6wfmbh+IK/bt3jzFvqFe2wRxKyt36d6CBdbViCop X-Gm-Gg: ASbGncup3rfRWALzrizFlagLDAnjpgPkHpIElOKgawitrOVB8oTFgLPUrRX5uqvb3O1 KPQyQf/sc8qpxvYVbWxBnNzSooxBzu8HlNHQhuaiQF1Enmow/BwZ3fWv8tq8xDSi7A7VcEFEqjy FEPkiRkx90jPXrCBJ9B5jymjHdCf7WUuRzXwLBF/5RGnTp4vCkXPtkJVfQbna2WrGMLXc7IHTnC i0AoG82T1hRDoPhTWgjr9ufAUF3XebOOGc1we7vY80z5K+b44TZxA3G5dhIQRuU1CXcYYFPnCEZ grAhzyJkXBhMTt7Fvoc+9XcRX26KIxZlHEmF X-Google-Smtp-Source: AGHT+IGosrMprTks2o2HYKcGzrVyEm8sFr7LakuwHiPFFNpksR0zqmerLHku+bzh5VF0ZGTQacRSKGKg4BIt X-Received: by 2002:a05:687c:2191:b0:2d4:ddf9:e5f5 with SMTP id 586e51a60fabf-2db5bd9944amr1033075fac.7.1746586731621; Tue, 06 May 2025 19:58:51 -0700 (PDT) Received: from postal.iol.unh.edu (postal.iol.unh.edu. [2606:4100:3880:1234::84]) by smtp-relay.gmail.com with ESMTPS id 586e51a60fabf-2db5d0d1323sm41773fac.33.2025.05.06.19.58.51 (version=TLS1_2 cipher=ECDHE-ECDSA-AES128-GCM-SHA256 bits=128/128); Tue, 06 May 2025 19:58:51 -0700 (PDT) X-Relaying-Domain: iol.unh.edu Date: Tue, 06 May 2025 19:58:51 -0700 (PDT) Message-ID: <681acc6b.050a0220.a100f.2637SMTPIN_ADDED_MISSING@mx.google.com> Received: from [172.17.0.3] (unknown [172.18.0.76]) by postal.iol.unh.edu (Postfix) with ESMTP id 177CF6052471; Tue, 6 May 2025 22:58:51 -0400 (EDT) Subject: |SUCCESS| pw153327 [PATCH] net/mlx5: fix error notification for larg From: dpdklab@iol.unh.edu To: Test Report Cc: dpdk-test-reports@iol.unh.edu In-Reply-To: <20250506133206.379993-1-getelson@nvidia.com> References: <20250506133206.379993-1-getelson@nvidia.com> Content-Type: text/plain X-BeenThere: test-report@dpdk.org X-Mailman-Version: 2.1.29 Precedence: list List-Id: automatic DPDK test reports List-Unsubscribe: , List-Archive: List-Post: List-Help: List-Subscribe: , Errors-To: test-report-bounces@dpdk.org Test-Label: iol-compile-amd64-testing Test-Status: SUCCESS http://dpdk.org/patch/153327 _Testing PASS_ Submitter: Gregory Etelson Date: Tuesday, May 06 2025 13:31:51 DPDK git baseline: Repo:dpdk Branch: master CommitID:edd3f4b1265e6da707c46ca9b6c39d332647baea 153327 --> testing pass Upstream job id: Generic-DPDK-Compile-Meson#385801 Test environment and result as below: +-----------------------------------+--------------------+-------------------+------------------+-------------------+ | Environment | dpdk_meson_compile | dpdk_compile_spdk | dpdk_compile_ovs | dpdk_msvc_compile | +===================================+====================+===================+==================+===================+ | CentOS Stream 9 | PASS | PASS | SKIPPED | SKIPPED | +-----------------------------------+--------------------+-------------------+------------------+-------------------+ | CentOS Stream 10 | PASS | SKIPPED | SKIPPED | SKIPPED | +-----------------------------------+--------------------+-------------------+------------------+-------------------+ | Debian 12 | PASS | PASS | SKIPPED | SKIPPED | +-----------------------------------+--------------------+-------------------+------------------+-------------------+ | Fedora 40 (Clang) | PASS | PASS | SKIPPED | SKIPPED | +-----------------------------------+--------------------+-------------------+------------------+-------------------+ | Fedora 40 | PASS | PASS | SKIPPED | SKIPPED | +-----------------------------------+--------------------+-------------------+------------------+-------------------+ | openSUSE Leap 15 | PASS | SKIPPED | SKIPPED | SKIPPED | +-----------------------------------+--------------------+-------------------+------------------+-------------------+ | Fedora 41 (Clang) | PASS | PASS | PASS | SKIPPED | +-----------------------------------+--------------------+-------------------+------------------+-------------------+ | Fedora 41 | PASS | PASS | PASS | SKIPPED | +-----------------------------------+--------------------+-------------------+------------------+-------------------+ | Ubuntu 20.04 | PASS | SKIPPED | SKIPPED | SKIPPED | +-----------------------------------+--------------------+-------------------+------------------+-------------------+ | RHEL9 | PASS | SKIPPED | SKIPPED | SKIPPED | +-----------------------------------+--------------------+-------------------+------------------+-------------------+ | RHEL8 | PASS | SKIPPED | SKIPPED | SKIPPED | +-----------------------------------+--------------------+-------------------+------------------+-------------------+ | Ubuntu 22.04 | PASS | PASS | SKIPPED | SKIPPED | +-----------------------------------+--------------------+-------------------+------------------+-------------------+ | Ubuntu 24.04 | PASS | PASS | PASS | SKIPPED | +-----------------------------------+--------------------+-------------------+------------------+-------------------+ | Ubuntu 24.04 32 Bit Cross Compile | PASS | SKIPPED | SKIPPED | SKIPPED | +-----------------------------------+--------------------+-------------------+------------------+-------------------+ | Alpine | PASS | SKIPPED | SKIPPED | SKIPPED | +-----------------------------------+--------------------+-------------------+------------------+-------------------+ | FreeBSD 13.5 | PASS | SKIPPED | SKIPPED | SKIPPED | +-----------------------------------+--------------------+-------------------+------------------+-------------------+ | FreeBSD 14.2 | PASS | SKIPPED | SKIPPED | SKIPPED | +-----------------------------------+--------------------+-------------------+------------------+-------------------+ | Windows Server 2022 | SKIPPED | SKIPPED | SKIPPED | PASS | +-----------------------------------+--------------------+-------------------+------------------+-------------------+ CentOS Stream 9 Kernel: Depends on container host Compiler: gcc 11.5.0 20240719 (Red Hat 11.5.0-2) CentOS Stream 10 Kernel: Depends on container host Compiler: gcc 14.2.1 20241104 (Red Hat 14.2.1-6) Debian 12 Kernel: Depends on container host Compiler: gcc (Debian 12.2.0-14) 12.2.0 Fedora 40 (Clang) Kernel: Depends on container host Compiler: clang 18.1.8 (Fedora 18.1.8-1.fc40) Fedora 40 Kernel: Depends on container host Compiler: gcc 14.2.1 20240912 (Red Hat 14.2.1-3) openSUSE Leap 15 Kernel: Depends on container host Compiler: gcc (SUSE Linux) 7.5.0 Fedora 41 (Clang) Kernel: Depends on container host Compiler: clang 19.1.5 (Fedora 19.1.5-1.fc41) Fedora 41 Kernel: Depends on container host Compiler: gcc 14.2.1 20240912 (Red Hat 14.2.1-3) Ubuntu 20.04 Kernel: Depends on container host Compiler: gcc (Ubuntu 9.4.0-1ubuntu1~20.04.2) 9.4.0 RHEL9 Kernel: Depends on container host Compiler: gcc 11.5.0 20240719 (Red Hat 11.5.0-2) RHEL8 Kernel: Depends on container host Compiler: gcc 8.5.0 20210514 (Red Hat 8.5.0-22) Ubuntu 22.04 Kernel: Depends on container host Compiler: gcc (Ubuntu 11.4.0-1ubuntu1~22.04) 11.4.0 Ubuntu 24.04 Kernel: Depends on container host Compiler: gcc (Ubuntu 13.3.0-6ubuntu2~24.04) 13.3.0 Ubuntu 24.04 32 Bit Cross Compile Kernel: Depends on container host Compiler: gcc (Ubuntu 13.3.0-6ubuntu2~24.04) 13.3.0 Alpine Kernel: Depends on container host Compiler: gcc (Alpine 14.2.0) 14.2.0 FreeBSD 13.5 Kernel: 13.5-RELEASE Compiler: clang 19.1.7 FreeBSD 14.2 Kernel: 14.2-RELEASE Compiler: clang 18.1.6 Windows Server 2022 Kernel: 10.0.20348.2031 Compiler: clang 15.0.7, gcc 14.1.0 (MinGW), and MSVC VS 19.39.33521 To view detailed results, visit: https://lab.dpdk.org/results/dashboard/patchsets/33125/ UNH-IOL DPDK Community Lab To manage your email subscriptions, visit: https://lab.dpdk.org/results/dashboard/preferences/subscriptions/