From mboxrd@z Thu Jan 1 00:00:00 1970 Return-Path: Received: from mails.dpdk.org (mails.dpdk.org [217.70.189.124]) by inbox.dpdk.org (Postfix) with ESMTP id BA2AB466E2 for ; Wed, 7 May 2025 05:04:14 +0200 (CEST) Received: from mails.dpdk.org (localhost [127.0.0.1]) by mails.dpdk.org (Postfix) with ESMTP id 8A5B44025D; Wed, 7 May 2025 05:04:14 +0200 (CEST) Received: from mail-io1-f98.google.com (mail-io1-f98.google.com [209.85.166.98]) by mails.dpdk.org (Postfix) with ESMTP id 400AC4025A for ; Wed, 7 May 2025 05:04:13 +0200 (CEST) Received: by mail-io1-f98.google.com with SMTP id ca18e2360f4ac-861b1f04b99so220307239f.0 for ; Tue, 06 May 2025 20:04:13 -0700 (PDT) DKIM-Signature: v=1; a=rsa-sha256; c=relaxed/relaxed; d=iol.unh.edu; s=unh-iol; t=1746587052; x=1747191852; darn=dpdk.org; h=references:in-reply-to:cc:to:from:subject:message-id:date:from:to :cc:subject:date:message-id:reply-to; bh=kJpbbN1tGXIZRXqBWpqdGkS8uhGlSEQf3JDODIuzh0c=; b=C/KjYmCZAr7elKNgbSyeyYDynV48tnjXQybAOex/M5wIwGKnktDSpX++QOPQW110R/ gaSaut+mdxxWYdtW9hGli3yKEbgcxxoGDzzSnvqR8f+0jRIJvIQ1YkG7NK8OHJh+Tnph ECP1/cq/L7VPZTJYcRhg/SUjq3g0iUNp+c6pE= X-Google-DKIM-Signature: v=1; a=rsa-sha256; c=relaxed/relaxed; d=1e100.net; s=20230601; t=1746587052; x=1747191852; h=references:in-reply-to:cc:to:from:subject:message-id:date :x-gm-message-state:from:to:cc:subject:date:message-id:reply-to; bh=kJpbbN1tGXIZRXqBWpqdGkS8uhGlSEQf3JDODIuzh0c=; b=Uz2IGyOkunnKHEqRt/HJ7Ep/OdHdPcg3Uj7kuAdbv/vvxEIfovaK/PkQ9T+/4aOBTq ukt6eA87CX/IaO4cwK9s6fkyhYACkxjr3IZaGYI2WjmtzUEH32uiyfxFTy1BDeR1oPzo bkcCJvNPQbfBaXVZTYQGHSEjb2RpMN/wVoMsTuE/oEHYsZIM1R1/hX6bSuhyfqBKScvI kYAowyaYGWbTyh6MPPsrwAGk+lv73qxXZ7goqNlJEbTa40fdKg1St65vZ5mgoqterwva uv3cq1Xf5iGrj2W9Nq4H/vWNxV46X+e3zVRrnQHRsF2+8LqiLFV5kk4/4bf4KClqf7AI rPIA== X-Gm-Message-State: AOJu0YwUAdUFLw0nA10Y4EYbq8nlPS+Fv1OH7mi02gmAleZUkZylwnNT YpeHz74YdGm63nh8IPxW0naCKS/IWxpUgY3imAnMkJNm/wCR/5GvNU3MHpHAXUrdeJL1DJQzgzq Aa7vl4CA+iljUtY/KraPdFipeUi07Z/u1XNVPpJ9FR05KkSFIrAlBqfn9 X-Gm-Gg: ASbGncvfnJVJVL0FOle+9U2SEL9eEY7S6/0icKgNjpxl0nZRXrTvmC6TfYta/WJ3ift yQCnbR7D6Tci0PflTeLY6RCdSNDQZXOWZieRW6SCtP+5/Y21lIMmDSKgkizT0AZYlnpfEciR2cF WVt97UFv96+g5xfUHDcWBUetb/dnJh+TbTQuH3YtuxbtHCOZ39TUIpUPH7SvWNXfcCKsngbiatX K8MjkA+O3AOMqZdpH8W00YPFkc3CwZil33GLnbkcpVGuxRTqkNPDLqhk+vMOitGZQLI7K5y+jAR jxs8S6p9IcEXgfD8UgvZMe/1FMc8CNposVfL X-Google-Smtp-Source: AGHT+IH3HNhrv+aQMghwo3GourNJ+hvAeBCLJihHjySLeoEOJdi4jhh2lsz85f63+NwzIh/TqTPowJBnMzTP X-Received: by 2002:a05:6602:148e:b0:864:4a66:f4df with SMTP id ca18e2360f4ac-8674728353bmr291183339f.6.1746587052462; Tue, 06 May 2025 20:04:12 -0700 (PDT) Received: from postal.iol.unh.edu (postal.iol.unh.edu. [2606:4100:3880:1234::84]) by smtp-relay.gmail.com with ESMTPS id ca18e2360f4ac-864aa2c83f2sm220371439f.6.2025.05.06.20.04.12 (version=TLS1_2 cipher=ECDHE-ECDSA-AES128-GCM-SHA256 bits=128/128); Tue, 06 May 2025 20:04:12 -0700 (PDT) X-Relaying-Domain: iol.unh.edu Date: Tue, 06 May 2025 20:04:12 -0700 (PDT) Message-ID: <681acdac.050a0220.a46e1.b8ceSMTPIN_ADDED_MISSING@mx.google.com> Received: from [172.17.0.2] (unknown [172.18.0.74]) by postal.iol.unh.edu (Postfix) with ESMTP id F1E936052471; Tue, 6 May 2025 23:04:11 -0400 (EDT) Subject: |SUCCESS| pw153326 [PATCH] net/mlx5: fix transceiver warning when no From: dpdklab@iol.unh.edu To: Test Report Cc: dpdk-test-reports@iol.unh.edu In-Reply-To: <20250506133107.4432-1-yogev@cgstowernetworks.com> References: <20250506133107.4432-1-yogev@cgstowernetworks.com> Content-Type: text/plain X-BeenThere: test-report@dpdk.org X-Mailman-Version: 2.1.29 Precedence: list List-Id: automatic DPDK test reports List-Unsubscribe: , List-Archive: List-Post: List-Help: List-Subscribe: , Errors-To: test-report-bounces@dpdk.org Test-Label: iol-unit-arm64-testing Test-Status: SUCCESS http://dpdk.org/patch/153326 _Testing PASS_ Submitter: yogev Date: Tuesday, May 06 2025 13:31:07 DPDK git baseline: Repo:dpdk Branch: master CommitID:edd3f4b1265e6da707c46ca9b6c39d332647baea 153326 --> testing pass Upstream job id: Generic-Unit-Test-DPDK#335979 Test environment and result as below: +------------------------+----------------+------------------------------+---------------------------+--------------+ | Environment | dpdk_unit_test | cryptodev_sw_snow3g_autotest | cryptodev_sw_zuc_autotest | lpm_autotest | +========================+================+==============================+===========================+==============+ | CentOS Stream 10 (ARM) | PASS | SKIPPED | SKIPPED | SKIPPED | +------------------------+----------------+------------------------------+---------------------------+--------------+ | CentOS Stream 9 (ARM) | PASS | SKIPPED | SKIPPED | SKIPPED | +------------------------+----------------+------------------------------+---------------------------+--------------+ | Debian 12 (arm) | PASS | PASS | PASS | SKIPPED | +------------------------+----------------+------------------------------+---------------------------+--------------+ | Fedora 40 (ARM) | PASS | SKIPPED | SKIPPED | SKIPPED | +------------------------+----------------+------------------------------+---------------------------+--------------+ | Fedora 41 (ARM) | PASS | SKIPPED | SKIPPED | SKIPPED | +------------------------+----------------+------------------------------+---------------------------+--------------+ | Fedora 40 (ARM Clang) | PASS | SKIPPED | SKIPPED | SKIPPED | +------------------------+----------------+------------------------------+---------------------------+--------------+ | Ubuntu 20.04 (ARM) | PASS | SKIPPED | SKIPPED | SKIPPED | +------------------------+----------------+------------------------------+---------------------------+--------------+ | Ubuntu 22.04 (ARM) | PASS | SKIPPED | SKIPPED | SKIPPED | +------------------------+----------------+------------------------------+---------------------------+--------------+ | RHEL9 (ARM) | PASS | SKIPPED | SKIPPED | SKIPPED | +------------------------+----------------+------------------------------+---------------------------+--------------+ | Fedora 41 (ARM Clang) | PASS | SKIPPED | SKIPPED | SKIPPED | +------------------------+----------------+------------------------------+---------------------------+--------------+ | Ubuntu 24.04 (ARM) | PASS | SKIPPED | SKIPPED | SKIPPED | +------------------------+----------------+------------------------------+---------------------------+--------------+ | Ubuntu 20.04 ARM SVE | SKIPPED | SKIPPED | SKIPPED | PASS | +------------------------+----------------+------------------------------+---------------------------+--------------+ CentOS Stream 10 (ARM) Kernel: Depends on container host Compiler: gcc 14.2.1 20241104 (Red Hat 14.2.1-6) CentOS Stream 9 (ARM) Kernel: Depends on container host Compiler: gcc 11.5.0 20240719 (Red Hat 11.5.0-2) Debian 12 (arm) Kernel: Depends on container host Compiler: gcc (Debian 12.2.0-14) 12.2.0 Fedora 40 (ARM) Kernel: Depends on container host Compiler: gcc 14.2.1 20240912 (Red Hat 14.2.1-3) Fedora 41 (ARM) Kernel: Depends on container host Compiler: gcc 14.2.1 20240912 (Red Hat 14.2.1-3) Fedora 40 (ARM Clang) Kernel: Depends on container host Compiler: clang 18.1.8 (Fedora 18.1.8-1.fc40) Ubuntu 20.04 (ARM) Kernel: Depends on container host Compiler: gcc (Ubuntu 9.4.0-1ubuntu1~20.04.2) 9.4.0 Ubuntu 22.04 (ARM) Kernel: Depends on container host Compiler: gcc (Ubuntu 11.4.0-1ubuntu1~22.04) 11.4.0 RHEL9 (ARM) Kernel: Depends on container host Compiler: gcc 11.5.0 20240719 (Red Hat 11.5.0-2) Fedora 41 (ARM Clang) Kernel: Depends on container host Compiler: clang 19.1.5 (Fedora 19.1.5-1.fc41) Ubuntu 24.04 (ARM) Kernel: Depends on container host Compiler: gcc (Ubuntu 13.3.0-6ubuntu2~24.04) 13.3.0 Ubuntu 20.04 ARM SVE Kernel: Depends on container host Compiler: gcc (Ubuntu 10.5.0-1ubuntu1~20.04) 10.5.0 To view detailed results, visit: https://lab.dpdk.org/results/dashboard/patchsets/33124/ UNH-IOL DPDK Community Lab To manage your email subscriptions, visit: https://lab.dpdk.org/results/dashboard/preferences/subscriptions/