From mboxrd@z Thu Jan 1 00:00:00 1970 Return-Path: Received: from mails.dpdk.org (mails.dpdk.org [217.70.189.124]) by inbox.dpdk.org (Postfix) with ESMTP id 84A39466E2 for ; Wed, 7 May 2025 05:11:23 +0200 (CEST) Received: from mails.dpdk.org (localhost [127.0.0.1]) by mails.dpdk.org (Postfix) with ESMTP id 77BCA4025D; Wed, 7 May 2025 05:11:23 +0200 (CEST) Received: from mail-qv1-f98.google.com (mail-qv1-f98.google.com [209.85.219.98]) by mails.dpdk.org (Postfix) with ESMTP id 98D5C4025A for ; Wed, 7 May 2025 05:11:21 +0200 (CEST) Received: by mail-qv1-f98.google.com with SMTP id 6a1803df08f44-6f53d271c4cso9667516d6.3 for ; Tue, 06 May 2025 20:11:21 -0700 (PDT) DKIM-Signature: v=1; a=rsa-sha256; c=relaxed/relaxed; d=iol.unh.edu; s=unh-iol; t=1746587481; x=1747192281; darn=dpdk.org; h=references:in-reply-to:cc:to:from:subject:message-id:date:from:to :cc:subject:date:message-id:reply-to; bh=HIZcUzJoWt2h+Rp4CCJc5b09+upTGKApCqmiS+VqOpg=; b=j0MAbXbFcrhkvUpkjhFkXd26PUY1mkNsNPSus2qqIzRAx5Ml39CLA0FRTedPm25Uec lW3ZUDpsjcOJvRKdYMIu0yJzG+/Ie3JF5HWiPpdtSezsSmPCG56fw9Za/kenFiqeW4FY /LNVMJG7FZyH5fCXP0kfi3+E28QjJpCtIfPh4= X-Google-DKIM-Signature: v=1; a=rsa-sha256; c=relaxed/relaxed; d=1e100.net; s=20230601; t=1746587481; x=1747192281; h=references:in-reply-to:cc:to:from:subject:message-id:date :x-gm-message-state:from:to:cc:subject:date:message-id:reply-to; bh=HIZcUzJoWt2h+Rp4CCJc5b09+upTGKApCqmiS+VqOpg=; b=gD3NTH0UFwNR2BagVzsNpmjROtRKQzYSforg/a9ApynacaMgaowOprpapJ3/zo4bxk XiirZkfA3zYcFqMZTgMXR97Kc1oAKV0EhTN9EKLjv3YcCR+tnyeyseo4Pnw6oc8BjS27 yIfuAyM6QJwK4LseS1iePHkJumxG2fwG1OG59JqPPGmx9oG3DsBSQULl0jIDrwtAK/oN zu10HTy6i6VBeSTFH/YQQtLcKePQgsimGiMAu9WHRtaImMSkluFl68K+ktdIx1F7xUtV 1HTyq2gZ5NiLEkwAcRz+YtpdvoZWL6IPNdtsmg0XkWZEx6AXtIHW8irV/jKQHIFssO0+ qo8g== X-Gm-Message-State: AOJu0YxKEg7XwuokVW9ZlNPU4EpplqTKuD8/YxfVb5S6FuJwJ0MkUZvu usTs1Ss4Bzs5HoPjkNcrRsXjMJT34kfQPexaNCLu+iZ4dl+ozpEm/DAq2cGYVQRvkoSRv6ZcdC3 sbN8PDb0UDgsmwTK7rkqYvaZo8fAfdng7q1wmHi52 X-Gm-Gg: ASbGncv2AfmMn/LeRn2z4MGDF4JDR54aNGTDCuNJAudGUczwuFhT5t78aJ0yoL23Jj5 OCQXGoHn4i5/OZow1ihMm4r74q1pr0yc4gzTz5dCrlPxBHfJiaFcmm7AP2lVqeRDoUYsQk49qOg li5qgJ7snUKZnMLsSfbyAjJOGVNO60DGiUFg4KjSp/kaDHvx72nbdvaXODz2GwW9SVIMXLwXr6G PzNXRCjd/XqJ9F0wwRkqq9/Jc6pqOalVmLK9AN6QO+LyXjDrQD/f0b14lnI8KO4X2RGLcHz01yU bRkFMEym7cACLQi0HpX0uguAIt75LpIi/vlMZ1lRQ/o5+RTRTyZ5SSm8lyA= X-Google-Smtp-Source: AGHT+IET8X1N97HYYMltxR1eNuqc2FJ6LlTp3PsrNT2hLmEIdvfHq8IvZV4wyOvQYPyE0tM698wf7QyRKheD X-Received: by 2002:ad4:5f8c:0:b0:6ea:d393:962a with SMTP id 6a1803df08f44-6f5429c3a34mr26342336d6.1.1746587480961; Tue, 06 May 2025 20:11:20 -0700 (PDT) Received: from postal.iol.unh.edu (postal.iol.unh.edu. [132.177.123.84]) by smtp-relay.gmail.com with ESMTPS id 6a1803df08f44-6f54266a876sm546016d6.34.2025.05.06.20.11.20 (version=TLS1_2 cipher=ECDHE-ECDSA-AES128-GCM-SHA256 bits=128/128); Tue, 06 May 2025 20:11:20 -0700 (PDT) X-Relaying-Domain: iol.unh.edu Date: Tue, 06 May 2025 20:11:20 -0700 (PDT) Message-ID: <681acf58.050a0220.3d680f.3138SMTPIN_ADDED_MISSING@mx.google.com> Received: from [172.17.0.3] (unknown [172.18.0.74]) by postal.iol.unh.edu (Postfix) with ESMTP id AC7886052471; Tue, 6 May 2025 23:11:20 -0400 (EDT) Subject: |SUCCESS| pw153327 [PATCH] net/mlx5: fix error notification for larg From: dpdklab@iol.unh.edu To: Test Report Cc: dpdk-test-reports@iol.unh.edu In-Reply-To: <20250506133206.379993-1-getelson@nvidia.com> References: <20250506133206.379993-1-getelson@nvidia.com> Content-Type: text/plain X-BeenThere: test-report@dpdk.org X-Mailman-Version: 2.1.29 Precedence: list List-Id: automatic DPDK test reports List-Unsubscribe: , List-Archive: List-Post: List-Help: List-Subscribe: , Errors-To: test-report-bounces@dpdk.org Test-Label: iol-compile-arm64-testing Test-Status: SUCCESS http://dpdk.org/patch/153327 _Testing PASS_ Submitter: Gregory Etelson Date: Tuesday, May 06 2025 13:31:51 DPDK git baseline: Repo:dpdk Branch: master CommitID:edd3f4b1265e6da707c46ca9b6c39d332647baea 153327 --> testing pass Upstream job id: Generic-DPDK-Compile-Meson#385779 Test environment and result as below: +----------------------------------------+--------------------+ | Environment | dpdk_meson_compile | +========================================+====================+ | RHEL9 (ARM) | PASS | +----------------------------------------+--------------------+ | Ubuntu 20.04 ARM GCC Cross Compile | PASS | +----------------------------------------+--------------------+ | Ubuntu 20.04 ARM SVE | PASS | +----------------------------------------+--------------------+ | Debian 12 with MUSDK | PASS | +----------------------------------------+--------------------+ | Fedora 40 (ARM) | PASS | +----------------------------------------+--------------------+ | Fedora 40 (ARM Clang) | PASS | +----------------------------------------+--------------------+ | Ubuntu 22.04 (ARM) | PASS | +----------------------------------------+--------------------+ | Ubuntu 20.04 (ARM) | PASS | +----------------------------------------+--------------------+ | Fedora 41 (ARM Clang) | PASS | +----------------------------------------+--------------------+ | CentOS Stream 10 (ARM) | PASS | +----------------------------------------+--------------------+ | Ubuntu 24.04 (ARM) | PASS | +----------------------------------------+--------------------+ | CentOS Stream 9 (ARM) | PASS | +----------------------------------------+--------------------+ | Ubuntu 20.04 ARM Clang Cross Compile | PASS | +----------------------------------------+--------------------+ | Debian 12 (arm) | PASS | +----------------------------------------+--------------------+ | Ubuntu 20.04 aarch32 GCC Cross Compile | PASS | +----------------------------------------+--------------------+ | Fedora 41 (ARM) | PASS | +----------------------------------------+--------------------+ RHEL9 (ARM) Kernel: Depends on container host Compiler: gcc 11.5.0 20240719 (Red Hat 11.5.0-2) Ubuntu 20.04 ARM GCC Cross Compile Kernel: Depends on container host Compiler: aarch64-linux-gnu-gcc (Ubuntu 9.4.0-1ubuntu1~20.04.2) 9.4.0 Ubuntu 20.04 ARM SVE Kernel: Depends on container host Compiler: gcc (Ubuntu 10.5.0-1ubuntu1~20.04) 10.5.0 Debian 12 with MUSDK Kernel: Depends on container host Compiler: gcc (Debian 12.2.0-14) 12.2.0 Fedora 40 (ARM) Kernel: Depends on container host Compiler: gcc 14.2.1 20240912 (Red Hat 14.2.1-3) Fedora 40 (ARM Clang) Kernel: Depends on container host Compiler: clang 18.1.8 (Fedora 18.1.8-1.fc40) Ubuntu 22.04 (ARM) Kernel: Depends on container host Compiler: gcc (Ubuntu 11.4.0-1ubuntu1~22.04) 11.4.0 Ubuntu 20.04 (ARM) Kernel: Depends on container host Compiler: gcc (Ubuntu 9.4.0-1ubuntu1~20.04.2) 9.4.0 Fedora 41 (ARM Clang) Kernel: Depends on container host Compiler: clang 19.1.5 (Fedora 19.1.5-1.fc41) CentOS Stream 10 (ARM) Kernel: Depends on container host Compiler: gcc 14.2.1 20241104 (Red Hat 14.2.1-6) Ubuntu 24.04 (ARM) Kernel: Depends on container host Compiler: gcc (Ubuntu 13.3.0-6ubuntu2~24.04) 13.3.0 CentOS Stream 9 (ARM) Kernel: Depends on container host Compiler: gcc 11.5.0 20240719 (Red Hat 11.5.0-2) Ubuntu 20.04 ARM Clang Cross Compile Kernel: Depends on container host Compiler: clang 10.0.0-4ubuntu1 Debian 12 (arm) Kernel: Depends on container host Compiler: gcc (Debian 12.2.0-14) 12.2.0 Ubuntu 20.04 aarch32 GCC Cross Compile Kernel: Depends on container host Compiler: gcc 9.4.0 Fedora 41 (ARM) Kernel: Depends on container host Compiler: gcc 14.2.1 20240912 (Red Hat 14.2.1-3) To view detailed results, visit: https://lab.dpdk.org/results/dashboard/patchsets/33125/ UNH-IOL DPDK Community Lab To manage your email subscriptions, visit: https://lab.dpdk.org/results/dashboard/preferences/subscriptions/