From mboxrd@z Thu Jan 1 00:00:00 1970 Return-Path: Received: from mails.dpdk.org (mails.dpdk.org [217.70.189.124]) by inbox.dpdk.org (Postfix) with ESMTP id A501E466E2 for ; Wed, 7 May 2025 05:12:17 +0200 (CEST) Received: from mails.dpdk.org (localhost [127.0.0.1]) by mails.dpdk.org (Postfix) with ESMTP id 9CB5B4025D; Wed, 7 May 2025 05:12:17 +0200 (CEST) Received: from mail-vk1-f225.google.com (mail-vk1-f225.google.com [209.85.221.225]) by mails.dpdk.org (Postfix) with ESMTP id 20E6F4025A for ; Wed, 7 May 2025 05:12:16 +0200 (CEST) Received: by mail-vk1-f225.google.com with SMTP id 71dfb90a1353d-52b2290e292so735630e0c.3 for ; Tue, 06 May 2025 20:12:16 -0700 (PDT) DKIM-Signature: v=1; a=rsa-sha256; c=relaxed/relaxed; d=iol.unh.edu; s=unh-iol; t=1746587535; x=1747192335; darn=dpdk.org; h=references:in-reply-to:cc:to:from:subject:message-id:date:from:to :cc:subject:date:message-id:reply-to; bh=MQ8cJbYEdAmOVxczPNCjtBYsvDmLthiXbyyx+09tIiw=; b=PYs8MXjxkrhl1RQQ59ujyMECPrTMUd8LFjClZnohjbCCdxFgzJmQLs+31srborLoL5 w7DWsL2jCZ/wmap5FrJkwbbV5Dr4Q7SeZKGnnC4DPg7R0ASY6CXk9t2JRqF8k8NChRD3 qK8vASIzz8qC72VJp8DHZ5+mTwPCyxNPEzHLk= X-Google-DKIM-Signature: v=1; a=rsa-sha256; c=relaxed/relaxed; d=1e100.net; s=20230601; t=1746587535; x=1747192335; h=references:in-reply-to:cc:to:from:subject:message-id:date :x-gm-message-state:from:to:cc:subject:date:message-id:reply-to; bh=MQ8cJbYEdAmOVxczPNCjtBYsvDmLthiXbyyx+09tIiw=; b=uXMGe1q5UMcgtRM1VneoZymzJaE1bAiooo8b/2Kc1pxFOroUoG+BmpOvMDifX/x1j8 h2XGSCod/G615ig0y5X50t5T1NvL9FzsXE7/joVZu1gPQ9zC3bLHFVmM0igStlJKLsjK vL78qi4DBpVC1NjocL1fXYn6GhtBfexvHjTMYgPqouJEhxMD+ixS5eNMYTe/8JQofW3Y s9reCfXUXkePZR8rKTgggkPekpoT/a91klEzKWXcynsGpB664+rUBMOLzimqGQfWdnLp lTEGfL4T1ZC5Smjsh/8ABVwKOYwqPXEVaf7cvTlGI8WIkvroCBbhTWdOnQ5hQQCN4oT0 QMDg== X-Gm-Message-State: AOJu0YzcVD1vjyf2YE9nBDTa+2V4i3S9wvauqE6K00EhtCy7o8CRvXEh eEOIcN0hOMhZF7aA1XCt1Ax/Mx6uP75O8srT0eWymoI9ipF/CjpfaaBxg/jWfqAfW/1jsXaGMH6 WWY5UVlbP+UzIj0PZspnpWEeY1jRQnFCls+5sF0zU X-Gm-Gg: ASbGncvQJzNgsxtS/Nn6SeAlLe9Krx1/spbc10jB59zcy5tSqcbOLci5TSkSCVP8FD6 uOFZnOi1Cg2dYMUBHqINn5SDZ70MlZSep8eLam11nZuTs+rqCcoTUnETaIKbkFK6SjkGN72bwU+ vAsXJwoLL1s1JVcYTGQvWbqvHH2G3tIOIwJwAMfIjD0I+fkLX6rGGWabIOp8j994xIiCK9vtd9b NlXIZUlmGzOp68VSXdkL+j+3UkXs4w+ofJnS3IVXAgRNyg+8qvKo4avOf76PPXJJhuUpd+HhF7v 2yeeMCRZ0etpYn8aiSfnZ8PTxHDFoL0aaAjJKFLvyeXXowypTtXSBtV8N3s= X-Google-Smtp-Source: AGHT+IFQzHODmb4GzcR8cuYF2cDED/Lk2Fh1Vc5qrOlyn+DOTKcjJYy2WSHGJ0B4drL3evsRIjGkxw+pQ1Dw X-Received: by 2002:a05:6122:181b:b0:52a:863f:4189 with SMTP id 71dfb90a1353d-52c37ab8062mr1311488e0c.8.1746587535493; Tue, 06 May 2025 20:12:15 -0700 (PDT) Received: from postal.iol.unh.edu (postal.iol.unh.edu. [132.177.123.84]) by smtp-relay.gmail.com with ESMTPS id 71dfb90a1353d-52ae402658asm2165832e0c.6.2025.05.06.20.12.15 (version=TLS1_2 cipher=ECDHE-ECDSA-AES128-GCM-SHA256 bits=128/128); Tue, 06 May 2025 20:12:15 -0700 (PDT) X-Relaying-Domain: iol.unh.edu Date: Tue, 06 May 2025 20:12:15 -0700 (PDT) Message-ID: <681acf8f.050a0220.39391a.b0f5SMTPIN_ADDED_MISSING@mx.google.com> Received: from [172.17.0.4] (unknown [172.18.0.74]) by postal.iol.unh.edu (Postfix) with ESMTP id F2CF86052471; Tue, 6 May 2025 23:12:14 -0400 (EDT) Subject: |SUCCESS| pw153327 [PATCH] net/mlx5: fix error notification for larg From: dpdklab@iol.unh.edu To: Test Report Cc: dpdk-test-reports@iol.unh.edu In-Reply-To: <20250506133206.379993-1-getelson@nvidia.com> References: <20250506133206.379993-1-getelson@nvidia.com> Content-Type: text/plain X-BeenThere: test-report@dpdk.org X-Mailman-Version: 2.1.29 Precedence: list List-Id: automatic DPDK test reports List-Unsubscribe: , List-Archive: List-Post: List-Help: List-Subscribe: , Errors-To: test-report-bounces@dpdk.org Test-Label: iol-compile-arm64-testing Test-Status: SUCCESS http://dpdk.org/patch/153327 _Testing PASS_ Submitter: Gregory Etelson Date: Tuesday, May 06 2025 13:31:51 DPDK git baseline: Repo:dpdk Branch: master CommitID:edd3f4b1265e6da707c46ca9b6c39d332647baea 153327 --> testing pass Upstream job id: Generic-DPDK-Compile-Meson#385773 Test environment and result as below: +----------------------------------------+--------------------+ | Environment | dpdk_meson_compile | +========================================+====================+ | RHEL9 (ARM) | PASS | +----------------------------------------+--------------------+ | Ubuntu 20.04 ARM GCC Cross Compile | PASS | +----------------------------------------+--------------------+ | Ubuntu 20.04 ARM SVE | PASS | +----------------------------------------+--------------------+ | Debian 12 with MUSDK | PASS | +----------------------------------------+--------------------+ | Fedora 40 (ARM) | PASS | +----------------------------------------+--------------------+ | Fedora 40 (ARM Clang) | PASS | +----------------------------------------+--------------------+ | Ubuntu 22.04 (ARM) | PASS | +----------------------------------------+--------------------+ | Ubuntu 20.04 (ARM) | PASS | +----------------------------------------+--------------------+ | Fedora 41 (ARM Clang) | PASS | +----------------------------------------+--------------------+ | CentOS Stream 10 (ARM) | PASS | +----------------------------------------+--------------------+ | Ubuntu 24.04 (ARM) | PASS | +----------------------------------------+--------------------+ | CentOS Stream 9 (ARM) | PASS | +----------------------------------------+--------------------+ | Ubuntu 20.04 ARM Clang Cross Compile | PASS | +----------------------------------------+--------------------+ | Debian 12 (arm) | PASS | +----------------------------------------+--------------------+ | Ubuntu 20.04 aarch32 GCC Cross Compile | PASS | +----------------------------------------+--------------------+ | Fedora 41 (ARM) | PASS | +----------------------------------------+--------------------+ RHEL9 (ARM) Kernel: Depends on container host Compiler: gcc 11.5.0 20240719 (Red Hat 11.5.0-2) Ubuntu 20.04 ARM GCC Cross Compile Kernel: Depends on container host Compiler: aarch64-linux-gnu-gcc (Ubuntu 9.4.0-1ubuntu1~20.04.2) 9.4.0 Ubuntu 20.04 ARM SVE Kernel: Depends on container host Compiler: gcc (Ubuntu 10.5.0-1ubuntu1~20.04) 10.5.0 Debian 12 with MUSDK Kernel: Depends on container host Compiler: gcc (Debian 12.2.0-14) 12.2.0 Fedora 40 (ARM) Kernel: Depends on container host Compiler: gcc 14.2.1 20240912 (Red Hat 14.2.1-3) Fedora 40 (ARM Clang) Kernel: Depends on container host Compiler: clang 18.1.8 (Fedora 18.1.8-1.fc40) Ubuntu 22.04 (ARM) Kernel: Depends on container host Compiler: gcc (Ubuntu 11.4.0-1ubuntu1~22.04) 11.4.0 Ubuntu 20.04 (ARM) Kernel: Depends on container host Compiler: gcc (Ubuntu 9.4.0-1ubuntu1~20.04.2) 9.4.0 Fedora 41 (ARM Clang) Kernel: Depends on container host Compiler: clang 19.1.5 (Fedora 19.1.5-1.fc41) CentOS Stream 10 (ARM) Kernel: Depends on container host Compiler: gcc 14.2.1 20241104 (Red Hat 14.2.1-6) Ubuntu 24.04 (ARM) Kernel: Depends on container host Compiler: gcc (Ubuntu 13.3.0-6ubuntu2~24.04) 13.3.0 CentOS Stream 9 (ARM) Kernel: Depends on container host Compiler: gcc 11.5.0 20240719 (Red Hat 11.5.0-2) Ubuntu 20.04 ARM Clang Cross Compile Kernel: Depends on container host Compiler: clang 10.0.0-4ubuntu1 Debian 12 (arm) Kernel: Depends on container host Compiler: gcc (Debian 12.2.0-14) 12.2.0 Ubuntu 20.04 aarch32 GCC Cross Compile Kernel: Depends on container host Compiler: gcc 9.4.0 Fedora 41 (ARM) Kernel: Depends on container host Compiler: gcc 14.2.1 20240912 (Red Hat 14.2.1-3) To view detailed results, visit: https://lab.dpdk.org/results/dashboard/patchsets/33125/ UNH-IOL DPDK Community Lab To manage your email subscriptions, visit: https://lab.dpdk.org/results/dashboard/preferences/subscriptions/