From mboxrd@z Thu Jan 1 00:00:00 1970 Return-Path: Received: from mails.dpdk.org (mails.dpdk.org [217.70.189.124]) by inbox.dpdk.org (Postfix) with ESMTP id 46DEC466E2 for ; Wed, 7 May 2025 05:15:57 +0200 (CEST) Received: from mails.dpdk.org (localhost [127.0.0.1]) by mails.dpdk.org (Postfix) with ESMTP id 3230D4025D; Wed, 7 May 2025 05:15:57 +0200 (CEST) Received: from mail-io1-f99.google.com (mail-io1-f99.google.com [209.85.166.99]) by mails.dpdk.org (Postfix) with ESMTP id 3CE8F4025A for ; Wed, 7 May 2025 05:15:56 +0200 (CEST) Received: by mail-io1-f99.google.com with SMTP id ca18e2360f4ac-861525e9b0aso557837839f.3 for ; Tue, 06 May 2025 20:15:56 -0700 (PDT) DKIM-Signature: v=1; a=rsa-sha256; c=relaxed/relaxed; d=iol.unh.edu; s=unh-iol; t=1746587755; x=1747192555; darn=dpdk.org; h=references:in-reply-to:cc:to:from:subject:message-id:date:from:to :cc:subject:date:message-id:reply-to; bh=+t0Z+XDQJs6M3YAsw7p+c4OoxAu9td78smRiAb6jOTU=; b=G5PdHL2OiBVJKRo5k5mdTnjZmkn6J4wvumOZSDAsFPiTwveyX+46zhuLtDib+PXbzC 6LXoq1ghi+Matt2pD8/5m0VV/oJ8d4dShLZu+3Ha+MwZ2DctL1aCDQd9Crgu4zH6anKH a9BZlQtl1+4PlX9AnIRQ30dYoY+cky7LAUICk= X-Google-DKIM-Signature: v=1; a=rsa-sha256; c=relaxed/relaxed; d=1e100.net; s=20230601; t=1746587755; x=1747192555; h=references:in-reply-to:cc:to:from:subject:message-id:date :x-gm-message-state:from:to:cc:subject:date:message-id:reply-to; bh=+t0Z+XDQJs6M3YAsw7p+c4OoxAu9td78smRiAb6jOTU=; b=Z3WgwjkjwNJTO4QDR/wrZXWW4HqeFA1CHIVYwd+08A253dvdl6AiBfRttz9IfpJjC5 S9aObiLevt5q+cYNvHBpl09O0SMUAsitla1zKdlT6Hlm6Mbzf8XyVdCQww5llU63kLYR kUtHlspPzRvFIh5C8tT5vm1W48fV6FmhMU1vA5gmSvvi9yjG9TjPlbSWDYgOaGqco+VI zjcYcUNa3XZh076n+1Ii+rdVBT9DbW7DbEqazfOvVZXjrRIMtEwoXHKrJHb+d1yTJZ83 j2kG4RikNRqNsr/fbwvJXe09/V12Iu8l3lwXIUUr3DrDo0P6Ydf3EvQneF9K8T1II3eg Rz6A== X-Gm-Message-State: AOJu0Yxo4VltmcKxunv9OcTcdpWntV8xMlZU+6mjM1kw1iYMz9bGTVOY qTvvAQdnLo8ZjW+ZGe0lN8380IYXOD95Nc+JSYMZx81mkZGuTbuGf5QFDslKLT1ZHjullvBccKY LHBrm9MwDGo3kwnTEu7pWHkWb5VHRF2liOzvFQ8YI X-Gm-Gg: ASbGnctDmIo3zpd6wA1iPTWPBQFRvyKxR4oHtpctyOcxU3q+d8jlNZZGGT3inSQ9cJJ 4YW1WBs/L5dBahgxPVesa1EHwukATxileTtBqI25mH91+PkXSZ0t36CFxxyWLnXa9v86rIr90v/ tkyXrP/1XHDJ8tQXsFXqhoGcy/FDsQX8YiqL1QQ3RogecVIEo+UY6kHbeYwLlvmJ9GdvtmXGB3r MycrqGT/EfXl1B0umbOYl3Rek8NycUrDSjtIGM2GEjS67DZcUk75QdoVdOrVojxGdE7pUJ3lNxj YDfHz9384GCAF9fO2qFyOA0JAnXiWIOKfV3bWfBkojNZN5r0vne7sj7w/Lk= X-Google-Smtp-Source: AGHT+IE24lJMPFSdLDVAjDponGCB4txGN+MoDG04J+dLhJ2B/b6Iy+mko1HEmHOy7FZn8HJgTqHIHzDd6CY3 X-Received: by 2002:a92:cdaf:0:b0:3d9:6485:3a03 with SMTP id e9e14a558f8ab-3da738ed751mr18848575ab.4.1746587755532; Tue, 06 May 2025 20:15:55 -0700 (PDT) Received: from postal.iol.unh.edu (postal.iol.unh.edu. [132.177.123.84]) by smtp-relay.gmail.com with ESMTPS id 8926c6da1cb9f-4f88a8cdc22sm2180721173.4.2025.05.06.20.15.55 (version=TLS1_2 cipher=ECDHE-ECDSA-AES128-GCM-SHA256 bits=128/128); Tue, 06 May 2025 20:15:55 -0700 (PDT) X-Relaying-Domain: iol.unh.edu Date: Tue, 06 May 2025 20:15:55 -0700 (PDT) Message-ID: <681ad06b.050a0220.297055.db69SMTPIN_ADDED_MISSING@mx.google.com> Received: from [172.21.0.5] (unknown [172.18.0.240]) by postal.iol.unh.edu (Postfix) with ESMTP id 0E8956052471; Tue, 6 May 2025 23:15:55 -0400 (EDT) Subject: |SUCCESS| pw153326 [PATCH] net/mlx5: fix transceiver warning when no From: dpdklab@iol.unh.edu To: Test Report Cc: dpdk-test-reports@iol.unh.edu In-Reply-To: <20250506133107.4432-1-yogev@cgstowernetworks.com> References: <20250506133107.4432-1-yogev@cgstowernetworks.com> Content-Type: text/plain X-BeenThere: test-report@dpdk.org X-Mailman-Version: 2.1.29 Precedence: list List-Id: automatic DPDK test reports List-Unsubscribe: , List-Archive: List-Post: List-Help: List-Subscribe: , Errors-To: test-report-bounces@dpdk.org Test-Label: iol-unit-amd64-testing Test-Status: SUCCESS http://dpdk.org/patch/153326 _Testing PASS_ Submitter: yogev Date: Tuesday, May 06 2025 13:31:07 DPDK git baseline: Repo:dpdk Branch: master CommitID:edd3f4b1265e6da707c46ca9b6c39d332647baea 153326 --> testing pass Upstream job id: Generic-Unit-Test-DPDK#335983 Test environment and result as below: +-------------------+----------------+ | Environment | dpdk_unit_test | +===================+================+ | Fedora 40 (Clang) | PASS | +-------------------+----------------+ | Debian 12 | PASS | +-------------------+----------------+ | CentOS Stream 10 | PASS | +-------------------+----------------+ | CentOS Stream 9 | PASS | +-------------------+----------------+ | Fedora 40 | PASS | +-------------------+----------------+ | Fedora 41 | PASS | +-------------------+----------------+ | RHEL8 | PASS | +-------------------+----------------+ | Fedora 41 (Clang) | PASS | +-------------------+----------------+ | RHEL9 | PASS | +-------------------+----------------+ | Ubuntu 22.04 | PASS | +-------------------+----------------+ | Ubuntu 24.04 | PASS | +-------------------+----------------+ | Ubuntu 20.04 | PASS | +-------------------+----------------+ Fedora 40 (Clang) Kernel: Depends on container host Compiler: clang 18.1.8 (Fedora 18.1.8-1.fc40) Debian 12 Kernel: Depends on container host Compiler: gcc (Debian 12.2.0-14) 12.2.0 CentOS Stream 10 Kernel: Depends on container host Compiler: gcc 14.2.1 20241104 (Red Hat 14.2.1-6) CentOS Stream 9 Kernel: Depends on container host Compiler: gcc 11.5.0 20240719 (Red Hat 11.5.0-2) Fedora 40 Kernel: Depends on container host Compiler: gcc 14.2.1 20240912 (Red Hat 14.2.1-3) Fedora 41 Kernel: Depends on container host Compiler: gcc 14.2.1 20240912 (Red Hat 14.2.1-3) RHEL8 Kernel: Depends on container host Compiler: gcc 8.5.0 20210514 (Red Hat 8.5.0-22) Fedora 41 (Clang) Kernel: Depends on container host Compiler: clang 19.1.5 (Fedora 19.1.5-1.fc41) RHEL9 Kernel: Depends on container host Compiler: gcc 11.5.0 20240719 (Red Hat 11.5.0-2) Ubuntu 22.04 Kernel: Depends on container host Compiler: gcc (Ubuntu 11.4.0-1ubuntu1~22.04) 11.4.0 Ubuntu 24.04 Kernel: Depends on container host Compiler: gcc (Ubuntu 13.3.0-6ubuntu2~24.04) 13.3.0 Ubuntu 20.04 Kernel: Depends on container host Compiler: gcc (Ubuntu 9.4.0-1ubuntu1~20.04.2) 9.4.0 To view detailed results, visit: https://lab.dpdk.org/results/dashboard/patchsets/33124/ UNH-IOL DPDK Community Lab To manage your email subscriptions, visit: https://lab.dpdk.org/results/dashboard/preferences/subscriptions/