From mboxrd@z Thu Jan 1 00:00:00 1970 Return-Path: Received: from mails.dpdk.org (mails.dpdk.org [217.70.189.124]) by inbox.dpdk.org (Postfix) with ESMTP id B2ACD466E2 for ; Wed, 7 May 2025 05:41:53 +0200 (CEST) Received: from mails.dpdk.org (localhost [127.0.0.1]) by mails.dpdk.org (Postfix) with ESMTP id 9EB814025D; Wed, 7 May 2025 05:41:53 +0200 (CEST) Received: from mail-ua1-f99.google.com (mail-ua1-f99.google.com [209.85.222.99]) by mails.dpdk.org (Postfix) with ESMTP id 52C5F4025A for ; Wed, 7 May 2025 05:41:52 +0200 (CEST) Received: by mail-ua1-f99.google.com with SMTP id a1e0cc1a2514c-86715793b1fso1559115241.0 for ; Tue, 06 May 2025 20:41:52 -0700 (PDT) DKIM-Signature: v=1; a=rsa-sha256; c=relaxed/relaxed; d=iol.unh.edu; s=unh-iol; t=1746589311; x=1747194111; darn=dpdk.org; h=references:in-reply-to:cc:to:from:subject:message-id:date:from:to :cc:subject:date:message-id:reply-to; bh=c2YFgZkm/ndeIo4O4twbTktkqIiJYxyyW2/JkTvgNQ4=; b=aAP1Ip0hqwRmWLMeVVo1ERdLteKYk1hfAnCbcvtolMFMB9Dyfn1Nm887ZD1ONPrF4o HBouivHmjX7ZIP38g3noPo26akznudAfmUpTHIaCtKchxJNKv+WOU4pNpwOw4EvtgaKI oW6RrYYy5TYO8FoIE0fZRIkqkZXy7QvdiKuy4= X-Google-DKIM-Signature: v=1; a=rsa-sha256; c=relaxed/relaxed; d=1e100.net; s=20230601; t=1746589311; x=1747194111; h=references:in-reply-to:cc:to:from:subject:message-id:date :x-gm-message-state:from:to:cc:subject:date:message-id:reply-to; bh=c2YFgZkm/ndeIo4O4twbTktkqIiJYxyyW2/JkTvgNQ4=; b=KmBqZ8sN7AS1pw3lWrEu3ZeQI4r2R10zmC9SQMu3BAB8BrFI4lF7suG87c2Sv71Tfv WRmPwXLulaH+UPneUPCH5qdQD34GNJZ3eR37GBGV8IqRlTzxzAEa2KT87WkQs7RcSHvI NB4uvx7/fCfVk18QVuixbwyNz7Pp6U1p+K2k4cPK1kSDtNGrvB7jDi6OgJBSIhLXl0LP xE4nvTP6WavJTnIN7e/jVViQj6pzTMSH4ATMBA2+/ymK5/+LHGpjzu9FpbX9mDiqsSxU g1ktH7nZvbrC0WsibwCRKsoE+IQhCF0NATDqiXBmn8UhBmjb0qi5oOldHHHtFNRWeMum ehaw== X-Gm-Message-State: AOJu0YyYANetP8JQ3THKzuzJjX11xWr5+ZwqVmt9mI4gu7ZKy6r9/uGv Lljt3POAPFpkQ5B9BpXBHm4XNBXe0TGZzdJEj+/QqzTYGQoAsc9bP/F0SxY6h0Qus/uoNjZs2IL p15lyRvlkiU/hlUM/ZFe4ovhcK+lziFKkc5PI2CfJ X-Gm-Gg: ASbGncvCAJyezCenyBT37pXl7zMRyu22BH2RlnypbucjCGkWqCGmKBFB1hfWX/vVNNa r2GV3+YsYRdRWVojpNZYl5Z6FalNwttMbLM5K0DDIIohWH/ZhxhUVP0h19UBq1sm5eEdu8OEJtr AEVA+ByEK0WNAxmYGGGpW+UFzybd+lfSWKrJoGqAH7ZuMwv7VA9RxW9lqgWVYiFyYBl5JAlS+QT HvygHF1kYnyZ9YDM6wjUGZg58Q9MW0a53mj6ziXAeXIR6yuG9iKJfcEMDo7sgFyCeD9SEjmyXgj fhzQO4f4EzJRP1cQT2Ym6ueao0M9TTA2pzPxj74CcQ57ZjgNp3aho0cxffM= X-Google-Smtp-Source: AGHT+IHyGEmhwgyDrqlJnU4hp2QS6Z7iULXkp6/2TIqsWDEGWgUwADgNga7BvW1XT4wKf0IGBX0JJDjB8Pkn X-Received: by 2002:a05:6102:568f:b0:4c3:64bd:93ba with SMTP id ada2fe7eead31-4dc737fb4d5mr1661133137.11.1746589311554; Tue, 06 May 2025 20:41:51 -0700 (PDT) Received: from postal.iol.unh.edu (postal.iol.unh.edu. [132.177.123.84]) by smtp-relay.gmail.com with ESMTPS id a1e0cc1a2514c-8780b2996cdsm842163241.17.2025.05.06.20.41.51 (version=TLS1_2 cipher=ECDHE-ECDSA-AES128-GCM-SHA256 bits=128/128); Tue, 06 May 2025 20:41:51 -0700 (PDT) X-Relaying-Domain: iol.unh.edu Date: Tue, 06 May 2025 20:41:51 -0700 (PDT) Message-ID: <681ad67f.050a0220.205efe.c6b3SMTPIN_ADDED_MISSING@mx.google.com> Received: from [172.17.0.3] (unknown [172.18.0.74]) by postal.iol.unh.edu (Postfix) with ESMTP id 378C06052471; Tue, 6 May 2025 23:41:51 -0400 (EDT) Subject: |SUCCESS| pw153328-153331 [PATCH] [4/4] bus/pci/bsd: Fix device exis From: dpdklab@iol.unh.edu To: Test Report Cc: dpdk-test-reports@iol.unh.edu In-Reply-To: <20250506174046.1136711-5-jfree@FreeBSD.org> References: <20250506174046.1136711-5-jfree@FreeBSD.org> Content-Type: text/plain X-BeenThere: test-report@dpdk.org X-Mailman-Version: 2.1.29 Precedence: list List-Id: automatic DPDK test reports List-Unsubscribe: , List-Archive: List-Post: List-Help: List-Subscribe: , Errors-To: test-report-bounces@dpdk.org Test-Label: iol-compile-amd64-testing Test-Status: SUCCESS http://dpdk.org/patch/153331 _Testing PASS_ Submitter: Jake Freeland Date: Tuesday, May 06 2025 17:40:44 DPDK git baseline: Repo:dpdk Branch: master CommitID:75f179ebe347b6098cf3af26d3d3b7168fe3fe24 153328-153331 --> testing pass Upstream job id: Windows-Compile-DPDK-Native#28248 Test environment and result as below: +-----------------------------------+--------------------+-------------------+------------------+-------------------+-------------------------+ | Environment | dpdk_meson_compile | dpdk_compile_spdk | dpdk_compile_ovs | dpdk_msvc_compile | dpdk_llvm_clang_compile | +===================================+====================+===================+==================+===================+=========================+ | CentOS Stream 10 | PASS | SKIPPED | SKIPPED | SKIPPED | SKIPPED | +-----------------------------------+--------------------+-------------------+------------------+-------------------+-------------------------+ | Debian 12 | PASS | PASS | SKIPPED | SKIPPED | SKIPPED | +-----------------------------------+--------------------+-------------------+------------------+-------------------+-------------------------+ | CentOS Stream 9 | PASS | PASS | SKIPPED | SKIPPED | SKIPPED | +-----------------------------------+--------------------+-------------------+------------------+-------------------+-------------------------+ | Fedora 40 | PASS | PASS | SKIPPED | SKIPPED | SKIPPED | +-----------------------------------+--------------------+-------------------+------------------+-------------------+-------------------------+ | Fedora 40 (Clang) | PASS | PASS | SKIPPED | SKIPPED | SKIPPED | +-----------------------------------+--------------------+-------------------+------------------+-------------------+-------------------------+ | openSUSE Leap 15 | PASS | SKIPPED | SKIPPED | SKIPPED | SKIPPED | +-----------------------------------+--------------------+-------------------+------------------+-------------------+-------------------------+ | Fedora 41 (Clang) | PASS | PASS | PASS | SKIPPED | SKIPPED | +-----------------------------------+--------------------+-------------------+------------------+-------------------+-------------------------+ | Fedora 41 | PASS | PASS | PASS | SKIPPED | SKIPPED | +-----------------------------------+--------------------+-------------------+------------------+-------------------+-------------------------+ | RHEL9 | PASS | SKIPPED | SKIPPED | SKIPPED | SKIPPED | +-----------------------------------+--------------------+-------------------+------------------+-------------------+-------------------------+ | Ubuntu 20.04 | PASS | SKIPPED | SKIPPED | SKIPPED | SKIPPED | +-----------------------------------+--------------------+-------------------+------------------+-------------------+-------------------------+ | Ubuntu 22.04 | PASS | PASS | SKIPPED | SKIPPED | SKIPPED | +-----------------------------------+--------------------+-------------------+------------------+-------------------+-------------------------+ | Ubuntu 24.04 32 Bit Cross Compile | PASS | SKIPPED | SKIPPED | SKIPPED | SKIPPED | +-----------------------------------+--------------------+-------------------+------------------+-------------------+-------------------------+ | FreeBSD 13.5 | PASS | SKIPPED | SKIPPED | SKIPPED | SKIPPED | +-----------------------------------+--------------------+-------------------+------------------+-------------------+-------------------------+ | FreeBSD 14.2 | PASS | SKIPPED | SKIPPED | SKIPPED | SKIPPED | +-----------------------------------+--------------------+-------------------+------------------+-------------------+-------------------------+ | RHEL8 | PASS | SKIPPED | SKIPPED | SKIPPED | SKIPPED | +-----------------------------------+--------------------+-------------------+------------------+-------------------+-------------------------+ | Windows Server 2022 | SKIPPED | SKIPPED | SKIPPED | PASS | PASS | +-----------------------------------+--------------------+-------------------+------------------+-------------------+-------------------------+ CentOS Stream 10 Kernel: Depends on container host Compiler: gcc 14.2.1 20241104 (Red Hat 14.2.1-6) Debian 12 Kernel: Depends on container host Compiler: gcc (Debian 12.2.0-14) 12.2.0 CentOS Stream 9 Kernel: Depends on container host Compiler: gcc 11.5.0 20240719 (Red Hat 11.5.0-2) Fedora 40 Kernel: Depends on container host Compiler: gcc 14.2.1 20240912 (Red Hat 14.2.1-3) Fedora 40 (Clang) Kernel: Depends on container host Compiler: clang 18.1.8 (Fedora 18.1.8-1.fc40) openSUSE Leap 15 Kernel: Depends on container host Compiler: gcc (SUSE Linux) 7.5.0 Fedora 41 (Clang) Kernel: Depends on container host Compiler: clang 19.1.5 (Fedora 19.1.5-1.fc41) Fedora 41 Kernel: Depends on container host Compiler: gcc 14.2.1 20240912 (Red Hat 14.2.1-3) RHEL9 Kernel: Depends on container host Compiler: gcc 11.5.0 20240719 (Red Hat 11.5.0-2) Ubuntu 20.04 Kernel: Depends on container host Compiler: gcc (Ubuntu 9.4.0-1ubuntu1~20.04.2) 9.4.0 Ubuntu 22.04 Kernel: Depends on container host Compiler: gcc (Ubuntu 11.4.0-1ubuntu1~22.04) 11.4.0 Ubuntu 24.04 32 Bit Cross Compile Kernel: Depends on container host Compiler: gcc (Ubuntu 13.3.0-6ubuntu2~24.04) 13.3.0 FreeBSD 13.5 Kernel: 13.5-RELEASE Compiler: clang 19.1.7 FreeBSD 14.2 Kernel: 14.2-RELEASE Compiler: clang 18.1.6 RHEL8 Kernel: Depends on container host Compiler: gcc 8.5.0 20210514 (Red Hat 8.5.0-22) Windows Server 2022 Kernel: 10.0.20348.2031 Compiler: clang 15.0.7, gcc 14.1.0 (MinGW), and MSVC VS 19.39.33521 To view detailed results, visit: https://lab.dpdk.org/results/dashboard/patchsets/33126/ UNH-IOL DPDK Community Lab To manage your email subscriptions, visit: https://lab.dpdk.org/results/dashboard/preferences/subscriptions/