From mboxrd@z Thu Jan  1 00:00:00 1970
Return-Path: <test-report-bounces@dpdk.org>
Received: from mails.dpdk.org (mails.dpdk.org [217.70.189.124])
	by inbox.dpdk.org (Postfix) with ESMTP id 21F29466E2
	for <public@inbox.dpdk.org>; Wed,  7 May 2025 05:43:53 +0200 (CEST)
Received: from mails.dpdk.org (localhost [127.0.0.1])
	by mails.dpdk.org (Postfix) with ESMTP id F08C34025D;
	Wed,  7 May 2025 05:43:52 +0200 (CEST)
Received: from mail-pl1-f226.google.com (mail-pl1-f226.google.com
 [209.85.214.226])
 by mails.dpdk.org (Postfix) with ESMTP id D78664025A
 for <test-report@dpdk.org>; Wed,  7 May 2025 05:43:51 +0200 (CEST)
Received: by mail-pl1-f226.google.com with SMTP id
 d9443c01a7336-22e4d235811so16876455ad.2
 for <test-report@dpdk.org>; Tue, 06 May 2025 20:43:51 -0700 (PDT)
DKIM-Signature: v=1; a=rsa-sha256; c=relaxed/relaxed;
 d=iol.unh.edu; s=unh-iol; t=1746589431; x=1747194231; darn=dpdk.org;
 h=references:in-reply-to:cc:to:from:subject:message-id:date:from:to
 :cc:subject:date:message-id:reply-to;
 bh=28u79oEvwttrQkhn/5x6olMF9goqYXZQWHwTLdeYvp4=;
 b=WoFH1MHFhoyul/b7kQ10LUZWFDym6UVORjk25SYpeeAsEZJjiODgRf01qqGbk8zK8y
 6WQMcs5dDnWsB9eHgNNMArjmUMfYEb13L9cZ9fuAAtX/Sj4ejg391n5RG1FzHp89aou6
 sNRSWeeCLO9auhEHHS0a4FZME/JSOjkCbG0DU=
X-Google-DKIM-Signature: v=1; a=rsa-sha256; c=relaxed/relaxed;
 d=1e100.net; s=20230601; t=1746589431; x=1747194231;
 h=references:in-reply-to:cc:to:from:subject:message-id:date
 :x-gm-message-state:from:to:cc:subject:date:message-id:reply-to;
 bh=28u79oEvwttrQkhn/5x6olMF9goqYXZQWHwTLdeYvp4=;
 b=ccN6n3CoCLBUX6kupUuDz+FH4VPSk5Ef3K8y3PiUHDiORC/T/Y0UmlZhaXH+qGC2jJ
 AmgsOF95WvuScRTFdUexruj2WpoezW2EYUsEC5MSPIPav51vkwgO1WDSKTojAq48nDDp
 bYUgkN7+Bym9KiI6XYyL4i1HDKa6594A8bIc74XFtIb3I4xXPm6vU7os71T3ZlBGWcwP
 ahXnJJKm9Uiz5SdkFhXXloty7IEt87HLoMipiOf5BX/zm9KZD50G3wHQMqG340ai4w1r
 mnTi8Dvb9uBLpB/jcmM2ybmuXANMM3U8n/zSY2FOfGWQSXhFc5YaRP2Nz4xdUKuqXwNl
 CN2Q==
X-Gm-Message-State: AOJu0YzGuSkCpCLoopKn6rR3A03uc9H316vzGs7We709Zix5zpPnss9I
 nQxco9ipPJF684UHcTkpEccX8FMp45MXqrQjkFDPrPPI/mu5Od9VNeQs0oVm37HceNOTk1BLFp9
 CCYKueOu2aKCcCPxH22iuXyoBstu+FHY5FmBAh6othTudbmDOwzN80hKy
X-Gm-Gg: ASbGnctKR31BH9MHIfGqKAKv99LhvV+W8x11v2myOVVz4Pg+ePxqCRFtvtFaboLwAsy
 AcVpmuY59QeyrrsnFsM0I6m6J+sHF2ZLWh7hgkpl7H8pET1vLfmFEA3TICL017VKWUfs5IAxwWy
 xcxox8eP7OHAajid3WqU2cf3XJxHGEgNqG8KQEcFkSzlv6OlT1MnKCDYiRaSM9mfd6lvQ2uXw0N
 KxfkPKcnWnEtD5V9AN1UOKdz+OiUkRsYiXDaX1rybtoKEmbuqeFq3cdPywSYo6+pRFEwPYF8LWV
 FVS5Za/YpHXXx1T4QWYXzqaLs1pFIC+1RqTb
X-Google-Smtp-Source: AGHT+IGU4cyJN2QKj7LnVabPzJggC1l6QecmwU5iIEPuX7qofg52Z/2/0VK4JJBsCwIxhLilpQ1ae1R1Vxdk
X-Received: by 2002:a05:6830:410e:b0:72b:a6a9:8465 with SMTP id
 46e09a7af769-73210b17934mr1061819a34.23.1746589419425; 
 Tue, 06 May 2025 20:43:39 -0700 (PDT)
Received: from postal.iol.unh.edu (postal.iol.unh.edu.
 [2606:4100:3880:1234::84]) by smtp-relay.gmail.com with ESMTPS id
 46e09a7af769-732109dc93asm44680a34.3.2025.05.06.20.43.39
 (version=TLS1_2 cipher=ECDHE-ECDSA-AES128-GCM-SHA256 bits=128/128);
 Tue, 06 May 2025 20:43:39 -0700 (PDT)
X-Relaying-Domain: iol.unh.edu
Date: Tue, 06 May 2025 20:43:39 -0700 (PDT)
Message-ID: <681ad6eb.050a0220.b7b16.2989SMTPIN_ADDED_MISSING@mx.google.com>
Received: from [172.17.0.2] (unknown [172.18.0.74])
 by postal.iol.unh.edu (Postfix) with ESMTP id DBB8F6052471;
 Tue,  6 May 2025 23:43:38 -0400 (EDT)
Subject: |SUCCESS| pw153326 [PATCH] net/mlx5: fix transceiver warning when no
From: dpdklab@iol.unh.edu
To: Test Report <test-report@dpdk.org>
Cc: dpdk-test-reports@iol.unh.edu
In-Reply-To: <20250506133107.4432-1-yogev@cgstowernetworks.com>
References: <20250506133107.4432-1-yogev@cgstowernetworks.com>
Content-Type: text/plain
X-BeenThere: test-report@dpdk.org
X-Mailman-Version: 2.1.29
Precedence: list
List-Id: automatic DPDK test reports <test-report.dpdk.org>
List-Unsubscribe: <https://mails.dpdk.org/options/test-report>,
 <mailto:test-report-request@dpdk.org?subject=unsubscribe>
List-Archive: <http://mails.dpdk.org/archives/test-report/>
List-Post: <mailto:test-report@dpdk.org>
List-Help: <mailto:test-report-request@dpdk.org?subject=help>
List-Subscribe: <https://mails.dpdk.org/listinfo/test-report>,
 <mailto:test-report-request@dpdk.org?subject=subscribe>
Errors-To: test-report-bounces@dpdk.org

Test-Label: iol-unit-arm64-testing
Test-Status: SUCCESS
http://dpdk.org/patch/153326

_Testing PASS_

Submitter: yogev <yogev@cgstowernetworks.com>
Date: Tuesday, May 06 2025 13:31:07 
DPDK git baseline: Repo:dpdk
  Branch: master
  CommitID:edd3f4b1265e6da707c46ca9b6c39d332647baea

153326 --> testing pass

Upstream job id: Aarch32-Unit-Test#6157

Test environment and result as below:

+-----------------------------+----------------+------------------------------+---------------------------+--------------+
|         Environment         | dpdk_unit_test | cryptodev_sw_snow3g_autotest | cryptodev_sw_zuc_autotest | lpm_autotest |
+=============================+================+==============================+===========================+==============+
| CentOS Stream 10 (ARM)      | PASS           | SKIPPED                      | SKIPPED                   | SKIPPED      |
+-----------------------------+----------------+------------------------------+---------------------------+--------------+
| CentOS Stream 9 (ARM)       | PASS           | SKIPPED                      | SKIPPED                   | SKIPPED      |
+-----------------------------+----------------+------------------------------+---------------------------+--------------+
| Debian 12 (arm)             | PASS           | PASS                         | PASS                      | SKIPPED      |
+-----------------------------+----------------+------------------------------+---------------------------+--------------+
| Fedora 40 (ARM)             | PASS           | SKIPPED                      | SKIPPED                   | SKIPPED      |
+-----------------------------+----------------+------------------------------+---------------------------+--------------+
| Fedora 41 (ARM)             | PASS           | SKIPPED                      | SKIPPED                   | SKIPPED      |
+-----------------------------+----------------+------------------------------+---------------------------+--------------+
| Fedora 40 (ARM Clang)       | PASS           | SKIPPED                      | SKIPPED                   | SKIPPED      |
+-----------------------------+----------------+------------------------------+---------------------------+--------------+
| Ubuntu 20.04 (ARM)          | PASS           | SKIPPED                      | SKIPPED                   | SKIPPED      |
+-----------------------------+----------------+------------------------------+---------------------------+--------------+
| Ubuntu 22.04 (ARM)          | PASS           | SKIPPED                      | SKIPPED                   | SKIPPED      |
+-----------------------------+----------------+------------------------------+---------------------------+--------------+
| RHEL9 (ARM)                 | PASS           | SKIPPED                      | SKIPPED                   | SKIPPED      |
+-----------------------------+----------------+------------------------------+---------------------------+--------------+
| Fedora 41 (ARM Clang)       | PASS           | SKIPPED                      | SKIPPED                   | SKIPPED      |
+-----------------------------+----------------+------------------------------+---------------------------+--------------+
| Ubuntu 24.04 (ARM)          | PASS           | SKIPPED                      | SKIPPED                   | SKIPPED      |
+-----------------------------+----------------+------------------------------+---------------------------+--------------+
| 32-bit Ubuntu 22.04.4 (ARM) | PASS           | SKIPPED                      | SKIPPED                   | SKIPPED      |
+-----------------------------+----------------+------------------------------+---------------------------+--------------+
| Ubuntu 20.04 ARM SVE        | SKIPPED        | SKIPPED                      | SKIPPED                   | PASS         |
+-----------------------------+----------------+------------------------------+---------------------------+--------------+


CentOS Stream 10 (ARM)
	Kernel: Depends on container host
	Compiler: gcc 14.2.1 20241104 (Red Hat 14.2.1-6)

CentOS Stream 9 (ARM)
	Kernel: Depends on container host
	Compiler: gcc 11.5.0 20240719 (Red Hat 11.5.0-2)

Debian 12 (arm)
	Kernel: Depends on container host
	Compiler: gcc (Debian 12.2.0-14) 12.2.0

Fedora 40 (ARM)
	Kernel: Depends on container host
	Compiler: gcc 14.2.1 20240912 (Red Hat 14.2.1-3)

Fedora 41 (ARM)
	Kernel: Depends on container host
	Compiler: gcc 14.2.1 20240912 (Red Hat 14.2.1-3)

Fedora 40 (ARM Clang)
	Kernel: Depends on container host
	Compiler: clang 18.1.8 (Fedora 18.1.8-1.fc40)

Ubuntu 20.04 (ARM)
	Kernel: Depends on container host
	Compiler: gcc (Ubuntu 9.4.0-1ubuntu1~20.04.2) 9.4.0

Ubuntu 22.04 (ARM)
	Kernel: Depends on container host
	Compiler: gcc (Ubuntu 11.4.0-1ubuntu1~22.04) 11.4.0

RHEL9 (ARM)
	Kernel: Depends on container host
	Compiler: gcc 11.5.0 20240719 (Red Hat 11.5.0-2)

Fedora 41 (ARM Clang)
	Kernel: Depends on container host
	Compiler: clang 19.1.5 (Fedora 19.1.5-1.fc41)

Ubuntu 24.04 (ARM)
	Kernel: Depends on container host
	Compiler: gcc (Ubuntu 13.3.0-6ubuntu2~24.04) 13.3.0

32-bit Ubuntu 22.04.4 (ARM)
	Kernel: 5.15.83+ aarch64
	Compiler: gcc (Ubuntu 11.4.0-1ubuntu1~22.04) 11.4.0

Ubuntu 20.04 ARM SVE
	Kernel: Depends on container host
	Compiler: gcc (Ubuntu 10.5.0-1ubuntu1~20.04) 10.5.0

To view detailed results, visit:
https://lab.dpdk.org/results/dashboard/patchsets/33124/

UNH-IOL DPDK Community Lab

To manage your email subscriptions, visit: 
https://lab.dpdk.org/results/dashboard/preferences/subscriptions/