From mboxrd@z Thu Jan 1 00:00:00 1970 Return-Path: Received: from mails.dpdk.org (mails.dpdk.org [217.70.189.124]) by inbox.dpdk.org (Postfix) with ESMTP id 68847466E3 for ; Wed, 7 May 2025 06:16:43 +0200 (CEST) Received: from mails.dpdk.org (localhost [127.0.0.1]) by mails.dpdk.org (Postfix) with ESMTP id 62CE34025D; Wed, 7 May 2025 06:16:43 +0200 (CEST) Received: from mail-oa1-f97.google.com (mail-oa1-f97.google.com [209.85.160.97]) by mails.dpdk.org (Postfix) with ESMTP id B96C94025A for ; Wed, 7 May 2025 06:16:41 +0200 (CEST) Received: by mail-oa1-f97.google.com with SMTP id 586e51a60fabf-2c769da02b0so5014585fac.3 for ; Tue, 06 May 2025 21:16:41 -0700 (PDT) DKIM-Signature: v=1; a=rsa-sha256; c=relaxed/relaxed; d=iol.unh.edu; s=unh-iol; t=1746591401; x=1747196201; darn=dpdk.org; h=references:in-reply-to:cc:to:from:subject:message-id:date:from:to :cc:subject:date:message-id:reply-to; bh=LAUFplwIfzp3oUDdSfOWO4nYqJccGvpSHwDgyAon1jg=; b=Ni+aOu+UQzbBOFYtjLUXN5GFjtsDZzUAkr/90EyIJNMfBxNpXOjm0e78JTLeZ8gOSF sKiLpfMFKP9rS9DglimtBBYM8dkFDZqxYSJ9e57VKQArn8qBNv1BzCjLbI3N5iqMjB2c YCGrF4OYuYsXplu3Xl/PjzP32LAI9C1zE8i9c= X-Google-DKIM-Signature: v=1; a=rsa-sha256; c=relaxed/relaxed; d=1e100.net; s=20230601; t=1746591401; x=1747196201; h=references:in-reply-to:cc:to:from:subject:message-id:date :x-gm-message-state:from:to:cc:subject:date:message-id:reply-to; bh=LAUFplwIfzp3oUDdSfOWO4nYqJccGvpSHwDgyAon1jg=; b=Vrwyje8c91cm5GLZfNAAUNKp5g8RqEddqWC39QY3Fh/Ic4VpPOv1CQxwJsbyugv7Do 00fWaHR/bXiAF01a/mPY9RKDMxHLh56sNIN6PmKDd4RQ8RAwY0/n6d/TzP5/8oU5NEsE yEvP7Fe+kcvuHjlrQanxlxhSRmerggdW996J3PYwTDUVCDBre+WKbiOJ0KbleL9/kMh4 A3iB9rbElkQy09ghqaiS2x72s9gEO0fqqVUhncVeU53QXmRVkHFRNYZrwYapRBMLlA/A aJr88Q7uuZnP/RwKflo3ROaojM7PYQh5B+SJ1N7vWzrsbh1Yjm4ZTHuWuf1NUFQA/NPg Xnfw== X-Gm-Message-State: AOJu0YwzYUZwKj/oLtoOY9pSXyjF/xg9V+8uNNEWNWvq5h/u4FHfeYu0 o6mviNBpjrO1WroC0A0+Xm13HQTAi6DvRn2XmUypP76pD+C/q/8vqIJz7Aefxkc4K4E4vC/qee3 nCQJxrLpn2JK1zS5Ap5oa+2RR1OF3F3EfmZ+w3wDejegYDmWWLla0WS4o X-Gm-Gg: ASbGncv+eD9oWvASPb03T1iRaApcOB2GtKtTKAFYKWiq+Ag6G1xYpxKLZp9nmF/hTk/ akGHHvFukQgmr7k/34i/FPhMIF4cObZcUXDkOP0JzwWoN2XdEFOlEBYb/prZtrAau0B7xX3jCTH F9LI0EvAxHKwrx1xxyRq9ro/GRpsBO0mPZNHUt3QPlLpUj19W1ISdb4j9zzKONm23/9ciF18s3G JKICXEf7V9zvAGR29vlCYbjIMtbp/jLOjZsGEmWwd7WLls+X2h1caejhEVpzvj1/bwpYNRJvFHA voMoUmVpCeatFEWGUebhI5LYIBXNJNQvTTKb X-Google-Smtp-Source: AGHT+IHB57JKK1zkYuyefDRW3HI5/ED53HQdMqTUW/v3Br2rLmL+bX8usDFJEgfLCCOyrotTz8c3zfyFpMjt X-Received: by 2002:a05:6870:8303:b0:2c3:1651:ca78 with SMTP id 586e51a60fabf-2db5be1cdeamr1111004fac.14.1746591400773; Tue, 06 May 2025 21:16:40 -0700 (PDT) Received: from postal.iol.unh.edu (postal.iol.unh.edu. [2606:4100:3880:1234::84]) by smtp-relay.gmail.com with ESMTPS id 586e51a60fabf-2db5cd93124sm52014fac.19.2025.05.06.21.16.40 (version=TLS1_2 cipher=ECDHE-ECDSA-AES128-GCM-SHA256 bits=128/128); Tue, 06 May 2025 21:16:40 -0700 (PDT) X-Relaying-Domain: iol.unh.edu Date: Tue, 06 May 2025 21:16:40 -0700 (PDT) Message-ID: <681adea8.050a0220.3d7606.2f08SMTPIN_ADDED_MISSING@mx.google.com> Received: from [172.17.0.2] (unknown [172.18.0.74]) by postal.iol.unh.edu (Postfix) with ESMTP id 3F9D56052471; Wed, 7 May 2025 00:16:40 -0400 (EDT) Subject: |SUCCESS| pw153326 [PATCH] net/mlx5: fix transceiver warning when no From: dpdklab@iol.unh.edu To: Test Report Cc: dpdk-test-reports@iol.unh.edu In-Reply-To: <20250506133107.4432-1-yogev@cgstowernetworks.com> References: <20250506133107.4432-1-yogev@cgstowernetworks.com> Content-Type: text/plain X-BeenThere: test-report@dpdk.org X-Mailman-Version: 2.1.29 Precedence: list List-Id: automatic DPDK test reports List-Unsubscribe: , List-Archive: List-Post: List-Help: List-Subscribe: , Errors-To: test-report-bounces@dpdk.org Test-Label: iol-compile-amd64-testing Test-Status: SUCCESS http://dpdk.org/patch/153326 _Testing PASS_ Submitter: yogev Date: Tuesday, May 06 2025 13:31:07 DPDK git baseline: Repo:dpdk Branch: master CommitID:edd3f4b1265e6da707c46ca9b6c39d332647baea 153326 --> testing pass Upstream job id: Generic-DPDK-Compile-Meson#385821 Test environment and result as below: +-----------------------------------+--------------------+-------------------+------------------+-------------------+ | Environment | dpdk_meson_compile | dpdk_compile_spdk | dpdk_compile_ovs | dpdk_msvc_compile | +===================================+====================+===================+==================+===================+ | CentOS Stream 10 | PASS | SKIPPED | SKIPPED | SKIPPED | +-----------------------------------+--------------------+-------------------+------------------+-------------------+ | CentOS Stream 9 | PASS | PASS | SKIPPED | SKIPPED | +-----------------------------------+--------------------+-------------------+------------------+-------------------+ | Fedora 40 (Clang) | PASS | PASS | SKIPPED | SKIPPED | +-----------------------------------+--------------------+-------------------+------------------+-------------------+ | Debian 12 | PASS | PASS | SKIPPED | SKIPPED | +-----------------------------------+--------------------+-------------------+------------------+-------------------+ | Fedora 41 (Clang) | PASS | PASS | PASS | SKIPPED | +-----------------------------------+--------------------+-------------------+------------------+-------------------+ | Fedora 40 | PASS | PASS | SKIPPED | SKIPPED | +-----------------------------------+--------------------+-------------------+------------------+-------------------+ | openSUSE Leap 15 | PASS | SKIPPED | SKIPPED | SKIPPED | +-----------------------------------+--------------------+-------------------+------------------+-------------------+ | RHEL8 | PASS | SKIPPED | SKIPPED | SKIPPED | +-----------------------------------+--------------------+-------------------+------------------+-------------------+ | Fedora 41 | PASS | PASS | PASS | SKIPPED | +-----------------------------------+--------------------+-------------------+------------------+-------------------+ | RHEL9 | PASS | SKIPPED | SKIPPED | SKIPPED | +-----------------------------------+--------------------+-------------------+------------------+-------------------+ | Ubuntu 20.04 | PASS | SKIPPED | SKIPPED | SKIPPED | +-----------------------------------+--------------------+-------------------+------------------+-------------------+ | Ubuntu 22.04 | PASS | PASS | SKIPPED | SKIPPED | +-----------------------------------+--------------------+-------------------+------------------+-------------------+ | Ubuntu 24.04 | PASS | PASS | PASS | SKIPPED | +-----------------------------------+--------------------+-------------------+------------------+-------------------+ | Alpine | PASS | SKIPPED | SKIPPED | SKIPPED | +-----------------------------------+--------------------+-------------------+------------------+-------------------+ | Ubuntu 24.04 32 Bit Cross Compile | PASS | SKIPPED | SKIPPED | SKIPPED | +-----------------------------------+--------------------+-------------------+------------------+-------------------+ | FreeBSD 13.5 | PASS | SKIPPED | SKIPPED | SKIPPED | +-----------------------------------+--------------------+-------------------+------------------+-------------------+ | FreeBSD 14.2 | PASS | SKIPPED | SKIPPED | SKIPPED | +-----------------------------------+--------------------+-------------------+------------------+-------------------+ | Windows Server 2022 | SKIPPED | SKIPPED | SKIPPED | PASS | +-----------------------------------+--------------------+-------------------+------------------+-------------------+ CentOS Stream 10 Kernel: Depends on container host Compiler: gcc 14.2.1 20241104 (Red Hat 14.2.1-6) CentOS Stream 9 Kernel: Depends on container host Compiler: gcc 11.5.0 20240719 (Red Hat 11.5.0-2) Fedora 40 (Clang) Kernel: Depends on container host Compiler: clang 18.1.8 (Fedora 18.1.8-1.fc40) Debian 12 Kernel: Depends on container host Compiler: gcc (Debian 12.2.0-14) 12.2.0 Fedora 41 (Clang) Kernel: Depends on container host Compiler: clang 19.1.5 (Fedora 19.1.5-1.fc41) Fedora 40 Kernel: Depends on container host Compiler: gcc 14.2.1 20240912 (Red Hat 14.2.1-3) openSUSE Leap 15 Kernel: Depends on container host Compiler: gcc (SUSE Linux) 7.5.0 RHEL8 Kernel: Depends on container host Compiler: gcc 8.5.0 20210514 (Red Hat 8.5.0-22) Fedora 41 Kernel: Depends on container host Compiler: gcc 14.2.1 20240912 (Red Hat 14.2.1-3) RHEL9 Kernel: Depends on container host Compiler: gcc 11.5.0 20240719 (Red Hat 11.5.0-2) Ubuntu 20.04 Kernel: Depends on container host Compiler: gcc (Ubuntu 9.4.0-1ubuntu1~20.04.2) 9.4.0 Ubuntu 22.04 Kernel: Depends on container host Compiler: gcc (Ubuntu 11.4.0-1ubuntu1~22.04) 11.4.0 Ubuntu 24.04 Kernel: Depends on container host Compiler: gcc (Ubuntu 13.3.0-6ubuntu2~24.04) 13.3.0 Alpine Kernel: Depends on container host Compiler: gcc (Alpine 14.2.0) 14.2.0 Ubuntu 24.04 32 Bit Cross Compile Kernel: Depends on container host Compiler: gcc (Ubuntu 13.3.0-6ubuntu2~24.04) 13.3.0 FreeBSD 13.5 Kernel: 13.5-RELEASE Compiler: clang 19.1.7 FreeBSD 14.2 Kernel: 14.2-RELEASE Compiler: clang 18.1.6 Windows Server 2022 Kernel: 10.0.20348.2031 Compiler: clang 15.0.7, gcc 14.1.0 (MinGW), and MSVC VS 19.39.33521 To view detailed results, visit: https://lab.dpdk.org/results/dashboard/patchsets/33124/ UNH-IOL DPDK Community Lab To manage your email subscriptions, visit: https://lab.dpdk.org/results/dashboard/preferences/subscriptions/