From mboxrd@z Thu Jan 1 00:00:00 1970 Return-Path: Received: from mails.dpdk.org (mails.dpdk.org [217.70.189.124]) by inbox.dpdk.org (Postfix) with ESMTP id 4BDAC466E3 for ; Wed, 7 May 2025 06:21:32 +0200 (CEST) Received: from mails.dpdk.org (localhost [127.0.0.1]) by mails.dpdk.org (Postfix) with ESMTP id 344CF4025D; Wed, 7 May 2025 06:21:32 +0200 (CEST) Received: from mail-qt1-f226.google.com (mail-qt1-f226.google.com [209.85.160.226]) by mails.dpdk.org (Postfix) with ESMTP id 7AE134025A for ; Wed, 7 May 2025 06:21:30 +0200 (CEST) Received: by mail-qt1-f226.google.com with SMTP id d75a77b69052e-4811fca8658so77168331cf.3 for ; Tue, 06 May 2025 21:21:30 -0700 (PDT) DKIM-Signature: v=1; a=rsa-sha256; c=relaxed/relaxed; d=iol.unh.edu; s=unh-iol; t=1746591690; x=1747196490; darn=dpdk.org; h=references:in-reply-to:cc:to:from:subject:message-id:date:from:to :cc:subject:date:message-id:reply-to; bh=46lmpnGGY5ByR9Oey+PqxClotl+QtYrP1cvUOSPGPbo=; b=dmeXDzvxBh5Wj0tgF24vvi+i0LAqJEpHDe7zJPrOejBzAthOcZ+zXr6+P8gNDY7nF6 Lt1c0mM2Rx5TzhaxqrbsCbg7sj/fsNW49wy/MMn3I5mOewsdB15ns3Govv0I+Egr5XMK v1wXiZ2+lWSoiTVqNS6UbEscsYs9wDkWkoZnk= X-Google-DKIM-Signature: v=1; a=rsa-sha256; c=relaxed/relaxed; d=1e100.net; s=20230601; t=1746591690; x=1747196490; h=references:in-reply-to:cc:to:from:subject:message-id:date :x-gm-message-state:from:to:cc:subject:date:message-id:reply-to; bh=46lmpnGGY5ByR9Oey+PqxClotl+QtYrP1cvUOSPGPbo=; b=ivqhotLXurTGS3hM+IMUvEKxN799HMN2KT0DGT9BCVHGabYIBAkE+PsXamf7eSerEx pqnZYztX1X+6oWKVYi1B6wl0Dgp6DD7QIVn5uEqfpuJrlGx5DuGUdvWE+/da802qGuYb bea8EpDY+GINwFKqR83TIk5DCDPI3OVFLg4OUWtVwW5gHqKSGF9TCuelIHzqsFqC/GgW tezI5CeJsSjpK2k3EVVlxdj6vOyMv33qo5PEI1hcU+jPDld2rluGyKCbpDRsgWHUgIUw gKEa5jkY6zZvJq/YHKWwTWwKd2Tp/CWzbvUVWcNt18hLQY85jtMHOUGKiB9AhyHEb4kf t7Ow== X-Gm-Message-State: AOJu0YxIN68glugxpgnOP5e6/OH24IP/LHHn09hszOGV1D0SyfELTOQD wdnNYBcAhVi0lGJdTcfg8ETDr5caAyfSZPCaDHkXU1nYUAZTXbRGB+8VhPdRGysc3+9lKouspT9 ObCdNc/3N5uUWZ2MffC50s7ZIcUiiX22ECxXWW6QU X-Gm-Gg: ASbGncstJA/YtLNrtbB8IeViZnHBKcW9K6Apj2TM1HMy/uMUWuS92TdSshzYVFyYPM1 yFlhLIPnpgRXYD7puBYjQVfNYjd+eoHukKusN0i/91gwd5czfIsqeEzsXaBTBGA1Ahe5Tse8z05 ZrNxGto0PkbFUy1Ks9qcg3ZnQ4oDSb/nyQsfpngNEkUe8Nb+5+gZe+OZQGtGrUGscyThPVkBY+D wrRKA35HPjAAQB+tw5wV4RSSDqF0PNgo0i8wW+xfBvSGW9AwU0ibrv6XI/nzhJF+aBk6mBy7+hx Sn8iP59LxPwm4nNMlB6ij878XXM8ZWjVm/7juuqf9iVfCwj4zYTFBy4KCSE= X-Google-Smtp-Source: AGHT+IG4uD+VnM9Lbuj+ZyVU6il7whS5NUYWpX0U4o/FhNrGorrCl9Y2j73g2vIAHHS8nkC17raxIy7fhgu1 X-Received: by 2002:a05:622a:34a:b0:476:8917:5efe with SMTP id d75a77b69052e-4922795dda1mr25365791cf.42.1746591689824; Tue, 06 May 2025 21:21:29 -0700 (PDT) Received: from postal.iol.unh.edu (postal.iol.unh.edu. [132.177.123.84]) by smtp-relay.gmail.com with ESMTPS id d75a77b69052e-49220f82de8sm446071cf.1.2025.05.06.21.21.29 (version=TLS1_2 cipher=ECDHE-ECDSA-AES128-GCM-SHA256 bits=128/128); Tue, 06 May 2025 21:21:29 -0700 (PDT) X-Relaying-Domain: iol.unh.edu Date: Tue, 06 May 2025 21:21:29 -0700 (PDT) Message-ID: <681adfc9.050a0220.26ee57.2768SMTPIN_ADDED_MISSING@mx.google.com> Received: from [172.17.0.2] (unknown [172.18.0.74]) by postal.iol.unh.edu (Postfix) with ESMTP id 88C4F6052471; Wed, 7 May 2025 00:21:29 -0400 (EDT) Subject: |SUCCESS| pw153332 [PATCH] kernel/freebsd: Allow contigmem allocatio From: dpdklab@iol.unh.edu To: Test Report Cc: dpdk-test-reports@iol.unh.edu In-Reply-To: <20250506174941.1141140-1-jfree@FreeBSD.org> References: <20250506174941.1141140-1-jfree@FreeBSD.org> Content-Type: text/plain X-BeenThere: test-report@dpdk.org X-Mailman-Version: 2.1.29 Precedence: list List-Id: automatic DPDK test reports List-Unsubscribe: , List-Archive: List-Post: List-Help: List-Subscribe: , Errors-To: test-report-bounces@dpdk.org Test-Label: iol-sample-apps-testing Test-Status: SUCCESS http://dpdk.org/patch/153332 _Testing PASS_ Submitter: Jake Freeland Date: Tuesday, May 06 2025 17:48:38 DPDK git baseline: Repo:dpdk Branch: master CommitID:75f179ebe347b6098cf3af26d3d3b7168fe3fe24 153332 --> testing pass Upstream job id: ACVP-FIPS-testing#9732 Test environment and result as below: +--------------------+----------------------+----------------------+ | Environment | compressdev_zlib_pmd | dpdk_fips_validation | +====================+======================+======================+ | Ubuntu 22.04 (ARM) | PASS | SKIPPED | +--------------------+----------------------+----------------------+ | Ubuntu 22.04 | PASS | SKIPPED | +--------------------+----------------------+----------------------+ | Ubuntu 20.04 | SKIPPED | PASS | +--------------------+----------------------+----------------------+ Ubuntu 22.04 (ARM) Kernel: 5.15.0-97-generic Compiler: gcc gcc (Ubuntu 11.4.0-1ubuntu1~22.04) 11.4.0 Ubuntu 22.04 Kernel: 5.15.0-100-generic Compiler: gcc gcc (Ubuntu 11.4.0-1ubuntu1~22.04) 11.4.0 Ubuntu 20.04 Kernel: Depends on container host Compiler: gcc (Ubuntu 9.4.0-1ubuntu1~20.04.2) 9.4.0 To view detailed results, visit: https://lab.dpdk.org/results/dashboard/patchsets/33127/ UNH-IOL DPDK Community Lab To manage your email subscriptions, visit: https://lab.dpdk.org/results/dashboard/preferences/subscriptions/