From mboxrd@z Thu Jan 1 00:00:00 1970 Return-Path: Received: from mails.dpdk.org (mails.dpdk.org [217.70.189.124]) by inbox.dpdk.org (Postfix) with ESMTP id 20F8B466B3 for ; Wed, 7 May 2025 06:34:10 +0200 (CEST) Received: from mails.dpdk.org (localhost [127.0.0.1]) by mails.dpdk.org (Postfix) with ESMTP id 1BF3C4025D; Wed, 7 May 2025 06:34:10 +0200 (CEST) Received: from mail-pl1-f227.google.com (mail-pl1-f227.google.com [209.85.214.227]) by mails.dpdk.org (Postfix) with ESMTP id E1AD74025A for ; Wed, 7 May 2025 06:34:08 +0200 (CEST) Received: by mail-pl1-f227.google.com with SMTP id d9443c01a7336-227d6b530d8so62341945ad.3 for ; Tue, 06 May 2025 21:34:08 -0700 (PDT) DKIM-Signature: v=1; a=rsa-sha256; c=relaxed/relaxed; d=iol.unh.edu; s=unh-iol; t=1746592448; x=1747197248; darn=dpdk.org; h=references:in-reply-to:cc:to:from:subject:message-id:date:from:to :cc:subject:date:message-id:reply-to; bh=jtDG1ku+KGEd15gui/fQs6K0YH2QD/LUSBgGifKumNY=; b=iMDiiS1w5mnmWMCagRpSf7Xa9cbPPWDKoe1t2QSoZSrFKstwJjhMXaNbL6BdkWmTr6 Sjsj8IVTqVz573Jh1YIiLz7qfPqP0v//83RFfbjietd5P8/kx1LXILdn41uzISVppYGH I2hkKRiS6s7vM+W2SooV5BbCl2wk6MRyzWVE8= X-Google-DKIM-Signature: v=1; a=rsa-sha256; c=relaxed/relaxed; d=1e100.net; s=20230601; t=1746592448; x=1747197248; h=references:in-reply-to:cc:to:from:subject:message-id:date :x-gm-message-state:from:to:cc:subject:date:message-id:reply-to; bh=jtDG1ku+KGEd15gui/fQs6K0YH2QD/LUSBgGifKumNY=; b=nwcp4m51ktGaOQOqW2mNAtYZjvp1gQv6WY1dzybfQkdj7LL7jZieyeqtKZ7wYWBTTf IToeAJmFqzUbq76b6f1gfxNp9FIy5xIAfM/wB8iWTnTc4L6Zj2fSQcBGsOp604Fd5za7 62tFaF+uKbXNAHr4Vce8YZEFKXxjGF2CizX01oWwNzDakuoEZuch9VPEJgDUPjJmxE5P 2efJwqry6+hNPf2+Wk4NGtpNlNtmY6HAUJpqci5FRh8gDRJgcPoPJYRMn6x0w4lwh+8X xPycn2zKUkAX7evsd+NroF5SKR0HYySp0YIKK3iU26RljLvMwuF9zy6Ecl8H9GcJZSdV dqyg== X-Gm-Message-State: AOJu0YwH9nm9P8WWz63HMf58rWW59ZGqYjvL7LBBFdQHAdTXXKKatiDO UXHU6U1PiaibsfVRv6fgARpEYfSstuA3ImevwJ+9nYEZvOutBj14grSfCBOdRDZZpM+NkD8uzuN olhpoNn3+UsnpgAgVhHGOH3gN1dkSfAN8T+ewVzY9hIxbhpPgrKN+hCp4 X-Gm-Gg: ASbGncst/brqoQ9glgH+OCjhHxif+MS/T6Zy3zW21sxcuiwH6EVxTbBdKklxz/t41TQ DqtNoC/jYe35mnxTXZBv0binlTVh1OHK29O32TY3YNUVS8Cvy0PrwdDXUnXJWolKNkmi3ctnX5y gB+xPN8pqGwj1yAOFazukW5WPX1L8yEDZkkwbSx+2I1wQRmn6XjfDMj42qdNf8nPYyIvPtE4F0g Xjq88Eq4wcWaZBkz/wfYkZbploR00XcQH67/zBt2azQ+zhIO6/wGN+AWPFV6qRfJWqBsowZ8NHO oOW5SdTlStNpyage1mHp1Oji4jyzg2yNqAeV X-Google-Smtp-Source: AGHT+IE3Mj1OlIbmyV3oNy/GrFUCy0UEM872yVhqow7u9dSRpXj5YZbLfqBhZI2N8qazWVf1Q/C0MlJvq5ZS X-Received: by 2002:a17:902:e742:b0:22e:4db0:6b2 with SMTP id d9443c01a7336-22e5ea38b67mr29423985ad.9.1746592447985; Tue, 06 May 2025 21:34:07 -0700 (PDT) Received: from postal.iol.unh.edu (postal.iol.unh.edu. [2606:4100:3880:1234::84]) by smtp-relay.gmail.com with ESMTPS id d9443c01a7336-22e3e91d251sm1320515ad.40.2025.05.06.21.34.07 (version=TLS1_2 cipher=ECDHE-ECDSA-AES128-GCM-SHA256 bits=128/128); Tue, 06 May 2025 21:34:07 -0700 (PDT) X-Relaying-Domain: iol.unh.edu Date: Tue, 06 May 2025 21:34:07 -0700 (PDT) Message-ID: <681ae2bf.170a0220.c2bc5.6ed4SMTPIN_ADDED_MISSING@mx.google.com> Received: from [172.21.0.11] (unknown [172.18.0.240]) by postal.iol.unh.edu (Postfix) with ESMTP id 2D9F86052471; Wed, 7 May 2025 00:34:07 -0400 (EDT) Subject: |SUCCESS| pw153326 [PATCH] net/mlx5: fix transceiver warning when no From: dpdklab@iol.unh.edu To: Test Report Cc: dpdk-test-reports@iol.unh.edu In-Reply-To: <20250506133107.4432-1-yogev@cgstowernetworks.com> References: <20250506133107.4432-1-yogev@cgstowernetworks.com> Content-Type: text/plain X-BeenThere: test-report@dpdk.org X-Mailman-Version: 2.1.29 Precedence: list List-Id: automatic DPDK test reports List-Unsubscribe: , List-Archive: List-Post: List-Help: List-Subscribe: , Errors-To: test-report-bounces@dpdk.org Test-Label: iol-compile-arm64-testing Test-Status: SUCCESS http://dpdk.org/patch/153326 _Testing PASS_ Submitter: yogev Date: Tuesday, May 06 2025 13:31:07 DPDK git baseline: Repo:dpdk Branch: master CommitID:edd3f4b1265e6da707c46ca9b6c39d332647baea 153326 --> testing pass Upstream job id: Generic-DPDK-Compile-Meson#385808 Test environment and result as below: +----------------------------------------+--------------------+ | Environment | dpdk_meson_compile | +========================================+====================+ | RHEL9 (ARM) | PASS | +----------------------------------------+--------------------+ | Ubuntu 20.04 ARM GCC Cross Compile | PASS | +----------------------------------------+--------------------+ | Ubuntu 20.04 ARM SVE | PASS | +----------------------------------------+--------------------+ | Debian 12 with MUSDK | PASS | +----------------------------------------+--------------------+ | Fedora 41 (ARM) | PASS | +----------------------------------------+--------------------+ | Fedora 41 (ARM Clang) | PASS | +----------------------------------------+--------------------+ | Fedora 40 (ARM Clang) | PASS | +----------------------------------------+--------------------+ | Ubuntu 22.04 (ARM) | PASS | +----------------------------------------+--------------------+ | Ubuntu 20.04 (ARM) | PASS | +----------------------------------------+--------------------+ | Ubuntu 24.04 (ARM) | PASS | +----------------------------------------+--------------------+ | CentOS Stream 9 (ARM) | PASS | +----------------------------------------+--------------------+ | CentOS Stream 10 (ARM) | PASS | +----------------------------------------+--------------------+ | Debian 12 (arm) | PASS | +----------------------------------------+--------------------+ | Ubuntu 20.04 ARM Clang Cross Compile | PASS | +----------------------------------------+--------------------+ | Ubuntu 20.04 aarch32 GCC Cross Compile | PASS | +----------------------------------------+--------------------+ | Fedora 40 (ARM) | PASS | +----------------------------------------+--------------------+ RHEL9 (ARM) Kernel: Depends on container host Compiler: gcc 11.5.0 20240719 (Red Hat 11.5.0-2) Ubuntu 20.04 ARM GCC Cross Compile Kernel: Depends on container host Compiler: aarch64-linux-gnu-gcc (Ubuntu 9.4.0-1ubuntu1~20.04.2) 9.4.0 Ubuntu 20.04 ARM SVE Kernel: Depends on container host Compiler: gcc (Ubuntu 10.5.0-1ubuntu1~20.04) 10.5.0 Debian 12 with MUSDK Kernel: Depends on container host Compiler: gcc (Debian 12.2.0-14) 12.2.0 Fedora 41 (ARM) Kernel: Depends on container host Compiler: gcc 14.2.1 20240912 (Red Hat 14.2.1-3) Fedora 41 (ARM Clang) Kernel: Depends on container host Compiler: clang 19.1.5 (Fedora 19.1.5-1.fc41) Fedora 40 (ARM Clang) Kernel: Depends on container host Compiler: clang 18.1.8 (Fedora 18.1.8-1.fc40) Ubuntu 22.04 (ARM) Kernel: Depends on container host Compiler: gcc (Ubuntu 11.4.0-1ubuntu1~22.04) 11.4.0 Ubuntu 20.04 (ARM) Kernel: Depends on container host Compiler: gcc (Ubuntu 9.4.0-1ubuntu1~20.04.2) 9.4.0 Ubuntu 24.04 (ARM) Kernel: Depends on container host Compiler: gcc (Ubuntu 13.3.0-6ubuntu2~24.04) 13.3.0 CentOS Stream 9 (ARM) Kernel: Depends on container host Compiler: gcc 11.5.0 20240719 (Red Hat 11.5.0-2) CentOS Stream 10 (ARM) Kernel: Depends on container host Compiler: gcc 14.2.1 20241104 (Red Hat 14.2.1-6) Debian 12 (arm) Kernel: Depends on container host Compiler: gcc (Debian 12.2.0-14) 12.2.0 Ubuntu 20.04 ARM Clang Cross Compile Kernel: Depends on container host Compiler: clang 10.0.0-4ubuntu1 Ubuntu 20.04 aarch32 GCC Cross Compile Kernel: Depends on container host Compiler: gcc 9.4.0 Fedora 40 (ARM) Kernel: Depends on container host Compiler: gcc 14.2.1 20240912 (Red Hat 14.2.1-3) To view detailed results, visit: https://lab.dpdk.org/results/dashboard/patchsets/33124/ UNH-IOL DPDK Community Lab To manage your email subscriptions, visit: https://lab.dpdk.org/results/dashboard/preferences/subscriptions/