From mboxrd@z Thu Jan 1 00:00:00 1970 Return-Path: Received: from mails.dpdk.org (mails.dpdk.org [217.70.189.124]) by inbox.dpdk.org (Postfix) with ESMTP id 36BFD466E3 for ; Wed, 7 May 2025 06:34:36 +0200 (CEST) Received: from mails.dpdk.org (localhost [127.0.0.1]) by mails.dpdk.org (Postfix) with ESMTP id 302554025D; Wed, 7 May 2025 06:34:36 +0200 (CEST) Received: from mail-yw1-f225.google.com (mail-yw1-f225.google.com [209.85.128.225]) by mails.dpdk.org (Postfix) with ESMTP id 6E1B94025A for ; Wed, 7 May 2025 06:34:35 +0200 (CEST) Received: by mail-yw1-f225.google.com with SMTP id 00721157ae682-70825de932bso5972257b3.0 for ; Tue, 06 May 2025 21:34:35 -0700 (PDT) DKIM-Signature: v=1; a=rsa-sha256; c=relaxed/relaxed; d=iol.unh.edu; s=unh-iol; t=1746592474; x=1747197274; darn=dpdk.org; h=references:in-reply-to:cc:to:from:subject:message-id:date:from:to :cc:subject:date:message-id:reply-to; bh=XL9Ri+mSY6Nzco/koTQeQCWuNcsEGdq7iF1rx0YKPo4=; b=f9xuNxLX5NOvziXX+gmpeY6jbwt3E2SqWjazjWYodVUQffed4+dTdSD0wHjMF2Ze6c QBEOZuFZRROZwzyNEZu4j1Yxh7yb/7wwG0Pjzzasy36O1KcmFlGVsoNEPFiyrougYnQz yCbvzMHkUoU1kGPv0y7mh3SOfwhhdhBSNN0P0= X-Google-DKIM-Signature: v=1; a=rsa-sha256; c=relaxed/relaxed; d=1e100.net; s=20230601; t=1746592475; x=1747197275; h=references:in-reply-to:cc:to:from:subject:message-id:date :x-gm-message-state:from:to:cc:subject:date:message-id:reply-to; bh=XL9Ri+mSY6Nzco/koTQeQCWuNcsEGdq7iF1rx0YKPo4=; b=s1KvbehjV0zHcOgxW5rCOTTvKHFljFuwss5ciEJUnKh3AL/6YXpqJOQ23KQ9xO3BC6 nzIVc9q+L2kAf90WXOe/G2/urcnZ3qeVZkD76MUx/zSywB9fiE3qxsPHlfWmNtc5oRA2 jhvhczVPA1YCk+2yhIjrIpPwWdLdMkdBBo8rvRXhh9EZgAWNV+H10BWHT3mfJzm0HnBD W+6mz2FUzlyWI0l+2y5xVTmo8eFPCaqMIHbdEhupCPVNS8szMxyZ6C88h1Y+Kas6DoJ/ lZlpXH0rUgZTlwYi8gM2chY1XhThXdXQPQldtj5bk1f4uz6Sl71fHv/gIBNA1vKWL3qq /wPw== X-Gm-Message-State: AOJu0Yxk9tBf38TxZAMHimBkTfSI9Tl300/jsIorc22h5R+s532SocVm ZU9RztDw7DBumvu3tBK6iwV86Z4VLUmDAIyOhgQIHOUtjtOgPREmY95M8axMT66da73oUeiJtrl 3pPKl2VvM7vc22MHcAKl59O7gfFOD01xv2I2rbodL X-Gm-Gg: ASbGnctdow1kGfkaROAE+sWHVkGGQQ7v6AkiVyw8BzvZTZhUT+waSSQg+riSnfbneZb XEIt+rS9HVIncp5o/1T1E8PVsSVxPfQJPFwdOci9b8NRZKH4EBmpJwdZpWdzywDDxVJM8HlrZcR lT8N24SGH5JMaOZy84dQBwsw7IHK6NzjqFTP6AZzQlsELkHZzUAYnpWHT7OZLv15vTSoXzYUTSu aM5IwidaG/YlFNvdw4lli4RIVQBYC1nskn0TbMrj+iGio/K+yiVdFptwez/88LKBZTEq9e5+DF/ lLbTgrEgZn2atfLCoK5t2yqZ3ivkD+yFdtYw0emrs/ZeC1YsJN2V9pKqlA8= X-Google-Smtp-Source: AGHT+IE5TfowiQ2PdxHgB9Mf9nn2VqYiqZQYb85tLanBi3DEIdr6/ESIaEx0GrRyzXaeu71k50ebtiviqy3f X-Received: by 2002:a05:690c:4587:b0:703:b200:9f08 with SMTP id 00721157ae682-70a1e1e0fd3mr22640457b3.4.1746592474785; Tue, 06 May 2025 21:34:34 -0700 (PDT) Received: from postal.iol.unh.edu (postal.iol.unh.edu. [132.177.123.84]) by smtp-relay.gmail.com with ESMTPS id 00721157ae682-708c46b9314sm20493687b3.43.2025.05.06.21.34.34 (version=TLS1_2 cipher=ECDHE-ECDSA-AES128-GCM-SHA256 bits=128/128); Tue, 06 May 2025 21:34:34 -0700 (PDT) X-Relaying-Domain: iol.unh.edu Date: Tue, 06 May 2025 21:34:34 -0700 (PDT) Message-ID: <681ae2da.050a0220.33d499.8838SMTPIN_ADDED_MISSING@mx.google.com> Received: from [172.17.0.4] (unknown [172.18.0.74]) by postal.iol.unh.edu (Postfix) with ESMTP id 6B28A6052471; Wed, 7 May 2025 00:34:34 -0400 (EDT) Subject: |SUCCESS| pw153326 [PATCH] net/mlx5: fix transceiver warning when no From: dpdklab@iol.unh.edu To: Test Report Cc: dpdk-test-reports@iol.unh.edu In-Reply-To: <20250506133107.4432-1-yogev@cgstowernetworks.com> References: <20250506133107.4432-1-yogev@cgstowernetworks.com> Content-Type: text/plain X-BeenThere: test-report@dpdk.org X-Mailman-Version: 2.1.29 Precedence: list List-Id: automatic DPDK test reports List-Unsubscribe: , List-Archive: List-Post: List-Help: List-Subscribe: , Errors-To: test-report-bounces@dpdk.org Test-Label: iol-compile-arm64-testing Test-Status: SUCCESS http://dpdk.org/patch/153326 _Testing PASS_ Submitter: yogev Date: Tuesday, May 06 2025 13:31:07 DPDK git baseline: Repo:dpdk Branch: master CommitID:edd3f4b1265e6da707c46ca9b6c39d332647baea 153326 --> testing pass Upstream job id: Generic-DPDK-Compile-Meson#385810 Test environment and result as below: +----------------------------------------+--------------------+ | Environment | dpdk_meson_compile | +========================================+====================+ | RHEL9 (ARM) | PASS | +----------------------------------------+--------------------+ | Ubuntu 20.04 ARM GCC Cross Compile | PASS | +----------------------------------------+--------------------+ | Ubuntu 20.04 ARM SVE | PASS | +----------------------------------------+--------------------+ | Debian 12 with MUSDK | PASS | +----------------------------------------+--------------------+ | Fedora 41 (ARM) | PASS | +----------------------------------------+--------------------+ | Fedora 41 (ARM Clang) | PASS | +----------------------------------------+--------------------+ | Fedora 40 (ARM Clang) | PASS | +----------------------------------------+--------------------+ | Ubuntu 22.04 (ARM) | PASS | +----------------------------------------+--------------------+ | Ubuntu 20.04 (ARM) | PASS | +----------------------------------------+--------------------+ | Ubuntu 24.04 (ARM) | PASS | +----------------------------------------+--------------------+ | CentOS Stream 9 (ARM) | PASS | +----------------------------------------+--------------------+ | CentOS Stream 10 (ARM) | PASS | +----------------------------------------+--------------------+ | Debian 12 (arm) | PASS | +----------------------------------------+--------------------+ | Ubuntu 20.04 ARM Clang Cross Compile | PASS | +----------------------------------------+--------------------+ | Ubuntu 20.04 aarch32 GCC Cross Compile | PASS | +----------------------------------------+--------------------+ | Fedora 40 (ARM) | PASS | +----------------------------------------+--------------------+ RHEL9 (ARM) Kernel: Depends on container host Compiler: gcc 11.5.0 20240719 (Red Hat 11.5.0-2) Ubuntu 20.04 ARM GCC Cross Compile Kernel: Depends on container host Compiler: aarch64-linux-gnu-gcc (Ubuntu 9.4.0-1ubuntu1~20.04.2) 9.4.0 Ubuntu 20.04 ARM SVE Kernel: Depends on container host Compiler: gcc (Ubuntu 10.5.0-1ubuntu1~20.04) 10.5.0 Debian 12 with MUSDK Kernel: Depends on container host Compiler: gcc (Debian 12.2.0-14) 12.2.0 Fedora 41 (ARM) Kernel: Depends on container host Compiler: gcc 14.2.1 20240912 (Red Hat 14.2.1-3) Fedora 41 (ARM Clang) Kernel: Depends on container host Compiler: clang 19.1.5 (Fedora 19.1.5-1.fc41) Fedora 40 (ARM Clang) Kernel: Depends on container host Compiler: clang 18.1.8 (Fedora 18.1.8-1.fc40) Ubuntu 22.04 (ARM) Kernel: Depends on container host Compiler: gcc (Ubuntu 11.4.0-1ubuntu1~22.04) 11.4.0 Ubuntu 20.04 (ARM) Kernel: Depends on container host Compiler: gcc (Ubuntu 9.4.0-1ubuntu1~20.04.2) 9.4.0 Ubuntu 24.04 (ARM) Kernel: Depends on container host Compiler: gcc (Ubuntu 13.3.0-6ubuntu2~24.04) 13.3.0 CentOS Stream 9 (ARM) Kernel: Depends on container host Compiler: gcc 11.5.0 20240719 (Red Hat 11.5.0-2) CentOS Stream 10 (ARM) Kernel: Depends on container host Compiler: gcc 14.2.1 20241104 (Red Hat 14.2.1-6) Debian 12 (arm) Kernel: Depends on container host Compiler: gcc (Debian 12.2.0-14) 12.2.0 Ubuntu 20.04 ARM Clang Cross Compile Kernel: Depends on container host Compiler: clang 10.0.0-4ubuntu1 Ubuntu 20.04 aarch32 GCC Cross Compile Kernel: Depends on container host Compiler: gcc 9.4.0 Fedora 40 (ARM) Kernel: Depends on container host Compiler: gcc 14.2.1 20240912 (Red Hat 14.2.1-3) To view detailed results, visit: https://lab.dpdk.org/results/dashboard/patchsets/33124/ UNH-IOL DPDK Community Lab To manage your email subscriptions, visit: https://lab.dpdk.org/results/dashboard/preferences/subscriptions/