From mboxrd@z Thu Jan 1 00:00:00 1970 Return-Path: Received: from mails.dpdk.org (mails.dpdk.org [217.70.189.124]) by inbox.dpdk.org (Postfix) with ESMTP id 8EA35466E3 for ; Wed, 7 May 2025 07:07:03 +0200 (CEST) Received: from mails.dpdk.org (localhost [127.0.0.1]) by mails.dpdk.org (Postfix) with ESMTP id 86B064025D; Wed, 7 May 2025 07:07:03 +0200 (CEST) Received: from mail-yw1-f228.google.com (mail-yw1-f228.google.com [209.85.128.228]) by mails.dpdk.org (Postfix) with ESMTP id ECB084025A for ; Wed, 7 May 2025 07:07:01 +0200 (CEST) Received: by mail-yw1-f228.google.com with SMTP id 00721157ae682-7082ce1e47cso49480957b3.2 for ; Tue, 06 May 2025 22:07:01 -0700 (PDT) DKIM-Signature: v=1; a=rsa-sha256; c=relaxed/relaxed; d=iol.unh.edu; s=unh-iol; t=1746594421; x=1747199221; darn=dpdk.org; h=references:in-reply-to:cc:to:from:subject:message-id:date:from:to :cc:subject:date:message-id:reply-to; bh=/jclauRtJkLCe4eOmLbS5RK4NxcJyROSOQV3cua19E0=; b=N0qcHgsLvxBs3HN0VeoOB/c7roE7pYCYkfXQKGP2/3HqHG30gWkFPOtvq4h+sS2PKz r6b3KJOs+mIIFkdzh5Oi4deLHdMFVsIPb0CxmbiVfQSx1f/6Q6ArjPhFg+L60iQ2M1D6 DUZDrqD4zUvBlxxhojaPCmBXwo1tds91iZjK0= X-Google-DKIM-Signature: v=1; a=rsa-sha256; c=relaxed/relaxed; d=1e100.net; s=20230601; t=1746594421; x=1747199221; h=references:in-reply-to:cc:to:from:subject:message-id:date :x-gm-message-state:from:to:cc:subject:date:message-id:reply-to; bh=/jclauRtJkLCe4eOmLbS5RK4NxcJyROSOQV3cua19E0=; b=Ym4z9l0+Wqz4xRXuJLU1wa0j37HqEoWy1cOY3M3J5FA07KjBVLNf624MkGsJL23QIK SM2QA8O6Ifi5D6wxCAoCVE/gEOJmGvk15EYl4SqSSqwoPtGfIbq3vdvePCbqNsHjB5C6 VqiZB0FyG6ycRn2HYBtXRP5WPK91XA3/lSJfJ4J7+RGByBZfJtEgF9U/O7JMyGmalSp9 N+0IZgcR8MKAWOJWmrz9BBVKTOgzIjRrAyNZFRrztayS5maRAGi2ysvAlZ1xWcwO8qjM leODruOwp6rJfrNIHk3wKC+xePvecMwvTEC1vXPGj6VfOBUcVTFdLHroUpJvzddQvHlA VpDg== X-Gm-Message-State: AOJu0Yymm8lEzjtWbihJWuXOx8IFUFmBf0vwtN+Jz05jPyhYttRwq85s xwpZTtGLQcHl+3BaJ2WKYhbmklDJHQE4Cdmz12/S1shAfcJzQQZ7tHsjzJYraFuftYt954ktbrP dEdU+AKRcIHEQ7MU7sg/jsGQDqcf0vinWohv1RYoh X-Gm-Gg: ASbGncta7lL/CGwcxHghKeymrZGumPfyZYdzF7BWMwkTcTA8kRAVuEY/BITtLBlVuJZ cVRTqnP6UG1BESuWZnw1fLzliLj1GxyT/joWkJqXjjaFR2y1Iu+srUZpkyVFJTbILHESw0LvLV0 Je+fI2StcpFhCv2crCHG4XA7wGNGovo/0t/dutjlm9dl5+3C18M55zPz0S39ozC1s6QDvh4iPD3 lf42snrfg9l0Mx2AzDMm9q9Fn3AqPj3FuhdHF6btmvhJBzQLsqWvUAlUEGFdRvDx4Q9S026wsKL jpx/7ONCed1cuYRjcfP3MhI2tiASp4ck7jA0p+on+NOkVea8CzZlJooRpdo= X-Google-Smtp-Source: AGHT+IFJooDH/4MgZ112VgG3Zor0ZRmBRr9tB+J9y8s8NYv10PeywMPqGODnot2WxblDBVJLc/YLAgxsU/Oh X-Received: by 2002:a05:690c:6085:b0:702:5689:356e with SMTP id 00721157ae682-70a1d9f4fa0mr29257917b3.12.1746594421173; Tue, 06 May 2025 22:07:01 -0700 (PDT) Received: from postal.iol.unh.edu (postal.iol.unh.edu. [132.177.123.84]) by smtp-relay.gmail.com with ESMTPS id 00721157ae682-7091a608419sm1182517b3.60.2025.05.06.22.07.01 (version=TLS1_2 cipher=ECDHE-ECDSA-AES128-GCM-SHA256 bits=128/128); Tue, 06 May 2025 22:07:01 -0700 (PDT) X-Relaying-Domain: iol.unh.edu Date: Tue, 06 May 2025 22:07:01 -0700 (PDT) Message-ID: <681aea75.050a0220.14eaba.65f7SMTPIN_ADDED_MISSING@mx.google.com> Received: from [172.17.0.3] (unknown [172.18.0.74]) by postal.iol.unh.edu (Postfix) with ESMTP id CDB516052471; Wed, 7 May 2025 01:07:00 -0400 (EDT) Subject: |SUCCESS| pw153328-153331 [PATCH] [4/4] bus/pci/bsd: Fix device exis From: dpdklab@iol.unh.edu To: Test Report Cc: dpdk-test-reports@iol.unh.edu In-Reply-To: <20250506174046.1136711-5-jfree@FreeBSD.org> References: <20250506174046.1136711-5-jfree@FreeBSD.org> Content-Type: text/plain X-BeenThere: test-report@dpdk.org X-Mailman-Version: 2.1.29 Precedence: list List-Id: automatic DPDK test reports List-Unsubscribe: , List-Archive: List-Post: List-Help: List-Subscribe: , Errors-To: test-report-bounces@dpdk.org Test-Label: iol-unit-amd64-testing Test-Status: SUCCESS http://dpdk.org/patch/153331 _Testing PASS_ Submitter: Jake Freeland Date: Tuesday, May 06 2025 17:40:44 DPDK git baseline: Repo:dpdk Branch: master CommitID:75f179ebe347b6098cf3af26d3d3b7168fe3fe24 153328-153331 --> testing pass Upstream job id: Generic-VM-Unit-Test-DPDK#28367 Test environment and result as below: +---------------------+----------------+ | Environment | dpdk_unit_test | +=====================+================+ | CentOS Stream 9 | PASS | +---------------------+----------------+ | Fedora 40 | PASS | +---------------------+----------------+ | Debian 12 | PASS | +---------------------+----------------+ | CentOS Stream 10 | PASS | +---------------------+----------------+ | Fedora 40 (Clang) | PASS | +---------------------+----------------+ | Ubuntu 20.04 | PASS | +---------------------+----------------+ | RHEL8 | PASS | +---------------------+----------------+ | Fedora 41 | PASS | +---------------------+----------------+ | Fedora 41 (Clang) | PASS | +---------------------+----------------+ | Ubuntu 22.04 | PASS | +---------------------+----------------+ | RHEL9 | PASS | +---------------------+----------------+ | Ubuntu 24.04 | PASS | +---------------------+----------------+ | Windows Server 2022 | PASS | +---------------------+----------------+ CentOS Stream 9 Kernel: Depends on container host Compiler: gcc 11.5.0 20240719 (Red Hat 11.5.0-2) Fedora 40 Kernel: Depends on container host Compiler: gcc 14.2.1 20240912 (Red Hat 14.2.1-3) Debian 12 Kernel: Depends on container host Compiler: gcc (Debian 12.2.0-14) 12.2.0 CentOS Stream 10 Kernel: Depends on container host Compiler: gcc 14.2.1 20241104 (Red Hat 14.2.1-6) Fedora 40 (Clang) Kernel: Depends on container host Compiler: clang 18.1.8 (Fedora 18.1.8-1.fc40) Ubuntu 20.04 Kernel: Depends on container host Compiler: gcc (Ubuntu 9.4.0-1ubuntu1~20.04.2) 9.4.0 RHEL8 Kernel: Depends on container host Compiler: gcc 8.5.0 20210514 (Red Hat 8.5.0-22) Fedora 41 Kernel: Depends on container host Compiler: gcc 14.2.1 20240912 (Red Hat 14.2.1-3) Fedora 41 (Clang) Kernel: Depends on container host Compiler: clang 19.1.5 (Fedora 19.1.5-1.fc41) Ubuntu 22.04 Kernel: Depends on container host Compiler: gcc (Ubuntu 11.4.0-1ubuntu1~22.04) 11.4.0 RHEL9 Kernel: Depends on container host Compiler: gcc 11.5.0 20240719 (Red Hat 11.5.0-2) Ubuntu 24.04 Kernel: Depends on container host Compiler: gcc (Ubuntu 13.3.0-6ubuntu2~24.04) 13.3.0 Windows Server 2022 Kernel: 10.0.20348.2031 Compiler: clang 15.0.7, gcc 14.1.0 (MinGW), and MSVC VS 19.39.33521 To view detailed results, visit: https://lab.dpdk.org/results/dashboard/patchsets/33126/ UNH-IOL DPDK Community Lab To manage your email subscriptions, visit: https://lab.dpdk.org/results/dashboard/preferences/subscriptions/