From mboxrd@z Thu Jan  1 00:00:00 1970
Return-Path: <test-report-bounces@dpdk.org>
Received: from mails.dpdk.org (mails.dpdk.org [217.70.189.124])
	by inbox.dpdk.org (Postfix) with ESMTP id A9CC7466E3
	for <public@inbox.dpdk.org>; Wed,  7 May 2025 07:32:47 +0200 (CEST)
Received: from mails.dpdk.org (localhost [127.0.0.1])
	by mails.dpdk.org (Postfix) with ESMTP id 983D14025D;
	Wed,  7 May 2025 07:32:47 +0200 (CEST)
Received: from mail-yw1-f226.google.com (mail-yw1-f226.google.com
 [209.85.128.226])
 by mails.dpdk.org (Postfix) with ESMTP id EB60E4025A
 for <test-report@dpdk.org>; Wed,  7 May 2025 07:32:45 +0200 (CEST)
Received: by mail-yw1-f226.google.com with SMTP id
 00721157ae682-70a23f4fe8bso680427b3.2
 for <test-report@dpdk.org>; Tue, 06 May 2025 22:32:45 -0700 (PDT)
DKIM-Signature: v=1; a=rsa-sha256; c=relaxed/relaxed;
 d=iol.unh.edu; s=unh-iol; t=1746595965; x=1747200765; darn=dpdk.org;
 h=references:in-reply-to:cc:to:from:subject:message-id:date:from:to
 :cc:subject:date:message-id:reply-to;
 bh=oCeFaB1WG51rnXTrsdsEkp5+AOSc1YpQsSu732iOeyE=;
 b=P+zaVFXnw4H+C9V1lqz4mRCT0A+Zf4lWQ8sOmLxlYsKhiLJRAVr9p5vOdxih3QKSp2
 lIRLZxfpJjwS+ljqaSk0nMhD/8WOHXBxgv06pHgwy5ReE2PuCPsDViExrelvdL0GMUKP
 cJ/WgblJa0zoeGnosnRBfc6FtR22FD73R9jRY=
X-Google-DKIM-Signature: v=1; a=rsa-sha256; c=relaxed/relaxed;
 d=1e100.net; s=20230601; t=1746595965; x=1747200765;
 h=references:in-reply-to:cc:to:from:subject:message-id:date
 :x-gm-message-state:from:to:cc:subject:date:message-id:reply-to;
 bh=oCeFaB1WG51rnXTrsdsEkp5+AOSc1YpQsSu732iOeyE=;
 b=NNJVfMG4CVygu0he5YT3o3UVkHuddCdJ9ka8zVkHFQAB5mYDRTME3yW8eqluS8oLfa
 xSQwKfDox/ZW6TMYin7afPhUMDrUd4mlOAA2ar27HUHxk4HT1ZJ3+cFo7/zVcjSl4hcp
 WwwUrUjRbVzCnx4dCtVJ09B9qQVm+/LwbnWNomnkLIdMJMJTMyN0FkzzGDvr8lUX6Rqn
 Mu6BnneGL/Zg+YMbXlYUxHBDgolXK/zy5ASsDKCfrH7TTOFhzEi4yJWNCF/hGqDa7R/M
 9swjPgphXep/RasM2rT5h/1VAH7CM4MEDlti4iC4Ec+7IPSOQxvtBnG5EMBqLdso/l5r
 gMcg==
X-Gm-Message-State: AOJu0Yw5D/w73H+7veZVHyZuNDZAYcHGimhQVpdo9gr4dFxMX6cM5I49
 KhsoKDfkECg2l4URi4xX71Xo/3jRcg0Kvuebz9P6p10AbYkPpgdkSaqbehWHmUdAH8ooO44loch
 ZBunOjOR974pyeZkuRrNUkgTIA+SYvc7blo5sFIgI
X-Gm-Gg: ASbGncsbd7SrFnHcMi9zsMZ4DuvnRPwzOBVfXOEv2dyxS0uK8hD9wzKepxzyVZLNleu
 z6hnR+jaQVkGTjRggj+QFv579RLXHaA1jdnM+ARIf5ebBvsxadcId/AgnqKYLrBGonARrhzoa27
 HSG9Gloll1DVn9wJmjkWd+fiLpbn6WV/APQUkMvI9DU5R0qjXQrijNVNghPTTymE5FpA1w1hDnF
 XDNwELTsO2jjwXd27zYbCQ7G6j782EvFLUlwJGvCPhQotzQNgcC55gFQnkDziXH8U/yEIMz2ZOA
 BdZm9wzvjRVGjxTeGYrTZa4bqJmJDWaNL/l0L2Nkd1KWwPEcIyyFBbA+pKw=
X-Google-Smtp-Source: AGHT+IHy5z8AJph+yJXvBa3+7NeSlpOrzb/9O7nir/BvaDja+EN6Jr4xcoYpdM8t7Sa/nYpM+Mu4O5AXblH9
X-Received: by 2002:a05:690c:7012:b0:6fe:e76a:4d38 with SMTP id
 00721157ae682-70a1da3b71dmr30042067b3.21.1746595965132; 
 Tue, 06 May 2025 22:32:45 -0700 (PDT)
Received: from postal.iol.unh.edu (postal.iol.unh.edu. [132.177.123.84])
 by smtp-relay.gmail.com with ESMTPS id
 00721157ae682-708c415e9fcsm20248757b3.35.2025.05.06.22.32.45
 (version=TLS1_2 cipher=ECDHE-ECDSA-AES128-GCM-SHA256 bits=128/128);
 Tue, 06 May 2025 22:32:45 -0700 (PDT)
X-Relaying-Domain: iol.unh.edu
Date: Tue, 06 May 2025 22:32:45 -0700 (PDT)
Message-ID: <681af07d.050a0220.3a27e8.94feSMTPIN_ADDED_MISSING@mx.google.com>
Received: from [172.17.0.3] (unknown [172.18.0.74])
 by postal.iol.unh.edu (Postfix) with ESMTP id C6E136052471;
 Wed,  7 May 2025 01:32:44 -0400 (EDT)
Subject: |SUCCESS| pw153323-153325 [PATCH] [v2,3/3] dts: add packet capture t
From: dpdklab@iol.unh.edu
To: Test Report <test-report@dpdk.org>
Cc: dpdk-test-reports@iol.unh.edu
In-Reply-To: <20250506132933.1580584-4-luca.vizzarro@arm.com>
References: <20250506132933.1580584-4-luca.vizzarro@arm.com>
Content-Type: text/plain
X-BeenThere: test-report@dpdk.org
X-Mailman-Version: 2.1.29
Precedence: list
List-Id: automatic DPDK test reports <test-report.dpdk.org>
List-Unsubscribe: <https://mails.dpdk.org/options/test-report>,
 <mailto:test-report-request@dpdk.org?subject=unsubscribe>
List-Archive: <http://mails.dpdk.org/archives/test-report/>
List-Post: <mailto:test-report@dpdk.org>
List-Help: <mailto:test-report-request@dpdk.org?subject=help>
List-Subscribe: <https://mails.dpdk.org/listinfo/test-report>,
 <mailto:test-report-request@dpdk.org?subject=subscribe>
Errors-To: test-report-bounces@dpdk.org

Test-Label: iol-abi-testing
Test-Status: SUCCESS
http://dpdk.org/patch/153325

_Testing PASS_

Submitter: Luca Vizzarro <luca.vizzarro@arm.com>
Date: Tuesday, May 06 2025 13:29:33 
DPDK git baseline: Repo:dpdk
  Branch: master
  CommitID:1aef42bc97a31906486c9d66b792208948af06f3

153323-153325 --> testing pass

Upstream job id: Generic-DPDK-Compile-ABI#125562

Test environment and result as below:

+-------------------+----------+
|    Environment    | abi_test |
+===================+==========+
| CentOS Stream 9   | PASS     |
+-------------------+----------+
| CentOS Stream 10  | PASS     |
+-------------------+----------+
| Debian 12         | PASS     |
+-------------------+----------+
| Fedora 40 (Clang) | PASS     |
+-------------------+----------+
| Fedora 40         | PASS     |
+-------------------+----------+
| Fedora 41         | PASS     |
+-------------------+----------+
| Fedora 41 (Clang) | PASS     |
+-------------------+----------+
| openSUSE Leap 15  | PASS     |
+-------------------+----------+
| RHEL8             | PASS     |
+-------------------+----------+
| RHEL9             | PASS     |
+-------------------+----------+
| Ubuntu 22.04      | PASS     |
+-------------------+----------+
| Ubuntu 24.04      | PASS     |
+-------------------+----------+


CentOS Stream 9
	Kernel: Depends on container host
	Compiler: gcc 11.5.0 20240719 (Red Hat 11.5.0-2)

CentOS Stream 10
	Kernel: Depends on container host
	Compiler: gcc 14.2.1 20241104 (Red Hat 14.2.1-6)

Debian 12
	Kernel: Depends on container host
	Compiler: gcc (Debian 12.2.0-14) 12.2.0

Fedora 40 (Clang)
	Kernel: Depends on container host
	Compiler: clang 18.1.8 (Fedora 18.1.8-1.fc40)

Fedora 40
	Kernel: Depends on container host
	Compiler: gcc 14.2.1 20240912 (Red Hat 14.2.1-3)

Fedora 41
	Kernel: Depends on container host
	Compiler: gcc 14.2.1 20240912 (Red Hat 14.2.1-3)

Fedora 41 (Clang)
	Kernel: Depends on container host
	Compiler: clang 19.1.5 (Fedora 19.1.5-1.fc41)

openSUSE Leap 15
	Kernel: Depends on container host
	Compiler: gcc (SUSE Linux) 7.5.0

RHEL8
	Kernel: Depends on container host
	Compiler: gcc 8.5.0 20210514 (Red Hat 8.5.0-22)

RHEL9
	Kernel: Depends on container host
	Compiler: gcc 11.5.0 20240719 (Red Hat 11.5.0-2)

Ubuntu 22.04
	Kernel: Depends on container host
	Compiler: gcc (Ubuntu 11.4.0-1ubuntu1~22.04) 11.4.0

Ubuntu 24.04
	Kernel: Depends on container host
	Compiler: gcc (Ubuntu 13.3.0-6ubuntu2~24.04) 13.3.0

To view detailed results, visit:
https://lab.dpdk.org/results/dashboard/patchsets/33123/

UNH-IOL DPDK Community Lab

To manage your email subscriptions, visit: 
https://lab.dpdk.org/results/dashboard/preferences/subscriptions/