From mboxrd@z Thu Jan 1 00:00:00 1970 Return-Path: Received: from mails.dpdk.org (mails.dpdk.org [217.70.189.124]) by inbox.dpdk.org (Postfix) with ESMTP id D7B00466E3 for ; Wed, 7 May 2025 07:48:49 +0200 (CEST) Received: from mails.dpdk.org (localhost [127.0.0.1]) by mails.dpdk.org (Postfix) with ESMTP id D092B4025D; Wed, 7 May 2025 07:48:49 +0200 (CEST) Received: from mail-io1-f98.google.com (mail-io1-f98.google.com [209.85.166.98]) by mails.dpdk.org (Postfix) with ESMTP id 38B344025A for ; Wed, 7 May 2025 07:48:48 +0200 (CEST) Received: by mail-io1-f98.google.com with SMTP id ca18e2360f4ac-8616987c261so218634339f.3 for ; Tue, 06 May 2025 22:48:48 -0700 (PDT) DKIM-Signature: v=1; a=rsa-sha256; c=relaxed/relaxed; d=iol.unh.edu; s=unh-iol; t=1746596927; x=1747201727; darn=dpdk.org; h=references:in-reply-to:cc:to:from:subject:message-id:date:from:to :cc:subject:date:message-id:reply-to; bh=qGx66f+EZYKG5WRGkWCsz8WJu+UW0vGLigLmYJPcPlw=; b=DcRNNOwpJ8H57OBs8SyUI49s8ma5MbdH8qWkHVWZZKSPEYbZolnRQyDd0ICM/sFNRb sM5ADlWVgzSwA16C/CPPYJJxIOPsiZ+iu0m8bT+jmNpVg5cENwZEpy80RRE47dvQf1aT ejo6cG8O6TInnHnKvOlRxAmRkS4sW2ptDxltI= X-Google-DKIM-Signature: v=1; a=rsa-sha256; c=relaxed/relaxed; d=1e100.net; s=20230601; t=1746596927; x=1747201727; h=references:in-reply-to:cc:to:from:subject:message-id:date :x-gm-message-state:from:to:cc:subject:date:message-id:reply-to; bh=qGx66f+EZYKG5WRGkWCsz8WJu+UW0vGLigLmYJPcPlw=; b=Fv8I1VGGFSWfo/YWb6m0pFo5VF0+qsk7UjTgmBGotEJ5jCKZZPUAS2oZ3eK2754at0 s5WnJkaxn5Bfe4esA1sreaHObEmR3d9gOMzVsisGVYclyx1LkSzKZtuhijoN5VjgZfCX cqVlvLx26mkDg4ly7EMubDI5jRO/X9sqe9ZbNEt+CE9Kejj5m+kRTO+MUfiICAuXXLre lFhvm8fgxcTAZ3/i4dOTJ+mR+nwnxDelprF6/AA8mkAmJ9dhb+e43ihOqqosbl6OA11/ Tw8y4WclljE+CpVkyJosxxwcUVJgvX6tPMHvCW9B6KRPpZCE1MTR7dhq/Rqw4s/8s7NT ZRVA== X-Gm-Message-State: AOJu0YzSiH3IUAKhJ3EFkEdqNTPUnXMvCK1QQyV5xn3gHuQ+YHH0i3t7 57Lh6gh1e0FoXySKqgWMocSpxJtFJrRZqfU1SR6UYEleFbrQSC/UgrHsdHk5FUsdulHW4viDFzT TXR4aiRl9POfImxaoyc/NECw/OzJoG9EMIqMigpRc X-Gm-Gg: ASbGncsqGpxAJw178TErnnaV8aj+7jieVLuXHf1rGlo+hdc6FPOfCHHzyujZ5BPTQYx xvrg7Xi5zRipOyg14pZ6rcXro77L0hdqrOzvMz3EhuLj4DeL4ehOWAoHCB7Dq7AT3dYjZn4GJ1i yWpk5jVkLaIhUgzB7qj1/u8sw63XwEv6m0lUCBfJXZWiyMEpc2ViO1I373p7NHPSrcygAmbFZcG izECaESnEdtcSBDLn8a46OLsnpLPT/eCgMXdfk8hOtIzbYDRsJoomOD5ZgRq/VCr4GSiNjxPJsZ RxjrAWZS+sZcsBpAQMD7+jKfVfqlgYFZNG5AaB4Szv15htzofwQz7HD/3fg= X-Google-Smtp-Source: AGHT+IEsr53CjW+G95ukkUcpqTJNjGeABv8nGYOxX/pC1/DtX7OMlFWoQEYCybUP78iI9jfN+hU4VdbM94/l X-Received: by 2002:a05:6e02:1aae:b0:3da:7213:fcc3 with SMTP id e9e14a558f8ab-3da739083e3mr18522475ab.11.1746596927421; Tue, 06 May 2025 22:48:47 -0700 (PDT) Received: from postal.iol.unh.edu (postal.iol.unh.edu. [132.177.123.84]) by smtp-relay.gmail.com with ESMTPS id 8926c6da1cb9f-4f88aa65104sm2185084173.48.2025.05.06.22.48.47 (version=TLS1_2 cipher=ECDHE-ECDSA-AES128-GCM-SHA256 bits=128/128); Tue, 06 May 2025 22:48:47 -0700 (PDT) X-Relaying-Domain: iol.unh.edu Date: Tue, 06 May 2025 22:48:47 -0700 (PDT) Message-ID: <681af43f.050a0220.24be64.cd89SMTPIN_ADDED_MISSING@mx.google.com> Received: from [172.17.0.3] (unknown [172.18.0.74]) by postal.iol.unh.edu (Postfix) with ESMTP id EA2336052471; Wed, 7 May 2025 01:48:46 -0400 (EDT) Subject: |SUCCESS| pw153328-153331 [PATCH] [4/4] bus/pci/bsd: Fix device exis From: dpdklab@iol.unh.edu To: Test Report Cc: dpdk-test-reports@iol.unh.edu In-Reply-To: <20250506174046.1136711-5-jfree@FreeBSD.org> References: <20250506174046.1136711-5-jfree@FreeBSD.org> Content-Type: text/plain X-BeenThere: test-report@dpdk.org X-Mailman-Version: 2.1.29 Precedence: list List-Id: automatic DPDK test reports List-Unsubscribe: , List-Archive: List-Post: List-Help: List-Subscribe: , Errors-To: test-report-bounces@dpdk.org Test-Label: iol-sample-apps-testing Test-Status: SUCCESS http://dpdk.org/patch/153331 _Testing PASS_ Submitter: Jake Freeland Date: Tuesday, May 06 2025 17:40:44 DPDK git baseline: Repo:dpdk Branch: master CommitID:75f179ebe347b6098cf3af26d3d3b7168fe3fe24 153328-153331 --> testing pass Upstream job id: ACVP-FIPS-testing#9733 Test environment and result as below: +--------------------+----------------------+----------------------+ | Environment | compressdev_zlib_pmd | dpdk_fips_validation | +====================+======================+======================+ | Ubuntu 22.04 (ARM) | PASS | SKIPPED | +--------------------+----------------------+----------------------+ | Ubuntu 22.04 | PASS | SKIPPED | +--------------------+----------------------+----------------------+ | Ubuntu 20.04 | SKIPPED | PASS | +--------------------+----------------------+----------------------+ Ubuntu 22.04 (ARM) Kernel: 5.15.0-97-generic Compiler: gcc gcc (Ubuntu 11.4.0-1ubuntu1~22.04) 11.4.0 Ubuntu 22.04 Kernel: 5.15.0-100-generic Compiler: gcc gcc (Ubuntu 11.4.0-1ubuntu1~22.04) 11.4.0 Ubuntu 20.04 Kernel: Depends on container host Compiler: gcc (Ubuntu 9.4.0-1ubuntu1~20.04.2) 9.4.0 To view detailed results, visit: https://lab.dpdk.org/results/dashboard/patchsets/33126/ UNH-IOL DPDK Community Lab To manage your email subscriptions, visit: https://lab.dpdk.org/results/dashboard/preferences/subscriptions/