From mboxrd@z Thu Jan 1 00:00:00 1970 Return-Path: Received: from mails.dpdk.org (mails.dpdk.org [217.70.189.124]) by inbox.dpdk.org (Postfix) with ESMTP id 4C0CD466E6 for ; Wed, 7 May 2025 08:32:12 +0200 (CEST) Received: from mails.dpdk.org (localhost [127.0.0.1]) by mails.dpdk.org (Postfix) with ESMTP id 24E2F4025D; Wed, 7 May 2025 08:32:12 +0200 (CEST) Received: from mail-qt1-f226.google.com (mail-qt1-f226.google.com [209.85.160.226]) by mails.dpdk.org (Postfix) with ESMTP id 1F10A4025A for ; Wed, 7 May 2025 08:32:10 +0200 (CEST) Received: by mail-qt1-f226.google.com with SMTP id d75a77b69052e-4769aef457bso88559701cf.2 for ; Tue, 06 May 2025 23:32:10 -0700 (PDT) DKIM-Signature: v=1; a=rsa-sha256; c=relaxed/relaxed; d=iol.unh.edu; s=unh-iol; t=1746599529; x=1747204329; darn=dpdk.org; h=references:in-reply-to:cc:to:from:subject:message-id:date:from:to :cc:subject:date:message-id:reply-to; bh=WAWco9geei5Yyq2DTbRGv2JSTgdjgKMF6Oxz1w+IU8Q=; b=K9U8EfbcgwL7dAiu5Vsd0hmzRyvL061P7RcTSjaUDOVF6BVnqrmN/Oud0BWn8Qi7/2 7Q4L0lfnovLmwkZb52IO4DAXje0DEiAyKhMrjPo8BRAqS88xIhL2Sa372XkwJuHLRzXb x8KSs2sWP6YZ9KkdemfMKK0wDrN66GPfTjPGM= X-Google-DKIM-Signature: v=1; a=rsa-sha256; c=relaxed/relaxed; d=1e100.net; s=20230601; t=1746599529; x=1747204329; h=references:in-reply-to:cc:to:from:subject:message-id:date :x-gm-message-state:from:to:cc:subject:date:message-id:reply-to; bh=WAWco9geei5Yyq2DTbRGv2JSTgdjgKMF6Oxz1w+IU8Q=; b=SXmf7V2g50I+iHvhP0hO5awt97aHZrmzrHwi2vVQUdjpKDgTzIrMuj4b5SVJ3sXTPK 1iK4vhiPkerDEB1EVCmhTnBJUZdIkxKOOw9taYPQavmOjZi8XQ2E119b8yHPyoI+k/VC 0nFB1kimRbtv+yqq09f9ad2bxbLyddDEWVapA9+yKTyFtB32xDd71whEdbYVOoRZ7oCy 0NHDQ2zMVFK9DZmC400ZZrujbFAZjlZNC7k3ZXCzi1ynbFmAmZyPKmf67ZvJK2cu/xBU SDJqW39Blnq64p58c9RU65g/TR60jTkmsgKK2nP/EJKh3XDqo13ZJBEHTPvL9gULe0yA Sfuw== X-Gm-Message-State: AOJu0Yz8WS6xYIYRNeHWwgy9/C/Vx2htXXjIruZj0bHF0VZQK6AkS0MN e4XVTHR8IOmih0eKAa3BHlFZGbQXXcmgmm/McFEPK3KIqKfU4q+zOcmBrEBcwCYpIenTZO4fLJH IxOuSiCe6xv6s+p931YPvEFhKy/XoCd0ygjiMN3gz X-Gm-Gg: ASbGncvf7Y1FMWpkpVqL6ZR1INhoOpw+HJXEnRQiNAyl8mhgtXbXnx+oV+anLPHuCDn Gf9pa/Y+BKGeEjXGmJoSfPm6F5d85YRWTKC+MtgVS9Dq2xSf9t1pLNp98trc6zUaEpnAeYraDWl 11bmV4wmQHzn8qg/OpED5J024VX1rvxotJjJozZ3f9308if1PpgPXTAgW15q7YICYT1TEtz3bbT QVxEVKqfO45tWZFtgv/yY862mWXMSQO1HONyuAiahHdMTwyqaLYO5JvQoXrDQVrzD/5aBM8geBf qAtuZ27br8lxel0aPE2vVpOPQVQ0nSlEG4REW3oMlK+4b+jSruTps//vZYU= X-Google-Smtp-Source: AGHT+IHZCSWj0IqB6jxuyb8sKYSJ9s1zLeDcDFOYBuiGQiJHBKVu2Kwv5sQ4DojakXXkMAVopPUQSOcNPRcr X-Received: by 2002:a05:6870:548b:b0:2d6:7266:a8d8 with SMTP id 586e51a60fabf-2db5bd632c3mr1307670fac.3.1746599518712; Tue, 06 May 2025 23:31:58 -0700 (PDT) Received: from postal.iol.unh.edu (postal.iol.unh.edu. [132.177.123.84]) by smtp-relay.gmail.com with ESMTPS id 586e51a60fabf-2db5d155c51sm57451fac.41.2025.05.06.23.31.58 (version=TLS1_2 cipher=ECDHE-ECDSA-AES128-GCM-SHA256 bits=128/128); Tue, 06 May 2025 23:31:58 -0700 (PDT) X-Relaying-Domain: iol.unh.edu Date: Tue, 06 May 2025 23:31:58 -0700 (PDT) Message-ID: <681afe5e.050a0220.1fc1cf.317cSMTPIN_ADDED_MISSING@mx.google.com> Received: from [172.21.0.5] (unknown [172.18.0.240]) by postal.iol.unh.edu (Postfix) with ESMTP id A087D6052471; Wed, 7 May 2025 02:31:57 -0400 (EDT) Subject: |SUCCESS| pw153323-153325 [PATCH] [v2,3/3] dts: add packet capture t From: dpdklab@iol.unh.edu To: Test Report Cc: dpdk-test-reports@iol.unh.edu In-Reply-To: <20250506132933.1580584-4-luca.vizzarro@arm.com> References: <20250506132933.1580584-4-luca.vizzarro@arm.com> Content-Type: text/plain X-BeenThere: test-report@dpdk.org X-Mailman-Version: 2.1.29 Precedence: list List-Id: automatic DPDK test reports List-Unsubscribe: , List-Archive: List-Post: List-Help: List-Subscribe: , Errors-To: test-report-bounces@dpdk.org Test-Label: iol-unit-amd64-testing Test-Status: SUCCESS http://dpdk.org/patch/153325 _Testing PASS_ Submitter: Luca Vizzarro Date: Tuesday, May 06 2025 13:29:33 DPDK git baseline: Repo:dpdk Branch: master CommitID:1aef42bc97a31906486c9d66b792208948af06f3 153323-153325 --> testing pass Upstream job id: Generic-Unit-Test-DPDK#336066 Test environment and result as below: +-------------------+----------------+ | Environment | dpdk_unit_test | +===================+================+ | CentOS Stream 10 | PASS | +-------------------+----------------+ | CentOS Stream 9 | PASS | +-------------------+----------------+ | Debian 12 | PASS | +-------------------+----------------+ | Fedora 40 | PASS | +-------------------+----------------+ | Fedora 40 (Clang) | PASS | +-------------------+----------------+ | Fedora 41 | PASS | +-------------------+----------------+ | RHEL8 | PASS | +-------------------+----------------+ | Ubuntu 20.04 | PASS | +-------------------+----------------+ | Fedora 41 (Clang) | PASS | +-------------------+----------------+ | RHEL9 | PASS | +-------------------+----------------+ | Ubuntu 24.04 | PASS | +-------------------+----------------+ | Ubuntu 22.04 | PASS | +-------------------+----------------+ CentOS Stream 10 Kernel: Depends on container host Compiler: gcc 14.2.1 20241104 (Red Hat 14.2.1-6) CentOS Stream 9 Kernel: Depends on container host Compiler: gcc 11.5.0 20240719 (Red Hat 11.5.0-2) Debian 12 Kernel: Depends on container host Compiler: gcc (Debian 12.2.0-14) 12.2.0 Fedora 40 Kernel: Depends on container host Compiler: gcc 14.2.1 20240912 (Red Hat 14.2.1-3) Fedora 40 (Clang) Kernel: Depends on container host Compiler: clang 18.1.8 (Fedora 18.1.8-1.fc40) Fedora 41 Kernel: Depends on container host Compiler: gcc 14.2.1 20240912 (Red Hat 14.2.1-3) RHEL8 Kernel: Depends on container host Compiler: gcc 8.5.0 20210514 (Red Hat 8.5.0-22) Ubuntu 20.04 Kernel: Depends on container host Compiler: gcc (Ubuntu 9.4.0-1ubuntu1~20.04.2) 9.4.0 Fedora 41 (Clang) Kernel: Depends on container host Compiler: clang 19.1.5 (Fedora 19.1.5-1.fc41) RHEL9 Kernel: Depends on container host Compiler: gcc 11.5.0 20240719 (Red Hat 11.5.0-2) Ubuntu 24.04 Kernel: Depends on container host Compiler: gcc (Ubuntu 13.3.0-6ubuntu2~24.04) 13.3.0 Ubuntu 22.04 Kernel: Depends on container host Compiler: gcc (Ubuntu 11.4.0-1ubuntu1~22.04) 11.4.0 To view detailed results, visit: https://lab.dpdk.org/results/dashboard/patchsets/33123/ UNH-IOL DPDK Community Lab To manage your email subscriptions, visit: https://lab.dpdk.org/results/dashboard/preferences/subscriptions/