From mboxrd@z Thu Jan 1 00:00:00 1970 Return-Path: Received: from mails.dpdk.org (mails.dpdk.org [217.70.189.124]) by inbox.dpdk.org (Postfix) with ESMTP id 635D1466E6 for ; Wed, 7 May 2025 08:47:10 +0200 (CEST) Received: from mails.dpdk.org (localhost [127.0.0.1]) by mails.dpdk.org (Postfix) with ESMTP id 5522B4025D; Wed, 7 May 2025 08:47:10 +0200 (CEST) Received: from mail-qk1-f227.google.com (mail-qk1-f227.google.com [209.85.222.227]) by mails.dpdk.org (Postfix) with ESMTP id D4C6C4025A for ; Wed, 7 May 2025 08:47:08 +0200 (CEST) Received: by mail-qk1-f227.google.com with SMTP id af79cd13be357-7cadd46ea9aso686574085a.1 for ; Tue, 06 May 2025 23:47:08 -0700 (PDT) DKIM-Signature: v=1; a=rsa-sha256; c=relaxed/relaxed; d=iol.unh.edu; s=unh-iol; t=1746600428; x=1747205228; darn=dpdk.org; h=references:in-reply-to:cc:to:from:subject:message-id:date:from:to :cc:subject:date:message-id:reply-to; bh=aGKJHWIZhhiqt1OEPY+R70QLZF5ak9hMXFiXJE24Kgs=; b=aC9xyyTsUbE/77gJIxyVcieAGiYExfymXZ+fBKsqQfz41KqsgBBuL+yRJPRG6yb/tF 4ecFaxk9NBkTho1I833o53lCrzQdvymIUolze7Ii5tVstGRHmNWLNv6LDscVz1KkEt9U 2ICXlZHIglo4tWvIGq6yacm5viJ43umi/FQuw= X-Google-DKIM-Signature: v=1; a=rsa-sha256; c=relaxed/relaxed; d=1e100.net; s=20230601; t=1746600428; x=1747205228; h=references:in-reply-to:cc:to:from:subject:message-id:date :x-gm-message-state:from:to:cc:subject:date:message-id:reply-to; bh=aGKJHWIZhhiqt1OEPY+R70QLZF5ak9hMXFiXJE24Kgs=; b=dlGKwa0OKfb1qcLuA3i+Jwb8IfcZdhStD5SuiRHl6e2OkzdO9U2HAfe8Zm4tiSJHCs ds8tyK8UkmA+y7pH7Nt72EDyT8iyhtq+z1HINuOH4eyW4MgID2UVG+IzSYXQ1+wQnBhU KtL8pQYty1s/i8g2nybtyfgmJ8HxOeiEbrtDa949ujPD8O0gNhNqJQvhETrM0D1FU8nK EbLg0BXZvkJNYpiC/6LDr2RxaKk41S03bB492Et7I9FDgz6Nl+lrLn9N8Q+6D//4hzQZ 8556ECL2cuhKeDoF5wL9qPzFw9m2uTImyJ26NPc0fQG70uuAgviPBQRwaz9IfKmIS9N0 h8TQ== X-Gm-Message-State: AOJu0Yzq8WK7dFyRPcMxwx1fg3UL4XH2ZN3E2Ix4At4ZZkfhLln1MPOL hxF1++15U/iM5kyIOJNMOBXkQ5sfDKzidMoXmH6OTtbMRJAipN/zZDugqCfcBNZEt8UDOWd3wPe koey55p6HaPENfgBorhPM2iaREZ3XooLMml0ILgnT X-Gm-Gg: ASbGncs6dEPeDVwG6WtJtCGLRUewU8cPUlpZ2EAe92lKm1CI25+tOdE4CxvjkLQIKER E1HtBkKSvByRrNE6DZUm1JQ7H3S93IN8r0WoymS+n5gdCjFmiXJH85h58h9hPQpcHYCx19V2Oqe 7BsFCOql0GUMMS3KG0MBbT9/W9FbXp9EZHOuFvC8zGTLxE37wnDHyXm6MgmpPOANYqoZKZbMpTe GuVpv5hukpDOXGhF8ua7PpQOsIOAQrHm8EElkJMjBgNC8SoV5PNmFyDmGr5e40ohNrxew8hAlXo +NX3/zaTCFn4lZD4Cr9UBJYOaHPokWpbWrsaOgADCLlS/H9HjQxtZZAfvto= X-Google-Smtp-Source: AGHT+IFOa0SLDbZi/WI330xIqtO+wT7lQqAYp7/db/85sYAH/dt+Oc3dflGo9XlkAkvmpLYhzdIQ3ruxvR39 X-Received: by 2002:a05:620a:2941:b0:7c5:6dc7:7e7c with SMTP id af79cd13be357-7caf73aacfamr305742385a.26.1746600427913; Tue, 06 May 2025 23:47:07 -0700 (PDT) Received: from postal.iol.unh.edu (postal.iol.unh.edu. [132.177.123.84]) by smtp-relay.gmail.com with ESMTPS id af79cd13be357-7caf759f534sm6689185a.7.2025.05.06.23.47.07 (version=TLS1_2 cipher=ECDHE-ECDSA-AES128-GCM-SHA256 bits=128/128); Tue, 06 May 2025 23:47:07 -0700 (PDT) X-Relaying-Domain: iol.unh.edu Date: Tue, 06 May 2025 23:47:07 -0700 (PDT) Message-ID: <681b01eb.050a0220.89c8.3b76SMTPIN_ADDED_MISSING@mx.google.com> Received: from [172.21.0.13] (unknown [172.18.0.240]) by postal.iol.unh.edu (Postfix) with ESMTP id 9C2106052471; Wed, 7 May 2025 02:47:07 -0400 (EDT) Subject: |SUCCESS| pw153323-153325 [PATCH] [v2,3/3] dts: add packet capture t From: dpdklab@iol.unh.edu To: Test Report Cc: dpdk-test-reports@iol.unh.edu In-Reply-To: <20250506132933.1580584-4-luca.vizzarro@arm.com> References: <20250506132933.1580584-4-luca.vizzarro@arm.com> Content-Type: text/plain X-BeenThere: test-report@dpdk.org X-Mailman-Version: 2.1.29 Precedence: list List-Id: automatic DPDK test reports List-Unsubscribe: , List-Archive: List-Post: List-Help: List-Subscribe: , Errors-To: test-report-bounces@dpdk.org Test-Label: iol-unit-arm64-testing Test-Status: SUCCESS http://dpdk.org/patch/153325 _Testing PASS_ Submitter: Luca Vizzarro Date: Tuesday, May 06 2025 13:29:33 DPDK git baseline: Repo:dpdk Branch: master CommitID:1aef42bc97a31906486c9d66b792208948af06f3 153323-153325 --> testing pass Upstream job id: Generic-Unit-Test-DPDK#336065 Test environment and result as below: +------------------------+----------------+--------------+---------------------------+------------------------------+ | Environment | dpdk_unit_test | lpm_autotest | cryptodev_sw_zuc_autotest | cryptodev_sw_snow3g_autotest | +========================+================+==============+===========================+==============================+ | CentOS Stream 9 (ARM) | PASS | SKIPPED | SKIPPED | SKIPPED | +------------------------+----------------+--------------+---------------------------+------------------------------+ | Debian 12 (arm) | PASS | SKIPPED | PASS | PASS | +------------------------+----------------+--------------+---------------------------+------------------------------+ | CentOS Stream 10 (ARM) | PASS | SKIPPED | SKIPPED | SKIPPED | +------------------------+----------------+--------------+---------------------------+------------------------------+ | Fedora 40 (ARM Clang) | PASS | SKIPPED | SKIPPED | SKIPPED | +------------------------+----------------+--------------+---------------------------+------------------------------+ | Fedora 40 (ARM) | PASS | SKIPPED | SKIPPED | SKIPPED | +------------------------+----------------+--------------+---------------------------+------------------------------+ | Fedora 41 (ARM) | PASS | SKIPPED | SKIPPED | SKIPPED | +------------------------+----------------+--------------+---------------------------+------------------------------+ | Fedora 41 (ARM Clang) | PASS | SKIPPED | SKIPPED | SKIPPED | +------------------------+----------------+--------------+---------------------------+------------------------------+ | Ubuntu 24.04 (ARM) | PASS | SKIPPED | SKIPPED | SKIPPED | +------------------------+----------------+--------------+---------------------------+------------------------------+ | Ubuntu 22.04 (ARM) | PASS | SKIPPED | SKIPPED | SKIPPED | +------------------------+----------------+--------------+---------------------------+------------------------------+ | RHEL9 (ARM) | PASS | SKIPPED | SKIPPED | SKIPPED | +------------------------+----------------+--------------+---------------------------+------------------------------+ | Ubuntu 20.04 (ARM) | PASS | SKIPPED | SKIPPED | SKIPPED | +------------------------+----------------+--------------+---------------------------+------------------------------+ | Ubuntu 20.04 ARM SVE | SKIPPED | PASS | SKIPPED | SKIPPED | +------------------------+----------------+--------------+---------------------------+------------------------------+ CentOS Stream 9 (ARM) Kernel: Depends on container host Compiler: gcc 11.5.0 20240719 (Red Hat 11.5.0-2) Debian 12 (arm) Kernel: Depends on container host Compiler: gcc (Debian 12.2.0-14) 12.2.0 CentOS Stream 10 (ARM) Kernel: Depends on container host Compiler: gcc 14.2.1 20241104 (Red Hat 14.2.1-6) Fedora 40 (ARM Clang) Kernel: Depends on container host Compiler: clang 18.1.8 (Fedora 18.1.8-1.fc40) Fedora 40 (ARM) Kernel: Depends on container host Compiler: gcc 14.2.1 20240912 (Red Hat 14.2.1-3) Fedora 41 (ARM) Kernel: Depends on container host Compiler: gcc 14.2.1 20240912 (Red Hat 14.2.1-3) Fedora 41 (ARM Clang) Kernel: Depends on container host Compiler: clang 19.1.5 (Fedora 19.1.5-1.fc41) Ubuntu 24.04 (ARM) Kernel: Depends on container host Compiler: gcc (Ubuntu 13.3.0-6ubuntu2~24.04) 13.3.0 Ubuntu 22.04 (ARM) Kernel: Depends on container host Compiler: gcc (Ubuntu 11.4.0-1ubuntu1~22.04) 11.4.0 RHEL9 (ARM) Kernel: Depends on container host Compiler: gcc 11.5.0 20240719 (Red Hat 11.5.0-2) Ubuntu 20.04 (ARM) Kernel: Depends on container host Compiler: gcc (Ubuntu 9.4.0-1ubuntu1~20.04.2) 9.4.0 Ubuntu 20.04 ARM SVE Kernel: Depends on container host Compiler: gcc (Ubuntu 10.5.0-1ubuntu1~20.04) 10.5.0 To view detailed results, visit: https://lab.dpdk.org/results/dashboard/patchsets/33123/ UNH-IOL DPDK Community Lab To manage your email subscriptions, visit: https://lab.dpdk.org/results/dashboard/preferences/subscriptions/