From mboxrd@z Thu Jan 1 00:00:00 1970 Return-Path: Received: from mails.dpdk.org (mails.dpdk.org [217.70.189.124]) by inbox.dpdk.org (Postfix) with ESMTP id BC235466E6 for ; Wed, 7 May 2025 08:50:26 +0200 (CEST) Received: from mails.dpdk.org (localhost [127.0.0.1]) by mails.dpdk.org (Postfix) with ESMTP id B7D284025D; Wed, 7 May 2025 08:50:26 +0200 (CEST) Received: from mail-qt1-f228.google.com (mail-qt1-f228.google.com [209.85.160.228]) by mails.dpdk.org (Postfix) with ESMTP id 6DE5C4025A for ; Wed, 7 May 2025 08:50:25 +0200 (CEST) Received: by mail-qt1-f228.google.com with SMTP id d75a77b69052e-476a1acf61eso70762131cf.1 for ; Tue, 06 May 2025 23:50:25 -0700 (PDT) DKIM-Signature: v=1; a=rsa-sha256; c=relaxed/relaxed; d=iol.unh.edu; s=unh-iol; t=1746600625; x=1747205425; darn=dpdk.org; h=references:in-reply-to:cc:to:from:subject:message-id:date:from:to :cc:subject:date:message-id:reply-to; bh=uu0/mXv9mmPpMBOrf4WKFU1H0VtFQztvcHpjGsJMMnA=; b=ZbNb0iuFrZhEWijL2+fmYl3FpJ2YlaUnlT8u8fIww6GxwX4z1KLYlk1eQC6rRtnamp ZrIPIbxhcBVPNSxM46/EBoG4pvpWHdJgkPI5ef8fHJiCEfG0rDmIkk3Sz0vGcpKqMmZw US+yOVlezZ2eno/HMrkWW+MBfYZ1hf2/n2qhk= X-Google-DKIM-Signature: v=1; a=rsa-sha256; c=relaxed/relaxed; d=1e100.net; s=20230601; t=1746600625; x=1747205425; h=references:in-reply-to:cc:to:from:subject:message-id:date :x-gm-message-state:from:to:cc:subject:date:message-id:reply-to; bh=uu0/mXv9mmPpMBOrf4WKFU1H0VtFQztvcHpjGsJMMnA=; b=gmxPLeBuMccgozCNwhlpDJzd47n+c+dUV1QbsZmNBeZTNmAgsxWIT6nODJ54sWM0U0 lCaZ8U0FTPj9JMDvTmWLo9zdvoP7neq1t40b0hiMwpNisun/vPv/x8PH95c1V7foRNZk gW4rMX4jOXFgK8QBtwnbK5g6mmQL+oMQASbA6FahI58jP5TxbmKuiKvl5vZvX0xHUFUX ZGvdyGtBIKew6eegxFC0mF5zwL4pRImeOgbgZRMgXPjc6yKdhPrP2LVygLbgJr7VhGfH 8660FZ65SyzPkbKUiea90tzplXmFJ8N1E+6Tte77AuoqftdhxfjqbuNdIp+lJrqSW8i6 Nqdw== X-Gm-Message-State: AOJu0Yw284Ime1daDWmgvmKUm6ZDmUxygXc0iQpHmDaLNc/DXV/+3+3T sys/UPT44rkHxQ4SFAEDfKt/ezf8sebnh/0dQUdA0aeZvCHF+HvFwtlQSxJjAgpVBJGEQMpVlv2 6bbOn+Qq7AwtOs5miVJBP6hbtB0VEu1NdReu22HTU8A91o8FrMB9iqbVz X-Gm-Gg: ASbGncsH4gscnYw5PxSPoDLjJ4yEveTjBFCLejx39owKdl4/0X7rVENRFhDFM3sYPz0 7np+d6o2+6OxmrS84CMa73pU1HqqScKbiztWlU+6gg75Gd1F9hbNoCATT+XgIKvse+ZieyJofpl 32kCxdxEoX9+hIs85DIV3HJaTng2G/0zAmbykHy5pBXCuax4ytxeQ82wL3lVLl2ZkkF/lbAuM0Q jq4xf2H8Wg1AL01j+UezXB/M+IQnUYbwO9ISbiDD2vuTT6OPPNBm81lB5VTrqP9961ln7qiEJNZ PKYhQCPUbZ0BgU0X9O2yImFsgR7ntr/MLE3G X-Google-Smtp-Source: AGHT+IHOpWfYvU53/T/PNauIazLuwcbWQSi3oMFcMS0dGyHLGugH6s0ii+8Kvdk+8cRgfzafLrwZiIEOtYRX X-Received: by 2002:ac8:7c50:0:b0:476:903a:b7f0 with SMTP id d75a77b69052e-492277702afmr27757601cf.49.1746600624769; Tue, 06 May 2025 23:50:24 -0700 (PDT) Received: from postal.iol.unh.edu (postal.iol.unh.edu. [2606:4100:3880:1234::84]) by smtp-relay.gmail.com with ESMTPS id d75a77b69052e-4922174c1a4sm497651cf.12.2025.05.06.23.50.24 (version=TLS1_2 cipher=ECDHE-ECDSA-AES128-GCM-SHA256 bits=128/128); Tue, 06 May 2025 23:50:24 -0700 (PDT) X-Relaying-Domain: iol.unh.edu Date: Tue, 06 May 2025 23:50:24 -0700 (PDT) Message-ID: <681b02b0.050a0220.2c6e28.2dcaSMTPIN_ADDED_MISSING@mx.google.com> Received: from [172.21.0.5] (unknown [172.18.0.240]) by postal.iol.unh.edu (Postfix) with ESMTP id 7AB216052471; Wed, 7 May 2025 02:50:24 -0400 (EDT) Subject: |SUCCESS| pw153310-153322 [PATCH] [v1,13/13] net/intel: add common T From: dpdklab@iol.unh.edu To: Test Report Cc: dpdk-test-reports@iol.unh.edu In-Reply-To: <3925dc733f7a3c4dfcc1a36a5df5d2b14a3c5372.1746538072.git.anatoly.burakov@intel.com> References: <3925dc733f7a3c4dfcc1a36a5df5d2b14a3c5372.1746538072.git.anatoly.burakov@intel.com> Content-Type: text/plain X-BeenThere: test-report@dpdk.org X-Mailman-Version: 2.1.29 Precedence: list List-Id: automatic DPDK test reports List-Unsubscribe: , List-Archive: List-Post: List-Help: List-Subscribe: , Errors-To: test-report-bounces@dpdk.org Test-Label: iol-abi-testing Test-Status: SUCCESS http://dpdk.org/patch/153322 _Testing PASS_ Submitter: Anatoly Burakov Date: Tuesday, May 06 2025 13:28:02 DPDK git baseline: Repo:dpdk Branch: master CommitID:7cf0355db9fdab5648b05fd787356c391c510534 153310-153322 --> testing pass Upstream job id: Generic-DPDK-Compile-ABI#125578 Test environment and result as below: +-------------------+----------+ | Environment | abi_test | +===================+==========+ | CentOS Stream 9 | PASS | +-------------------+----------+ | CentOS Stream 10 | PASS | +-------------------+----------+ | Debian 12 | PASS | +-------------------+----------+ | Fedora 40 (Clang) | PASS | +-------------------+----------+ | Fedora 40 | PASS | +-------------------+----------+ | Fedora 41 | PASS | +-------------------+----------+ | Fedora 41 (Clang) | PASS | +-------------------+----------+ | RHEL9 | PASS | +-------------------+----------+ | openSUSE Leap 15 | PASS | +-------------------+----------+ | RHEL8 | PASS | +-------------------+----------+ | Ubuntu 22.04 | PASS | +-------------------+----------+ | Ubuntu 24.04 | PASS | +-------------------+----------+ CentOS Stream 9 Kernel: Depends on container host Compiler: gcc 11.5.0 20240719 (Red Hat 11.5.0-2) CentOS Stream 10 Kernel: Depends on container host Compiler: gcc 14.2.1 20241104 (Red Hat 14.2.1-6) Debian 12 Kernel: Depends on container host Compiler: gcc (Debian 12.2.0-14) 12.2.0 Fedora 40 (Clang) Kernel: Depends on container host Compiler: clang 18.1.8 (Fedora 18.1.8-1.fc40) Fedora 40 Kernel: Depends on container host Compiler: gcc 14.2.1 20240912 (Red Hat 14.2.1-3) Fedora 41 Kernel: Depends on container host Compiler: gcc 14.2.1 20240912 (Red Hat 14.2.1-3) Fedora 41 (Clang) Kernel: Depends on container host Compiler: clang 19.1.5 (Fedora 19.1.5-1.fc41) RHEL9 Kernel: Depends on container host Compiler: gcc 11.5.0 20240719 (Red Hat 11.5.0-2) openSUSE Leap 15 Kernel: Depends on container host Compiler: gcc (SUSE Linux) 7.5.0 RHEL8 Kernel: Depends on container host Compiler: gcc 8.5.0 20210514 (Red Hat 8.5.0-22) Ubuntu 22.04 Kernel: Depends on container host Compiler: gcc (Ubuntu 11.4.0-1ubuntu1~22.04) 11.4.0 Ubuntu 24.04 Kernel: Depends on container host Compiler: gcc (Ubuntu 13.3.0-6ubuntu2~24.04) 13.3.0 To view detailed results, visit: https://lab.dpdk.org/results/dashboard/patchsets/33122/ UNH-IOL DPDK Community Lab To manage your email subscriptions, visit: https://lab.dpdk.org/results/dashboard/preferences/subscriptions/