From mboxrd@z Thu Jan 1 00:00:00 1970 Return-Path: Received: from mails.dpdk.org (mails.dpdk.org [217.70.189.124]) by inbox.dpdk.org (Postfix) with ESMTP id 04FC7466E6 for ; Wed, 7 May 2025 08:52:11 +0200 (CEST) Received: from mails.dpdk.org (localhost [127.0.0.1]) by mails.dpdk.org (Postfix) with ESMTP id E37964025D; Wed, 7 May 2025 08:52:10 +0200 (CEST) Received: from mail-pl1-f227.google.com (mail-pl1-f227.google.com [209.85.214.227]) by mails.dpdk.org (Postfix) with ESMTP id A31444025A for ; Wed, 7 May 2025 08:52:09 +0200 (CEST) Received: by mail-pl1-f227.google.com with SMTP id d9443c01a7336-22e15aea506so60238695ad.1 for ; Tue, 06 May 2025 23:52:09 -0700 (PDT) DKIM-Signature: v=1; a=rsa-sha256; c=relaxed/relaxed; d=iol.unh.edu; s=unh-iol; t=1746600728; x=1747205528; darn=dpdk.org; h=references:in-reply-to:cc:to:from:subject:message-id:date:from:to :cc:subject:date:message-id:reply-to; bh=62kuSH7Pd1CxHDu31YCPJ/dtiKCtBAfzbbxQFgD/ZTQ=; b=jtpxuY5S1jA8Z62MGOqAghMJ2xnSbR1Lpl391FDvT6Rbuq893MCglQMhg6cAFtx21Z nVj3mvgd0qEvg5gaZzpBFP91gMkeY0jBimg0HIk3VsMRqLfoNiR7rfo/XvnIU2cEzrpM eDP58FLAYU+pnBoRSUQDYLNugaCrk8D+lUCmk= X-Google-DKIM-Signature: v=1; a=rsa-sha256; c=relaxed/relaxed; d=1e100.net; s=20230601; t=1746600728; x=1747205528; h=references:in-reply-to:cc:to:from:subject:message-id:date :x-gm-message-state:from:to:cc:subject:date:message-id:reply-to; bh=62kuSH7Pd1CxHDu31YCPJ/dtiKCtBAfzbbxQFgD/ZTQ=; b=kZl2145eMxA1ckWC3RvHwaeDD1Dz9oqF03MHSwZkC1G26ukYxW6qNJyJHETNCd/itp 9+PTxq2REWuXxcA9JN6pNTMir7UbS9zmdt8wsWGDQr01B3oeooiFy85ky3+g8BdnSfHD DhX7RyppwE9CsfXZmxHPum/Ys4Px6O1K+wfk6K46nW8nH3otNy21P5duWMt1x9ia2FTF bLbbZ0OYYJ/2zNofdFhEos/SrG8+0HjpFi64EmEFDkl9iiwe3QLTwODPtxCUgBALynZi iZ9mekhbSbt5Lzs0FYMsfB5+eM9P600x1fD1I42Gm6PooPkz5Qlgu+RrX9XCokOAoPc9 inOQ== X-Gm-Message-State: AOJu0YygqQbaM21Oi083xmD4ocLqUyhAVuYGLqdwQZMEJXphwQC4hKmL 16dggdadX9HNhGPzgecsgOxw5SNn17MadcDlti4MNgVn4TeIlMztYVO0yAN5m9+Yw4q+8I8JTbx 9J1pMovpmBCsJzKpfNSUr22HTYu9eXcVjnV8/+Pg7fxbq8A9vdl2i7Npq X-Gm-Gg: ASbGncu0+x/fcRKX+fvvomXco7vJDasQrD6ZFbLywk3K0e51HVuD0080Zi4N/cqpCNd 9oyFJt9NX5CEESxkm/GNXMNVStlSCojbcIq10DWW8bL10I/G56XSvITcmUBArrCtvnL7AmR/mjk vWsddl/wv5XeFLbezUAJHFGsnJn1BOtbeGIjTVTZ4pOOXYfmcHMbBsBTkOpl7uYeKwYE1RCEolU 8B10lf3sFrsxx+etAdhYHSSrux4BmcHWopQ3WDLavvUd/pWK/uNTX3bepGfZ1IByzUREA17+xUe eq8QPUQy+QtkPESfTH9+QBdc5oILenjAEFY3 X-Google-Smtp-Source: AGHT+IHKOJCi3Huw+goqEfpLCs4Iy0zwmB7mKOzE+0VXyY5SHBpW8+Wh+73b7jg1NacA7Ejv1XqJMSN/LKqh X-Received: by 2002:a17:903:8c4:b0:223:5c33:56b4 with SMTP id d9443c01a7336-22e5ea8c5fdmr29844905ad.20.1746600728455; Tue, 06 May 2025 23:52:08 -0700 (PDT) Received: from postal.iol.unh.edu (postal.iol.unh.edu. [2606:4100:3880:1234::84]) by smtp-relay.gmail.com with ESMTPS id d9443c01a7336-22e1522b6c5sm17854395ad.81.2025.05.06.23.52.08 (version=TLS1_2 cipher=ECDHE-ECDSA-AES128-GCM-SHA256 bits=128/128); Tue, 06 May 2025 23:52:08 -0700 (PDT) X-Relaying-Domain: iol.unh.edu Date: Tue, 06 May 2025 23:52:08 -0700 (PDT) Message-ID: <681b0318.170a0220.3ce113.a7b6SMTPIN_ADDED_MISSING@mx.google.com> Received: from [172.21.0.5] (unknown [172.18.0.240]) by postal.iol.unh.edu (Postfix) with ESMTP id 9445C6052471; Wed, 7 May 2025 02:52:07 -0400 (EDT) Subject: |SUCCESS| pw153310-153322 [PATCH] [v1,13/13] net/intel: add common T From: dpdklab@iol.unh.edu To: Test Report Cc: dpdk-test-reports@iol.unh.edu In-Reply-To: <3925dc733f7a3c4dfcc1a36a5df5d2b14a3c5372.1746538072.git.anatoly.burakov@intel.com> References: <3925dc733f7a3c4dfcc1a36a5df5d2b14a3c5372.1746538072.git.anatoly.burakov@intel.com> Content-Type: text/plain X-BeenThere: test-report@dpdk.org X-Mailman-Version: 2.1.29 Precedence: list List-Id: automatic DPDK test reports List-Unsubscribe: , List-Archive: List-Post: List-Help: List-Subscribe: , Errors-To: test-report-bounces@dpdk.org Test-Label: iol-abi-testing Test-Status: SUCCESS http://dpdk.org/patch/153322 _Testing PASS_ Submitter: Anatoly Burakov Date: Tuesday, May 06 2025 13:28:02 DPDK git baseline: Repo:dpdk Branch: master CommitID:7cf0355db9fdab5648b05fd787356c391c510534 153310-153322 --> testing pass Upstream job id: Generic-DPDK-Compile-ABI#125574 Test environment and result as below: +-------------------+----------+ | Environment | abi_test | +===================+==========+ | CentOS Stream 9 | PASS | +-------------------+----------+ | CentOS Stream 10 | PASS | +-------------------+----------+ | Debian 12 | PASS | +-------------------+----------+ | Fedora 40 (Clang) | PASS | +-------------------+----------+ | Fedora 40 | PASS | +-------------------+----------+ | Fedora 41 | PASS | +-------------------+----------+ | Fedora 41 (Clang) | PASS | +-------------------+----------+ | RHEL9 | PASS | +-------------------+----------+ | openSUSE Leap 15 | PASS | +-------------------+----------+ | RHEL8 | PASS | +-------------------+----------+ | Ubuntu 22.04 | PASS | +-------------------+----------+ | Ubuntu 24.04 | PASS | +-------------------+----------+ CentOS Stream 9 Kernel: Depends on container host Compiler: gcc 11.5.0 20240719 (Red Hat 11.5.0-2) CentOS Stream 10 Kernel: Depends on container host Compiler: gcc 14.2.1 20241104 (Red Hat 14.2.1-6) Debian 12 Kernel: Depends on container host Compiler: gcc (Debian 12.2.0-14) 12.2.0 Fedora 40 (Clang) Kernel: Depends on container host Compiler: clang 18.1.8 (Fedora 18.1.8-1.fc40) Fedora 40 Kernel: Depends on container host Compiler: gcc 14.2.1 20240912 (Red Hat 14.2.1-3) Fedora 41 Kernel: Depends on container host Compiler: gcc 14.2.1 20240912 (Red Hat 14.2.1-3) Fedora 41 (Clang) Kernel: Depends on container host Compiler: clang 19.1.5 (Fedora 19.1.5-1.fc41) RHEL9 Kernel: Depends on container host Compiler: gcc 11.5.0 20240719 (Red Hat 11.5.0-2) openSUSE Leap 15 Kernel: Depends on container host Compiler: gcc (SUSE Linux) 7.5.0 RHEL8 Kernel: Depends on container host Compiler: gcc 8.5.0 20210514 (Red Hat 8.5.0-22) Ubuntu 22.04 Kernel: Depends on container host Compiler: gcc (Ubuntu 11.4.0-1ubuntu1~22.04) 11.4.0 Ubuntu 24.04 Kernel: Depends on container host Compiler: gcc (Ubuntu 13.3.0-6ubuntu2~24.04) 13.3.0 To view detailed results, visit: https://lab.dpdk.org/results/dashboard/patchsets/33122/ UNH-IOL DPDK Community Lab To manage your email subscriptions, visit: https://lab.dpdk.org/results/dashboard/preferences/subscriptions/