From mboxrd@z Thu Jan 1 00:00:00 1970 Return-Path: Received: from mails.dpdk.org (mails.dpdk.org [217.70.189.124]) by inbox.dpdk.org (Postfix) with ESMTP id 2250D466E6 for ; Wed, 7 May 2025 09:32:55 +0200 (CEST) Received: from mails.dpdk.org (localhost [127.0.0.1]) by mails.dpdk.org (Postfix) with ESMTP id 1D9004025D; Wed, 7 May 2025 09:32:55 +0200 (CEST) Received: from mail-oa1-f99.google.com (mail-oa1-f99.google.com [209.85.160.99]) by mails.dpdk.org (Postfix) with ESMTP id 190024025A for ; Wed, 7 May 2025 09:32:53 +0200 (CEST) Received: by mail-oa1-f99.google.com with SMTP id 586e51a60fabf-2c76a1b574cso2060564fac.2 for ; Wed, 07 May 2025 00:32:53 -0700 (PDT) DKIM-Signature: v=1; a=rsa-sha256; c=relaxed/relaxed; d=iol.unh.edu; s=unh-iol; t=1746603172; x=1747207972; darn=dpdk.org; h=cc:to:from:subject:message-id:date:from:to:cc:subject:date :message-id:reply-to; bh=zfHp2EqRBf0YAhbfTE65LU+DMt2Do0fOqO80/cgBqsU=; b=FSIra44QFjr7IjDfIFH9P9nJcEP4Y4ApoVIPJCES9JDvS9CDTrUqTiO7+L4MQyT3KX GBZi0/dSCNzqpFMSSe2mESruKSvZBjQsBRLzPKO0uj1uFn1fOXFd6y7Qchn9Ai9xB4bY T7ekeGNLuAm+p7c/uQwItrfMJyn9CoDbCaAC8= X-Google-DKIM-Signature: v=1; a=rsa-sha256; c=relaxed/relaxed; d=1e100.net; s=20230601; t=1746603172; x=1747207972; h=cc:to:from:subject:message-id:date:x-gm-message-state:from:to:cc :subject:date:message-id:reply-to; bh=zfHp2EqRBf0YAhbfTE65LU+DMt2Do0fOqO80/cgBqsU=; b=X/xgX3AKoVdbhT0oqAHBpnszebulFQyKCkhKxGPRZhp6nSaIfDWhOZJEUQ8wkezqKj BwQKW+/+8T+Ul6xsXUqZ1dMD6+b5zsEWqRKZg5E1K3juN+th3MHnW1G4XouzZgiYgpcQ CYVW4Y+Cw2DSQp1dzeRgPPZeY0acTv4DOwM+QLr1tpah/DbVu8z2BwGMPQe0Ht0RMOES MyM9VGv/baO/D1LPijNHlLW3vFI5BtGeWJ8uXhTuyO+JhWAoh/X/xD9H5k7tDrUoNbdB fyzTvZIVhMFuTJ5sAU7g04w3iGTIyvcgUwhbPH2SzoCwjlu1bf5wvDVsSBb3wwv421t/ ihww== X-Gm-Message-State: AOJu0YzOgXYYdtWpuNDufDWOOm8H7d7hYsYEeDC6Dh7WTxZi7bssQK4t +TuLR9QmGauSfBnMpTMbJcY+vAApqoXSAH8oXS8tTy9Podd0gcQsD3kkXHY5fS662cpUNh7u2Kn iOkJcRsQ4tOWzy+T/wtL8+7fBdFdCE2s36Mj/q8LZzK2AYLLF X-Gm-Gg: ASbGncuGMNjPzDK6ht1Y+QhrhVUCk6UNal3wqJw789g9YcXbIJUGyQiBbF/9ZpmtdhK NWArYMzm4i+cMZlX1vL6XwdFpdWwjk/PzLTcQu4t017T6eKA1vXwMGcEZD9yvtBLCCCJIRM9xpH kdnKyPGbZul8RdLwdyF1icEENYS3/+wpTCwFHjLiZ0iwOPz1S12GmWLwN+0d8UEXYvUk0h2gC7W 57Yo1FklUH49drJkMILa4NychIYBCDIdoS87kVc8gQwTeyaRw5b6r1ceRJdV686zdHukAQ4h3dR ZHuhg4iJVzMBylyhE0N+qI/JifbiyraQrUpM X-Google-Smtp-Source: AGHT+IEcLh4HX7dEhey4TCIGuUi+nN+Infh/8pX6kStTkhzlAeFNiLAUfDJoUMuAkWP3bi18Q7x3mzwKBtkg X-Received: by 2002:a05:6870:91d3:b0:29e:503a:7ea3 with SMTP id 586e51a60fabf-2db5c123219mr1308614fac.36.1746603172173; Wed, 07 May 2025 00:32:52 -0700 (PDT) Received: from postal.iol.unh.edu (postal.iol.unh.edu. [2606:4100:3880:1234::84]) by smtp-relay.gmail.com with ESMTPS id 586e51a60fabf-2db5d0cc4bbsm61362fac.38.2025.05.07.00.32.52 (version=TLS1_2 cipher=ECDHE-ECDSA-AES128-GCM-SHA256 bits=128/128); Wed, 07 May 2025 00:32:52 -0700 (PDT) X-Relaying-Domain: iol.unh.edu Date: Wed, 07 May 2025 00:32:52 -0700 (PDT) Message-ID: <681b0ca4.050a0220.32602f.3aa0SMTPIN_ADDED_MISSING@mx.google.com> Received: from [172.21.0.5] (unknown [172.18.0.240]) by postal.iol.unh.edu (Postfix) with ESMTP id A803E6052471; Wed, 7 May 2025 03:32:51 -0400 (EDT) Subject: |SUCCESS| [GIT MASTER] 4c5634de9f933555bab9c64a533d3dca999071cd From: dpdklab@iol.unh.edu To: Test Report Cc: dpdk-test-reports@iol.unh.edu, Xueming Li , Christian Ehrhardt , Kevin Traynor , Luca Boccassi Content-Type: text/plain X-BeenThere: test-report@dpdk.org X-Mailman-Version: 2.1.29 Precedence: list List-Id: automatic DPDK test reports List-Unsubscribe: , List-Archive: List-Post: List-Help: List-Subscribe: , Errors-To: test-report-bounces@dpdk.org _Testing PASS_ Branch: tags/v24.11 4c5634de9f933555bab9c64a533d3dca999071cd --> testing pass Upstream job id: Generic-DPDK-Compile-ABI#125586 Test environment and result as below: +-------------------+----------+ | Environment | abi_test | +===================+==========+ | CentOS Stream 10 | PASS | +-------------------+----------+ | Fedora 40 (Clang) | PASS | +-------------------+----------+ | CentOS Stream 9 | PASS | +-------------------+----------+ | Debian 12 | PASS | +-------------------+----------+ | Fedora 41 (Clang) | PASS | +-------------------+----------+ | openSUSE Leap 15 | PASS | +-------------------+----------+ | Ubuntu 24.04 | PASS | +-------------------+----------+ | Fedora 41 | PASS | +-------------------+----------+ | RHEL9 | PASS | +-------------------+----------+ | Ubuntu 22.04 | PASS | +-------------------+----------+ CentOS Stream 10 Kernel: Depends on container host Compiler: gcc 14.2.1 20241104 (Red Hat 14.2.1-6) Fedora 40 (Clang) Kernel: Depends on container host Compiler: clang 18.1.8 (Fedora 18.1.8-1.fc40) CentOS Stream 9 Kernel: Depends on container host Compiler: gcc 11.5.0 20240719 (Red Hat 11.5.0-2) Debian 12 Kernel: Depends on container host Compiler: gcc (Debian 12.2.0-14) 12.2.0 Fedora 41 (Clang) Kernel: Depends on container host Compiler: clang 19.1.5 (Fedora 19.1.5-1.fc41) openSUSE Leap 15 Kernel: Depends on container host Compiler: gcc (SUSE Linux) 7.5.0 Ubuntu 24.04 Kernel: Depends on container host Compiler: gcc (Ubuntu 13.3.0-6ubuntu2~24.04) 13.3.0 Fedora 41 Kernel: Depends on container host Compiler: gcc 14.2.1 20240912 (Red Hat 14.2.1-3) RHEL9 Kernel: Depends on container host Compiler: gcc 11.5.0 20240719 (Red Hat 11.5.0-2) Ubuntu 22.04 Kernel: Depends on container host Compiler: gcc (Ubuntu 11.4.0-1ubuntu1~22.04) 11.4.0 To view detailed results, visit: https://lab.dpdk.org/results/dashboard/tarballs/33461/ UNH-IOL DPDK Community Lab To manage your email subscriptions, visit: https://lab.dpdk.org/results/dashboard/preferences/subscriptions/