From mboxrd@z Thu Jan 1 00:00:00 1970 Return-Path: Received: from mails.dpdk.org (mails.dpdk.org [217.70.189.124]) by inbox.dpdk.org (Postfix) with ESMTP id 4FDEA466E6 for ; Wed, 7 May 2025 09:33:58 +0200 (CEST) Received: from mails.dpdk.org (localhost [127.0.0.1]) by mails.dpdk.org (Postfix) with ESMTP id 3E4394025D; Wed, 7 May 2025 09:33:58 +0200 (CEST) Received: from mail-vs1-f97.google.com (mail-vs1-f97.google.com [209.85.217.97]) by mails.dpdk.org (Postfix) with ESMTP id 77FF34025A for ; Wed, 7 May 2025 09:33:56 +0200 (CEST) Received: by mail-vs1-f97.google.com with SMTP id ada2fe7eead31-4c3036845c0so1824615137.3 for ; Wed, 07 May 2025 00:33:56 -0700 (PDT) DKIM-Signature: v=1; a=rsa-sha256; c=relaxed/relaxed; d=iol.unh.edu; s=unh-iol; t=1746603236; x=1747208036; darn=dpdk.org; h=references:in-reply-to:cc:to:from:subject:message-id:date:from:to :cc:subject:date:message-id:reply-to; bh=SBPwXYcBnNTK5scz0JH2b+pjdnrsVUWz3jfQhNfjFG4=; b=Cbw2NGpoHbAakVzN1MHF7ipe8bEy2VEdkIvgEiqVWkxvdCLKgL1K50Tz4IU3FKHx+G k7S0J44BpLaPHWJQvLvmBFBWYKcNPZ88H2/6Qsyg9kWMHey/wTr762oGrQN4P1NzVwPN SGIC8Zbx2ovyCaFdoIGlo9ym5ovxGpKKyo3fk= X-Google-DKIM-Signature: v=1; a=rsa-sha256; c=relaxed/relaxed; d=1e100.net; s=20230601; t=1746603236; x=1747208036; h=references:in-reply-to:cc:to:from:subject:message-id:date :x-gm-message-state:from:to:cc:subject:date:message-id:reply-to; bh=SBPwXYcBnNTK5scz0JH2b+pjdnrsVUWz3jfQhNfjFG4=; b=avT+3S/WPm8G/VfgHCHit2dQinjEZJKKR/0yUTTkV52IyDCxVn3Eq7xl6DGffiIVV8 9OjjTszGBKtOh3s7z+Az6AKxiPfF8bWBsp3PIDhy3pGQdIKXIVPgg3QWJzG+VIm7qIzw +vlNNF4U6Mig0OJGVlmR0P5xDLD1e+95tNWfHwRR9xDkHa0fm+IAnBc0P8ANiF6NqMkm L+7swl+K6XfoPuqLB3MXpCS0WVhVNx35LxvZzWjsbPgDxqPUs+3IM95/ITOokpm//qsm b7gjyT76R0lVjFb34bLW3dAcKSOtVjEsLt2Ivb8VlnLbZp7MQMiO0a1voKUGoTsZB0NB baOQ== X-Gm-Message-State: AOJu0YwsRd8syrGTPmw/vWnrmIZHq/NO+m7S7tchGGdMMAIT2UT7ny/a r5AgtERTfc4IeRIlxu8yQJA6EK04Dv844ttik9yq+3EnQ5UQ023ZVh/GETznWDSnPRayXkWqumm IrrGjsYcqfZnVsVdw3p9M5gMC2EjsAS7k1fPl+AmI X-Gm-Gg: ASbGnctnCRlJyqrvRfiyLo7FxiJ/tFGghdRIDI4HpTHj/LA77G86S/hUUoepzvcNHKa WdAV7V6Cr5xlhQNj8wYfs5WnXPpzGuUQ0gWzBvTzwRL7RAvgQtQI9bwW0oK4BOioCi83C9Yoz0E 2jiadSFUSkKEZ/vo9jAYXZ97gSP1AzTfn7bkOW4j5c7wb9O5vaW5VrYD9oQzT1TzVYae9nVDi6J OR49GeESe/VYjBE7JbWDjWEWsM1R7wnOtBUlMDnCMUwRpVVRaVMITMNr4Fpk4tBSYua+gy28/SP x6e2vY6QyJXueUcq+9S9Ae0edT0ekZs4spZMiDrC/9TELLzbSckObUawkuQ= X-Google-Smtp-Source: AGHT+IGVpnD2ggZIwIK6BzQZrZAfB1c89i4MVMjevgXBBr15mH8FlBt62nPUnmkWAauaS/+bduWMrLappAF+ X-Received: by 2002:a05:6102:5788:b0:4c3:7f7:92f4 with SMTP id ada2fe7eead31-4dc737d186bmr1856696137.6.1746603235791; Wed, 07 May 2025 00:33:55 -0700 (PDT) Received: from postal.iol.unh.edu (postal.iol.unh.edu. [132.177.123.84]) by smtp-relay.gmail.com with ESMTPS id a1e0cc1a2514c-8780b01fbb9sm865398241.10.2025.05.07.00.33.55 (version=TLS1_2 cipher=ECDHE-ECDSA-AES128-GCM-SHA256 bits=128/128); Wed, 07 May 2025 00:33:55 -0700 (PDT) X-Relaying-Domain: iol.unh.edu Date: Wed, 07 May 2025 00:33:55 -0700 (PDT) Message-ID: <681b0ce3.b00a0220.38019a.dbfbSMTPIN_ADDED_MISSING@mx.google.com> Received: from [172.21.0.6] (unknown [172.18.0.240]) by postal.iol.unh.edu (Postfix) with ESMTP id 3C86C6052471; Wed, 7 May 2025 03:33:55 -0400 (EDT) Subject: |SUCCESS| pw153327 [PATCH] net/mlx5: fix error notification for larg From: dpdklab@iol.unh.edu To: Test Report Cc: dpdk-test-reports@iol.unh.edu In-Reply-To: <20250506133206.379993-1-getelson@nvidia.com> References: <20250506133206.379993-1-getelson@nvidia.com> Content-Type: text/plain X-BeenThere: test-report@dpdk.org X-Mailman-Version: 2.1.29 Precedence: list List-Id: automatic DPDK test reports List-Unsubscribe: , List-Archive: List-Post: List-Help: List-Subscribe: , Errors-To: test-report-bounces@dpdk.org Test-Label: iol-compile-amd64-testing Test-Status: SUCCESS http://dpdk.org/patch/153327 _Testing PASS_ Submitter: Gregory Etelson Date: Tuesday, May 06 2025 13:31:51 DPDK git baseline: Repo:dpdk Branch: master CommitID:edd3f4b1265e6da707c46ca9b6c39d332647baea 153327 --> testing pass Upstream job id: Windows-Compile-DPDK-Native#28251 Test environment and result as below: +-----------------------------------+--------------------+-------------------+------------------+-------------------+-------------------------+----------------------+ | Environment | dpdk_meson_compile | dpdk_compile_spdk | dpdk_compile_ovs | dpdk_msvc_compile | dpdk_llvm_clang_compile | dpdk_mingw64_compile | +===================================+====================+===================+==================+===================+=========================+======================+ | CentOS Stream 9 | PASS | PASS | SKIPPED | SKIPPED | SKIPPED | SKIPPED | +-----------------------------------+--------------------+-------------------+------------------+-------------------+-------------------------+----------------------+ | CentOS Stream 10 | PASS | SKIPPED | SKIPPED | SKIPPED | SKIPPED | SKIPPED | +-----------------------------------+--------------------+-------------------+------------------+-------------------+-------------------------+----------------------+ | Debian 12 | PASS | PASS | SKIPPED | SKIPPED | SKIPPED | SKIPPED | +-----------------------------------+--------------------+-------------------+------------------+-------------------+-------------------------+----------------------+ | Fedora 40 (Clang) | PASS | PASS | SKIPPED | SKIPPED | SKIPPED | SKIPPED | +-----------------------------------+--------------------+-------------------+------------------+-------------------+-------------------------+----------------------+ | Fedora 40 | PASS | PASS | SKIPPED | SKIPPED | SKIPPED | SKIPPED | +-----------------------------------+--------------------+-------------------+------------------+-------------------+-------------------------+----------------------+ | openSUSE Leap 15 | PASS | SKIPPED | SKIPPED | SKIPPED | SKIPPED | SKIPPED | +-----------------------------------+--------------------+-------------------+------------------+-------------------+-------------------------+----------------------+ | Fedora 41 (Clang) | PASS | PASS | PASS | SKIPPED | SKIPPED | SKIPPED | +-----------------------------------+--------------------+-------------------+------------------+-------------------+-------------------------+----------------------+ | Fedora 41 | PASS | PASS | PASS | SKIPPED | SKIPPED | SKIPPED | +-----------------------------------+--------------------+-------------------+------------------+-------------------+-------------------------+----------------------+ | Ubuntu 20.04 | PASS | SKIPPED | SKIPPED | SKIPPED | SKIPPED | SKIPPED | +-----------------------------------+--------------------+-------------------+------------------+-------------------+-------------------------+----------------------+ | RHEL9 | PASS | SKIPPED | SKIPPED | SKIPPED | SKIPPED | SKIPPED | +-----------------------------------+--------------------+-------------------+------------------+-------------------+-------------------------+----------------------+ | RHEL8 | PASS | SKIPPED | SKIPPED | SKIPPED | SKIPPED | SKIPPED | +-----------------------------------+--------------------+-------------------+------------------+-------------------+-------------------------+----------------------+ | Ubuntu 22.04 | PASS | PASS | SKIPPED | SKIPPED | SKIPPED | SKIPPED | +-----------------------------------+--------------------+-------------------+------------------+-------------------+-------------------------+----------------------+ | Ubuntu 24.04 | PASS | PASS | PASS | SKIPPED | SKIPPED | SKIPPED | +-----------------------------------+--------------------+-------------------+------------------+-------------------+-------------------------+----------------------+ | Ubuntu 24.04 32 Bit Cross Compile | PASS | SKIPPED | SKIPPED | SKIPPED | SKIPPED | SKIPPED | +-----------------------------------+--------------------+-------------------+------------------+-------------------+-------------------------+----------------------+ | Alpine | PASS | SKIPPED | SKIPPED | SKIPPED | SKIPPED | SKIPPED | +-----------------------------------+--------------------+-------------------+------------------+-------------------+-------------------------+----------------------+ | FreeBSD 13.5 | PASS | SKIPPED | SKIPPED | SKIPPED | SKIPPED | SKIPPED | +-----------------------------------+--------------------+-------------------+------------------+-------------------+-------------------------+----------------------+ | FreeBSD 14.2 | PASS | SKIPPED | SKIPPED | SKIPPED | SKIPPED | SKIPPED | +-----------------------------------+--------------------+-------------------+------------------+-------------------+-------------------------+----------------------+ | Windows Server 2022 | SKIPPED | SKIPPED | SKIPPED | PASS | PASS | PASS | +-----------------------------------+--------------------+-------------------+------------------+-------------------+-------------------------+----------------------+ CentOS Stream 9 Kernel: Depends on container host Compiler: gcc 11.5.0 20240719 (Red Hat 11.5.0-2) CentOS Stream 10 Kernel: Depends on container host Compiler: gcc 14.2.1 20241104 (Red Hat 14.2.1-6) Debian 12 Kernel: Depends on container host Compiler: gcc (Debian 12.2.0-14) 12.2.0 Fedora 40 (Clang) Kernel: Depends on container host Compiler: clang 18.1.8 (Fedora 18.1.8-1.fc40) Fedora 40 Kernel: Depends on container host Compiler: gcc 14.2.1 20240912 (Red Hat 14.2.1-3) openSUSE Leap 15 Kernel: Depends on container host Compiler: gcc (SUSE Linux) 7.5.0 Fedora 41 (Clang) Kernel: Depends on container host Compiler: clang 19.1.5 (Fedora 19.1.5-1.fc41) Fedora 41 Kernel: Depends on container host Compiler: gcc 14.2.1 20240912 (Red Hat 14.2.1-3) Ubuntu 20.04 Kernel: Depends on container host Compiler: gcc (Ubuntu 9.4.0-1ubuntu1~20.04.2) 9.4.0 RHEL9 Kernel: Depends on container host Compiler: gcc 11.5.0 20240719 (Red Hat 11.5.0-2) RHEL8 Kernel: Depends on container host Compiler: gcc 8.5.0 20210514 (Red Hat 8.5.0-22) Ubuntu 22.04 Kernel: Depends on container host Compiler: gcc (Ubuntu 11.4.0-1ubuntu1~22.04) 11.4.0 Ubuntu 24.04 Kernel: Depends on container host Compiler: gcc (Ubuntu 13.3.0-6ubuntu2~24.04) 13.3.0 Ubuntu 24.04 32 Bit Cross Compile Kernel: Depends on container host Compiler: gcc (Ubuntu 13.3.0-6ubuntu2~24.04) 13.3.0 Alpine Kernel: Depends on container host Compiler: gcc (Alpine 14.2.0) 14.2.0 FreeBSD 13.5 Kernel: 13.5-RELEASE Compiler: clang 19.1.7 FreeBSD 14.2 Kernel: 14.2-RELEASE Compiler: clang 18.1.6 Windows Server 2022 Kernel: 10.0.20348.2031 Compiler: clang 15.0.7, gcc 14.1.0 (MinGW), and MSVC VS 19.39.33521 To view detailed results, visit: https://lab.dpdk.org/results/dashboard/patchsets/33125/ UNH-IOL DPDK Community Lab To manage your email subscriptions, visit: https://lab.dpdk.org/results/dashboard/preferences/subscriptions/