From mboxrd@z Thu Jan 1 00:00:00 1970 Return-Path: Received: from mails.dpdk.org (mails.dpdk.org [217.70.189.124]) by inbox.dpdk.org (Postfix) with ESMTP id 0157F466E6 for ; Wed, 7 May 2025 09:50:59 +0200 (CEST) Received: from mails.dpdk.org (localhost [127.0.0.1]) by mails.dpdk.org (Postfix) with ESMTP id F04594025D; Wed, 7 May 2025 09:50:59 +0200 (CEST) Received: from mail-pl1-f227.google.com (mail-pl1-f227.google.com [209.85.214.227]) by mails.dpdk.org (Postfix) with ESMTP id B56F04025A for ; Wed, 7 May 2025 09:50:58 +0200 (CEST) Received: by mail-pl1-f227.google.com with SMTP id d9443c01a7336-22c33677183so77433285ad.2 for ; Wed, 07 May 2025 00:50:58 -0700 (PDT) DKIM-Signature: v=1; a=rsa-sha256; c=relaxed/relaxed; d=iol.unh.edu; s=unh-iol; t=1746604258; x=1747209058; darn=dpdk.org; h=references:in-reply-to:cc:to:from:subject:message-id:date:from:to :cc:subject:date:message-id:reply-to; bh=AQYb43QOZI0csIDu3/qHKraGuxc1K8AKFNhW3fbb064=; b=B1MlHB2xyf27kl2lvC8ZAbb1f841nhCFXSEF9YYP0JsJ1umbLwZakcVm9VuRHX0YA6 HbzDAjP1RIas3uKSYRfUC+Bab1vi46gznK5BFjh3JpOTrBTcv9J7Q6pD2mURYtjUs5pl /6vhU7qtAnooKPaP+XxRYyakC/iAKsvASFA1s= X-Google-DKIM-Signature: v=1; a=rsa-sha256; c=relaxed/relaxed; d=1e100.net; s=20230601; t=1746604258; x=1747209058; h=references:in-reply-to:cc:to:from:subject:message-id:date :x-gm-message-state:from:to:cc:subject:date:message-id:reply-to; bh=AQYb43QOZI0csIDu3/qHKraGuxc1K8AKFNhW3fbb064=; b=CdHac9Y/7zWyOzRef6sa0114oQoEF9clqSLGG7EVv6wmHbfJHm7z3uPDYnpo6+VhXp +m4VWS/WT/CMLEsdqZ0lWAYiBWYDzUuxO18HTpgckrAzTsfwwRGOdN7NA7ZVpUV4EoJK xgDY5gaqmCKEWw0HE4gODIs64WZvrhKgBOdwMx5DyhOX1fvKZJfVjrA+DoVOd2U8LPji LKbNwR9q4VNa+KYVZWdKoP6gJ1MYqnGdnpKSXqjhsZ+o1EqGgmskfIH7+3e3QGicvU4h xQh6QKPUurbEWRCDgXCvNdhCpcZJDJjWWirpMQT9lDSR7EGbLwJKYiepq5izxfuKjXkt q2Bw== X-Gm-Message-State: AOJu0YwnaHTdH49XDVT8Vf2UKaSp9B4U7YmSqONHAtzDXbXG9/aRXsNB /g1jo4QMVUu7j8fwSIIwjQbRe6OyYYcwf1PBzL3niLTUeHucCo0gVQEMU17cQiePj6aprytDS1y vHSOgt0mwd9nrGAooa7px6mAcf0Vj7oXeDJPXN1bnMLgiExNNWr7u0Y12 X-Gm-Gg: ASbGnctR3yKJ7lYm+461yyt8w/NoPmKQoRKlSGNDLpJ5a6n2bVHY+HgnIMxQ/Xh+gzr ykBXLIl7bpCwkeg5lMOoZekDUOjlP9kfkll05gr8Nfg6u6vNfOFhOgjp9B+DWY3PHi02ANfUyt8 Sl5XrPO5AW4aIgpncl9oBBKrETC5F/mBu7N5DvsjptgXJMUyBlCcRXV1vnRsHiQTdPQ0QyWaPn0 atSXy7fmgshxjdE6+irFnY4O8S4HcqcCA3cz7z4B62fYPY8vO3mR10qNfe0kNCKzt9VF9ycTrkm nx9bbZEjXQ10p3gTbLh+vM9Bchv3PRqb5TZL X-Google-Smtp-Source: AGHT+IFujvXcsTH8bzTecD6H8/ipootf0olqQrge6YrvJJLiCrN3xqM+JVjXlf2QhYaJakaqoh+Cv4tB+0YZ X-Received: by 2002:a17:902:e54c:b0:22d:e458:96a5 with SMTP id d9443c01a7336-22e5ecc5a8emr32939035ad.38.1746604257669; Wed, 07 May 2025 00:50:57 -0700 (PDT) Received: from postal.iol.unh.edu (postal.iol.unh.edu. [2606:4100:3880:1234::84]) by smtp-relay.gmail.com with ESMTPS id d9443c01a7336-22e152332e4sm18453035ad.104.2025.05.07.00.50.57 (version=TLS1_2 cipher=ECDHE-ECDSA-AES128-GCM-SHA256 bits=128/128); Wed, 07 May 2025 00:50:57 -0700 (PDT) X-Relaying-Domain: iol.unh.edu Date: Wed, 07 May 2025 00:50:57 -0700 (PDT) Message-ID: <681b10e1.170a0220.214062.939cSMTPIN_ADDED_MISSING@mx.google.com> Received: from [172.21.0.5] (unknown [172.18.0.240]) by postal.iol.unh.edu (Postfix) with ESMTP id D1EC06052471; Wed, 7 May 2025 03:50:56 -0400 (EDT) Subject: |SUCCESS| pw153323-153325 [PATCH] [v2,3/3] dts: add packet capture t From: dpdklab@iol.unh.edu To: Test Report Cc: dpdk-test-reports@iol.unh.edu In-Reply-To: <20250506132933.1580584-4-luca.vizzarro@arm.com> References: <20250506132933.1580584-4-luca.vizzarro@arm.com> Content-Type: text/plain X-BeenThere: test-report@dpdk.org X-Mailman-Version: 2.1.29 Precedence: list List-Id: automatic DPDK test reports List-Unsubscribe: , List-Archive: List-Post: List-Help: List-Subscribe: , Errors-To: test-report-bounces@dpdk.org Test-Label: iol-unit-arm64-testing Test-Status: SUCCESS http://dpdk.org/patch/153325 _Testing PASS_ Submitter: Luca Vizzarro Date: Tuesday, May 06 2025 13:29:33 DPDK git baseline: Repo:dpdk Branch: master CommitID:1aef42bc97a31906486c9d66b792208948af06f3 153323-153325 --> testing pass Upstream job id: Aarch32-Unit-Test#6160 Test environment and result as below: +-----------------------------+----------------+--------------+---------------------------+------------------------------+ | Environment | dpdk_unit_test | lpm_autotest | cryptodev_sw_zuc_autotest | cryptodev_sw_snow3g_autotest | +=============================+================+==============+===========================+==============================+ | CentOS Stream 9 (ARM) | PASS | SKIPPED | SKIPPED | SKIPPED | +-----------------------------+----------------+--------------+---------------------------+------------------------------+ | Debian 12 (arm) | PASS | SKIPPED | PASS | PASS | +-----------------------------+----------------+--------------+---------------------------+------------------------------+ | CentOS Stream 10 (ARM) | PASS | SKIPPED | SKIPPED | SKIPPED | +-----------------------------+----------------+--------------+---------------------------+------------------------------+ | Fedora 40 (ARM Clang) | PASS | SKIPPED | SKIPPED | SKIPPED | +-----------------------------+----------------+--------------+---------------------------+------------------------------+ | Fedora 40 (ARM) | PASS | SKIPPED | SKIPPED | SKIPPED | +-----------------------------+----------------+--------------+---------------------------+------------------------------+ | Fedora 41 (ARM) | PASS | SKIPPED | SKIPPED | SKIPPED | +-----------------------------+----------------+--------------+---------------------------+------------------------------+ | Fedora 41 (ARM Clang) | PASS | SKIPPED | SKIPPED | SKIPPED | +-----------------------------+----------------+--------------+---------------------------+------------------------------+ | Ubuntu 24.04 (ARM) | PASS | SKIPPED | SKIPPED | SKIPPED | +-----------------------------+----------------+--------------+---------------------------+------------------------------+ | Ubuntu 22.04 (ARM) | PASS | SKIPPED | SKIPPED | SKIPPED | +-----------------------------+----------------+--------------+---------------------------+------------------------------+ | RHEL9 (ARM) | PASS | SKIPPED | SKIPPED | SKIPPED | +-----------------------------+----------------+--------------+---------------------------+------------------------------+ | Ubuntu 20.04 (ARM) | PASS | SKIPPED | SKIPPED | SKIPPED | +-----------------------------+----------------+--------------+---------------------------+------------------------------+ | 32-bit Ubuntu 22.04.4 (ARM) | PASS | SKIPPED | SKIPPED | SKIPPED | +-----------------------------+----------------+--------------+---------------------------+------------------------------+ | Ubuntu 20.04 ARM SVE | SKIPPED | PASS | SKIPPED | SKIPPED | +-----------------------------+----------------+--------------+---------------------------+------------------------------+ CentOS Stream 9 (ARM) Kernel: Depends on container host Compiler: gcc 11.5.0 20240719 (Red Hat 11.5.0-2) Debian 12 (arm) Kernel: Depends on container host Compiler: gcc (Debian 12.2.0-14) 12.2.0 CentOS Stream 10 (ARM) Kernel: Depends on container host Compiler: gcc 14.2.1 20241104 (Red Hat 14.2.1-6) Fedora 40 (ARM Clang) Kernel: Depends on container host Compiler: clang 18.1.8 (Fedora 18.1.8-1.fc40) Fedora 40 (ARM) Kernel: Depends on container host Compiler: gcc 14.2.1 20240912 (Red Hat 14.2.1-3) Fedora 41 (ARM) Kernel: Depends on container host Compiler: gcc 14.2.1 20240912 (Red Hat 14.2.1-3) Fedora 41 (ARM Clang) Kernel: Depends on container host Compiler: clang 19.1.5 (Fedora 19.1.5-1.fc41) Ubuntu 24.04 (ARM) Kernel: Depends on container host Compiler: gcc (Ubuntu 13.3.0-6ubuntu2~24.04) 13.3.0 Ubuntu 22.04 (ARM) Kernel: Depends on container host Compiler: gcc (Ubuntu 11.4.0-1ubuntu1~22.04) 11.4.0 RHEL9 (ARM) Kernel: Depends on container host Compiler: gcc 11.5.0 20240719 (Red Hat 11.5.0-2) Ubuntu 20.04 (ARM) Kernel: Depends on container host Compiler: gcc (Ubuntu 9.4.0-1ubuntu1~20.04.2) 9.4.0 32-bit Ubuntu 22.04.4 (ARM) Kernel: 5.15.83+ aarch64 Compiler: gcc (Ubuntu 11.4.0-1ubuntu1~22.04) 11.4.0 Ubuntu 20.04 ARM SVE Kernel: Depends on container host Compiler: gcc (Ubuntu 10.5.0-1ubuntu1~20.04) 10.5.0 To view detailed results, visit: https://lab.dpdk.org/results/dashboard/patchsets/33123/ UNH-IOL DPDK Community Lab To manage your email subscriptions, visit: https://lab.dpdk.org/results/dashboard/preferences/subscriptions/