From mboxrd@z Thu Jan 1 00:00:00 1970 Return-Path: Received: from mails.dpdk.org (mails.dpdk.org [217.70.189.124]) by inbox.dpdk.org (Postfix) with ESMTP id CD9B0466E8 for ; Wed, 7 May 2025 10:39:13 +0200 (CEST) Received: from mails.dpdk.org (localhost [127.0.0.1]) by mails.dpdk.org (Postfix) with ESMTP id A550D4025D; Wed, 7 May 2025 10:39:13 +0200 (CEST) Received: from mail-pf1-f225.google.com (mail-pf1-f225.google.com [209.85.210.225]) by mails.dpdk.org (Postfix) with ESMTP id 7A7C74025A for ; Wed, 7 May 2025 10:39:11 +0200 (CEST) Received: by mail-pf1-f225.google.com with SMTP id d2e1a72fcca58-72d3b48d2ffso7147561b3a.2 for ; Wed, 07 May 2025 01:39:11 -0700 (PDT) DKIM-Signature: v=1; a=rsa-sha256; c=relaxed/relaxed; d=iol.unh.edu; s=unh-iol; t=1746607150; x=1747211950; darn=dpdk.org; h=references:in-reply-to:cc:to:from:subject:message-id:date:from:to :cc:subject:date:message-id:reply-to; bh=2MlqgtyPqNCF+jIi+677+3pS6EuthhXkpUPPj/GAN/Q=; b=DdmfBdXPPA2QPhywXZLYJHdnAf81/mhFZX1LdwZ8H/l5fq5TLokBcDzn4AzYf3QV7T U457VAyiHQnjLML+0VJnamGXpDEybjnBXvV/yrmgUKDVkgRAJLUk/laGHgw4Rwwi8lmE 9A2FBwAAntvs3wjTxtK//6QT7bYxa+oiNGwrc= X-Google-DKIM-Signature: v=1; a=rsa-sha256; c=relaxed/relaxed; d=1e100.net; s=20230601; t=1746607150; x=1747211950; h=references:in-reply-to:cc:to:from:subject:message-id:date :x-gm-message-state:from:to:cc:subject:date:message-id:reply-to; bh=2MlqgtyPqNCF+jIi+677+3pS6EuthhXkpUPPj/GAN/Q=; b=qtlxSLw84cgCu3XyX/AoBAi/E2DiYLp4T6GKBSqwHb3OqwTBA5BkdU+Nj0HDIwJq4a TJIro7Jn2ILGdjP7gHEnvF/J/FUCeHg8xILqbFHcHZhlSXE4zXom0GEUb7EX1JrzErbL rA0wacxVElLpa2v2kPnLB/RJbYka6AgAg3mzsINgCbRAETy/SzjfeAectUB9mlgoy4a5 ofm/PccGn5YU/Q6vtt4KR4dGDPMbjC/IlAg8diq0L2VJaNXjmJDm/DOrk1yIgY92G+GS 1x2knY11hposLB+AJNZyQRlyR+ZmBtany8VBWXNAYcGN8rMGxecKOejwX/h870MOj2/s EnxA== X-Gm-Message-State: AOJu0YzVy/cFImanZCDSBySbhiQ4P1gXiPKCrljIpX7H7EyjIuiDCoYi chwre3DYszC0151GB2c6f3lib4DQXHFc6DuF+QFDmcZzq7W+A/zpDnKfJSzIzOxQzZkyFXPMmus 8N5GZf339zeJo/8bZqA6nJJb37AWtqc07z7kHsDhU X-Gm-Gg: ASbGncudO72xWJyIkMFuiKzJl2r2xiWfYZ6zwHijwuvNdfXRZvom2k6m7Lu/MhtaJfx ErQLyQrqNG4lTruWNpUe6MIfIH5pqP30YgFcqFGTC4a6WEtd5gvlUWbOFsnZtZn9beLI4sc9p6j iJ7hrSuv2fm8Lxz5WPYKE0CEJjLNFK+Wv1Vimk4r2Lkfj8AkYUOszx8B3PtCrEwpT/mUu9dIlU8 +NAGYyo4egYtxAQd0nqM6Vb1BObm6I5XQ4psjW93j5cEwhGfvXEm/ygu0YaqeAUo5Hj/9Q+x8my eAF08Wr8l2gP7BRKR0WkAvcomt34bF5ZCxFdOK5WO3VYptF8cUrHBB55uT8= X-Google-Smtp-Source: AGHT+IFBKr28PIFheCg2VfWS5c8bBRloaI3QUovBza03Dt1FssMH/g/96PYiettYTQYjqo/EbPJYub0KluBq X-Received: by 2002:a05:6a00:2908:b0:72d:3b2e:fef9 with SMTP id d2e1a72fcca58-7409d00d6fbmr3875754b3a.20.1746607150521; Wed, 07 May 2025 01:39:10 -0700 (PDT) Received: from postal.iol.unh.edu (postal.iol.unh.edu. [132.177.123.84]) by smtp-relay.gmail.com with ESMTPS id 41be03b00d2f7-b1fb3a39463sm1222670a12.6.2025.05.07.01.39.10 (version=TLS1_2 cipher=ECDHE-ECDSA-AES128-GCM-SHA256 bits=128/128); Wed, 07 May 2025 01:39:10 -0700 (PDT) X-Relaying-Domain: iol.unh.edu Date: Wed, 07 May 2025 01:39:10 -0700 (PDT) Message-ID: <681b1c2e.050a0220.12c76.d85dSMTPIN_ADDED_MISSING@mx.google.com> Received: from [172.21.0.5] (unknown [172.18.0.240]) by postal.iol.unh.edu (Postfix) with ESMTP id E50536052471; Wed, 7 May 2025 04:39:09 -0400 (EDT) Subject: |SUCCESS| pw153323-153325 [PATCH] [v2,3/3] dts: add packet capture t From: dpdklab@iol.unh.edu To: Test Report Cc: dpdk-test-reports@iol.unh.edu In-Reply-To: <20250506132933.1580584-4-luca.vizzarro@arm.com> References: <20250506132933.1580584-4-luca.vizzarro@arm.com> Content-Type: text/plain X-BeenThere: test-report@dpdk.org X-Mailman-Version: 2.1.29 Precedence: list List-Id: automatic DPDK test reports List-Unsubscribe: , List-Archive: List-Post: List-Help: List-Subscribe: , Errors-To: test-report-bounces@dpdk.org Test-Label: iol-compile-arm64-testing Test-Status: SUCCESS http://dpdk.org/patch/153325 _Testing PASS_ Submitter: Luca Vizzarro Date: Tuesday, May 06 2025 13:29:33 DPDK git baseline: Repo:dpdk Branch: master CommitID:1aef42bc97a31906486c9d66b792208948af06f3 153323-153325 --> testing pass Upstream job id: Generic-DPDK-Compile-Meson#385903 Test environment and result as below: +----------------------------------------+--------------------+ | Environment | dpdk_meson_compile | +========================================+====================+ | RHEL9 (ARM) | PASS | +----------------------------------------+--------------------+ | Fedora 40 (ARM) | PASS | +----------------------------------------+--------------------+ | Debian 12 with MUSDK | PASS | +----------------------------------------+--------------------+ | Ubuntu 20.04 ARM GCC Cross Compile | PASS | +----------------------------------------+--------------------+ | Fedora 40 (ARM Clang) | PASS | +----------------------------------------+--------------------+ | Ubuntu 20.04 (ARM) | PASS | +----------------------------------------+--------------------+ | Fedora 41 (ARM) | PASS | +----------------------------------------+--------------------+ | Fedora 41 (ARM Clang) | PASS | +----------------------------------------+--------------------+ | CentOS Stream 9 (ARM) | PASS | +----------------------------------------+--------------------+ | Ubuntu 24.04 (ARM) | PASS | +----------------------------------------+--------------------+ | Ubuntu 22.04 (ARM) | PASS | +----------------------------------------+--------------------+ | CentOS Stream 10 (ARM) | PASS | +----------------------------------------+--------------------+ | Ubuntu 20.04 aarch32 GCC Cross Compile | PASS | +----------------------------------------+--------------------+ RHEL9 (ARM) Kernel: Depends on container host Compiler: gcc 11.5.0 20240719 (Red Hat 11.5.0-2) Fedora 40 (ARM) Kernel: Depends on container host Compiler: gcc 14.2.1 20240912 (Red Hat 14.2.1-3) Debian 12 with MUSDK Kernel: Depends on container host Compiler: gcc (Debian 12.2.0-14) 12.2.0 Ubuntu 20.04 ARM GCC Cross Compile Kernel: Depends on container host Compiler: aarch64-linux-gnu-gcc (Ubuntu 9.4.0-1ubuntu1~20.04.2) 9.4.0 Fedora 40 (ARM Clang) Kernel: Depends on container host Compiler: clang 18.1.8 (Fedora 18.1.8-1.fc40) Ubuntu 20.04 (ARM) Kernel: Depends on container host Compiler: gcc (Ubuntu 9.4.0-1ubuntu1~20.04.2) 9.4.0 Fedora 41 (ARM) Kernel: Depends on container host Compiler: gcc 14.2.1 20240912 (Red Hat 14.2.1-3) Fedora 41 (ARM Clang) Kernel: Depends on container host Compiler: clang 19.1.5 (Fedora 19.1.5-1.fc41) CentOS Stream 9 (ARM) Kernel: Depends on container host Compiler: gcc 11.5.0 20240719 (Red Hat 11.5.0-2) Ubuntu 24.04 (ARM) Kernel: Depends on container host Compiler: gcc (Ubuntu 13.3.0-6ubuntu2~24.04) 13.3.0 Ubuntu 22.04 (ARM) Kernel: Depends on container host Compiler: gcc (Ubuntu 11.4.0-1ubuntu1~22.04) 11.4.0 CentOS Stream 10 (ARM) Kernel: Depends on container host Compiler: gcc 14.2.1 20241104 (Red Hat 14.2.1-6) Ubuntu 20.04 aarch32 GCC Cross Compile Kernel: Depends on container host Compiler: gcc 9.4.0 To view detailed results, visit: https://lab.dpdk.org/results/dashboard/patchsets/33123/ UNH-IOL DPDK Community Lab To manage your email subscriptions, visit: https://lab.dpdk.org/results/dashboard/preferences/subscriptions/