From mboxrd@z Thu Jan 1 00:00:00 1970 Return-Path: Received: from mails.dpdk.org (mails.dpdk.org [217.70.189.124]) by inbox.dpdk.org (Postfix) with ESMTP id 46929466E8 for ; Wed, 7 May 2025 11:08:00 +0200 (CEST) Received: from mails.dpdk.org (localhost [127.0.0.1]) by mails.dpdk.org (Postfix) with ESMTP id 4104D4025D; Wed, 7 May 2025 11:08:00 +0200 (CEST) Received: from mail-io1-f100.google.com (mail-io1-f100.google.com [209.85.166.100]) by mails.dpdk.org (Postfix) with ESMTP id BC8F64025A for ; Wed, 7 May 2025 11:07:58 +0200 (CEST) Received: by mail-io1-f100.google.com with SMTP id ca18e2360f4ac-85e73562577so667352039f.0 for ; Wed, 07 May 2025 02:07:58 -0700 (PDT) DKIM-Signature: v=1; a=rsa-sha256; c=relaxed/relaxed; d=iol.unh.edu; s=unh-iol; t=1746608878; x=1747213678; darn=dpdk.org; h=cc:to:from:subject:message-id:date:from:to:cc:subject:date :message-id:reply-to; bh=147umKkLi5XUh/dSU2EWEFkfUIFdJjtN2Qt9JO8km7w=; b=OoExsrFuQylQ0NYviI+KIEMMw8jmlaig9AcpxolCUr93QWR1SsSdxwd7YenapP1gf5 1r/DhbnnDddGqKP7EoMJx+bzFxALrBnwKOVEzgM6HJQR6sZ4ufZyv8RdWb9fIis79cHz URyYOohfvojqQb5livdvifZHurSj19zrkWpMo= X-Google-DKIM-Signature: v=1; a=rsa-sha256; c=relaxed/relaxed; d=1e100.net; s=20230601; t=1746608878; x=1747213678; h=cc:to:from:subject:message-id:date:x-gm-message-state:from:to:cc :subject:date:message-id:reply-to; bh=147umKkLi5XUh/dSU2EWEFkfUIFdJjtN2Qt9JO8km7w=; b=Ef8a4VSpIYvg+g5fQcGqM9xj79EMJ01eXexhtTlA3e1Lb6TF6wMV1Y7rh1yFi4lt8I TSGv1E0TYYyhWmdHdJNBNElwzRHvaj5nyg04DiVA/Sq8jG01QNxRDXYh6WOSrYDiFRP2 O8Uficf2187Ur3MM9VS1KemZdX2OOfxqRf6ClNOInkTDnjWMf5CO4Z9/gfT2aYgL7wgK aXkeU4idBEEvYswB2mkIlP1taV8z3WUH6g7/WttVXn0tLy0kDoUBRCAIy01Mr4BJZq39 mI6KJDecRY7ceqGIJdrUxBxa7OxoYzn4B333c55Lf9h1RvInWf1VR4fR7KGqww2TtzSk Xexg== X-Gm-Message-State: AOJu0Yxr7V4aIWxl/dR+MtGZ+pDrxHxaDK5akAWS4DEmWpcZiCTtEECJ OLxahTLftmhn1bIWDEbjinbImspt9Wjpswj+tDVMStmD3rqlH5mWQV8gOlH8p8uTu+a1xKP7/41 yoDlbDlWajTQ8yB8ysEFYWhn8thE/06ITvjut4XgHk/aCARkk X-Gm-Gg: ASbGnctUjcSI+QbOdrlVaV5NlbrNF0WVabNqEu3+MbmysCfuxjlaLAh8Q7manx4mDgX pNSrN4U99D4qWJS3i74OqO5Y6CkG6u0SvSuLIl5XJlA3eBZQOq9hwwKaWQz6BqZihuF2nznLrsA Ut2aaIeq0T91UJne5a51OF20opw1xxvS6hUIBEu2nlMTcHRosuIOx+TF+3nSk4jhzyjZcon+U8T /6uzFCnaylJ0j0HqqCSJV0DgMQS2tF4J+aWB/fagPZuevxGz2jCKfUSuMWRMTPwWwQFq7QQ1/6g 7zhcP3Q+AaUZsDEMRSlLWzDYgs9Q0AJsoZ/x X-Google-Smtp-Source: AGHT+IH4G5kqRaj2L3DJRO/uTwVOPZVFereB3J+Mtw08ycBIstFEHK6e+Ph7bBhF59cX88rNlxQ/x7X+V/Do X-Received: by 2002:a6b:7e41:0:b0:867:47b2:e462 with SMTP id ca18e2360f4ac-86747b2e5b6mr247089039f.0.1746608878087; Wed, 07 May 2025 02:07:58 -0700 (PDT) Received: from postal.iol.unh.edu (postal.iol.unh.edu. [2606:4100:3880:1234::84]) by smtp-relay.gmail.com with ESMTPS id ca18e2360f4ac-864aa2c681bsm223943639f.3.2025.05.07.02.07.58 (version=TLS1_2 cipher=ECDHE-ECDSA-AES128-GCM-SHA256 bits=128/128); Wed, 07 May 2025 02:07:58 -0700 (PDT) X-Relaying-Domain: iol.unh.edu Date: Wed, 07 May 2025 02:07:58 -0700 (PDT) Message-ID: <681b22ee.050a0220.ff06c.ec3aSMTPIN_ADDED_MISSING@mx.google.com> Received: from [172.21.0.6] (unknown [172.18.0.240]) by postal.iol.unh.edu (Postfix) with ESMTP id 5E2906052471; Wed, 7 May 2025 05:07:57 -0400 (EDT) Subject: |SUCCESS| [GIT MASTER] 4c5634de9f933555bab9c64a533d3dca999071cd From: dpdklab@iol.unh.edu To: Test Report Cc: dpdk-test-reports@iol.unh.edu, Xueming Li , Christian Ehrhardt , Kevin Traynor , Luca Boccassi Content-Type: text/plain X-BeenThere: test-report@dpdk.org X-Mailman-Version: 2.1.29 Precedence: list List-Id: automatic DPDK test reports List-Unsubscribe: , List-Archive: List-Post: List-Help: List-Subscribe: , Errors-To: test-report-bounces@dpdk.org _Testing PASS_ Branch: tags/v24.11 4c5634de9f933555bab9c64a533d3dca999071cd --> testing pass Upstream job id: Generic-DPDK-Compile-ABI#125584 Test environment and result as below: +-------------------+----------+ | Environment | abi_test | +===================+==========+ | CentOS Stream 10 | PASS | +-------------------+----------+ | Fedora 40 (Clang) | PASS | +-------------------+----------+ | CentOS Stream 9 | PASS | +-------------------+----------+ | Debian 12 | PASS | +-------------------+----------+ | Fedora 41 (Clang) | PASS | +-------------------+----------+ | openSUSE Leap 15 | PASS | +-------------------+----------+ | Ubuntu 24.04 | PASS | +-------------------+----------+ | Fedora 41 | PASS | +-------------------+----------+ | RHEL9 | PASS | +-------------------+----------+ | Ubuntu 22.04 | PASS | +-------------------+----------+ | Fedora 40 | PASS | +-------------------+----------+ | RHEL8 | PASS | +-------------------+----------+ CentOS Stream 10 Kernel: Depends on container host Compiler: gcc 14.2.1 20241104 (Red Hat 14.2.1-6) Fedora 40 (Clang) Kernel: Depends on container host Compiler: clang 18.1.8 (Fedora 18.1.8-1.fc40) CentOS Stream 9 Kernel: Depends on container host Compiler: gcc 11.5.0 20240719 (Red Hat 11.5.0-2) Debian 12 Kernel: Depends on container host Compiler: gcc (Debian 12.2.0-14) 12.2.0 Fedora 41 (Clang) Kernel: Depends on container host Compiler: clang 19.1.5 (Fedora 19.1.5-1.fc41) openSUSE Leap 15 Kernel: Depends on container host Compiler: gcc (SUSE Linux) 7.5.0 Ubuntu 24.04 Kernel: Depends on container host Compiler: gcc (Ubuntu 13.3.0-6ubuntu2~24.04) 13.3.0 Fedora 41 Kernel: Depends on container host Compiler: gcc 14.2.1 20240912 (Red Hat 14.2.1-3) RHEL9 Kernel: Depends on container host Compiler: gcc 11.5.0 20240719 (Red Hat 11.5.0-2) Ubuntu 22.04 Kernel: Depends on container host Compiler: gcc (Ubuntu 11.4.0-1ubuntu1~22.04) 11.4.0 Fedora 40 Kernel: Depends on container host Compiler: gcc 14.2.1 20240912 (Red Hat 14.2.1-3) RHEL8 Kernel: Depends on container host Compiler: gcc 8.5.0 20210514 (Red Hat 8.5.0-22) To view detailed results, visit: https://lab.dpdk.org/results/dashboard/tarballs/33461/ UNH-IOL DPDK Community Lab To manage your email subscriptions, visit: https://lab.dpdk.org/results/dashboard/preferences/subscriptions/