From mboxrd@z Thu Jan 1 00:00:00 1970 Return-Path: Received: from mails.dpdk.org (mails.dpdk.org [217.70.189.124]) by inbox.dpdk.org (Postfix) with ESMTP id 5B5E3466E8 for ; Wed, 7 May 2025 11:08:19 +0200 (CEST) Received: from mails.dpdk.org (localhost [127.0.0.1]) by mails.dpdk.org (Postfix) with ESMTP id 569554025D; Wed, 7 May 2025 11:08:19 +0200 (CEST) Received: from mail-pg1-f228.google.com (mail-pg1-f228.google.com [209.85.215.228]) by mails.dpdk.org (Postfix) with ESMTP id 8C13E4025A for ; Wed, 7 May 2025 11:08:18 +0200 (CEST) Received: by mail-pg1-f228.google.com with SMTP id 41be03b00d2f7-b03bc416962so4647629a12.0 for ; Wed, 07 May 2025 02:08:18 -0700 (PDT) DKIM-Signature: v=1; a=rsa-sha256; c=relaxed/relaxed; d=iol.unh.edu; s=unh-iol; t=1746608897; x=1747213697; darn=dpdk.org; h=references:in-reply-to:cc:to:from:subject:message-id:date:from:to :cc:subject:date:message-id:reply-to; bh=1RemBAvjmG517f3s6/+w/nQ2sXYiagiCGWed84/2k64=; b=G5cJ1TDqIU5U0W+f6qOoworY3DYx90rZH/AWVycEG3hs1Vo5Y30w21vJBMhl/VwOxC TyjlM3oF6OkJaPjg+YppbQaIgrrUjMbTUfkPyRdd7pCzlK5y+jJTD2N1zoNGj5b24Map pIcBhJXMErbILYjefuqPfBt/EdhyaUmP4Nfh8= X-Google-DKIM-Signature: v=1; a=rsa-sha256; c=relaxed/relaxed; d=1e100.net; s=20230601; t=1746608897; x=1747213697; h=references:in-reply-to:cc:to:from:subject:message-id:date :x-gm-message-state:from:to:cc:subject:date:message-id:reply-to; bh=1RemBAvjmG517f3s6/+w/nQ2sXYiagiCGWed84/2k64=; b=IRV4WFDYRelRP0c1knlvgR1IQmWkQJaVjX+idL9hk6EoT71D1Ie7P8/e/pQnvT+uBi dZUS70A16on5lgFktRSts8Fqv06wjt3WrSJIOV7VKcZtmEvE1VPzZu4gCI8/HwMrPDND 6vG+bEabIWpSEQelhw5L6aKiKwSDYKXO53+ZeJTfXJMoWrMxrhWOYaT9Sv2j9ySjFrns 6BmC8wr0kfTD3SL/gKXfEHrRtdmnMMLfFdwszpShNojjsXwOC8YdMxA3Yzv7DqW11cTE Jw6/jloFIxT1iQ/TkH0X/ltSElri0EQttgz5sLA0q1YCXj4S18An+DoQguYxq9J0At0n ICQA== X-Gm-Message-State: AOJu0Yx76SThd9peMbhdQSEOI/vlJ4glcqbVM/s4QdPtNJbxURLGzbql vhCsD2dz7RIMdtGH0EADrktjwymDv8fCRjtWnTdnTKBFhDkpJHBwjrFHxu7Q5NeSHpfAoK7etXo SQmmZbm85lHSQ0d9yzRuaeIDNP/LJaC58xdU5qsIy2h5mbJTOaqCfApKw X-Gm-Gg: ASbGncvU1LsOptNIQActgife5dlNuLzX028+pBfdLGNKoNTOFZ0DkZ/LLXuaLrxFco1 J9dLBqbRU8iy7AE9eokPqYa/A1qCnPPp9R6L4ioVJWnvJP6XJkB/azzkV+IP9CjVOib0jr1HzjA YabYRFjhuqeP+OMTMLAicve1FYLbE3cQtxOTyiyr4qFfVhf48NVQlQRbJwRCuWGmPWBv0sjJZXD IWmFGd9xNYi5/cQqubQFCqkxkWO8+wmDohRe3mx3oert1rpu0K3dxYeh3PnSjGspJ5UlgCHeCKX dJNto43D+VrOAVePiI5DhXMbDwtNf6uGG+Qw X-Google-Smtp-Source: AGHT+IF5xbByk0McwOOJteMiun0FTXBWLQIJcTajhOg5HeB++cosMCx3Z0F0LU/kHG3j+kfGUSxF0W4GE5eu X-Received: by 2002:a17:90b:38c5:b0:2fe:a336:fe63 with SMTP id 98e67ed59e1d1-30aac29d32fmr4061731a91.24.1746608897493; Wed, 07 May 2025 02:08:17 -0700 (PDT) Received: from postal.iol.unh.edu (postal.iol.unh.edu. [2606:4100:3880:1234::84]) by smtp-relay.gmail.com with ESMTPS id 98e67ed59e1d1-30aae52de8bsm72399a91.6.2025.05.07.02.08.17 (version=TLS1_2 cipher=ECDHE-ECDSA-AES128-GCM-SHA256 bits=128/128); Wed, 07 May 2025 02:08:17 -0700 (PDT) X-Relaying-Domain: iol.unh.edu Date: Wed, 07 May 2025 02:08:17 -0700 (PDT) Message-ID: <681b2301.170a0220.352023.3eadSMTPIN_ADDED_MISSING@mx.google.com> Received: from [172.21.0.5] (unknown [172.18.0.240]) by postal.iol.unh.edu (Postfix) with ESMTP id F03766052471; Wed, 7 May 2025 05:08:16 -0400 (EDT) Subject: |SUCCESS| pw153327 [PATCH] net/mlx5: fix error notification for larg From: dpdklab@iol.unh.edu To: Test Report Cc: dpdk-test-reports@iol.unh.edu In-Reply-To: <20250506133206.379993-1-getelson@nvidia.com> References: <20250506133206.379993-1-getelson@nvidia.com> Content-Type: text/plain X-BeenThere: test-report@dpdk.org X-Mailman-Version: 2.1.29 Precedence: list List-Id: automatic DPDK test reports List-Unsubscribe: , List-Archive: List-Post: List-Help: List-Subscribe: , Errors-To: test-report-bounces@dpdk.org Test-Label: iol-unit-amd64-testing Test-Status: SUCCESS http://dpdk.org/patch/153327 _Testing PASS_ Submitter: Gregory Etelson Date: Tuesday, May 06 2025 13:31:51 DPDK git baseline: Repo:dpdk Branch: master CommitID:edd3f4b1265e6da707c46ca9b6c39d332647baea 153327 --> testing pass Upstream job id: Generic-VM-Unit-Test-DPDK#28369 Test environment and result as below: +---------------------+----------------+ | Environment | dpdk_unit_test | +=====================+================+ | CentOS Stream 9 | PASS | +---------------------+----------------+ | CentOS Stream 10 | PASS | +---------------------+----------------+ | Fedora 41 | PASS | +---------------------+----------------+ | RHEL8 | PASS | +---------------------+----------------+ | Debian 12 | PASS | +---------------------+----------------+ | Fedora 40 | PASS | +---------------------+----------------+ | RHEL9 | PASS | +---------------------+----------------+ | Fedora 40 (Clang) | PASS | +---------------------+----------------+ | Fedora 41 (Clang) | PASS | +---------------------+----------------+ | Ubuntu 22.04 | PASS | +---------------------+----------------+ | Ubuntu 20.04 | PASS | +---------------------+----------------+ | Ubuntu 24.04 | PASS | +---------------------+----------------+ | Windows Server 2022 | PASS | +---------------------+----------------+ CentOS Stream 9 Kernel: Depends on container host Compiler: gcc 11.5.0 20240719 (Red Hat 11.5.0-2) CentOS Stream 10 Kernel: Depends on container host Compiler: gcc 14.2.1 20241104 (Red Hat 14.2.1-6) Fedora 41 Kernel: Depends on container host Compiler: gcc 14.2.1 20240912 (Red Hat 14.2.1-3) RHEL8 Kernel: Depends on container host Compiler: gcc 8.5.0 20210514 (Red Hat 8.5.0-22) Debian 12 Kernel: Depends on container host Compiler: gcc (Debian 12.2.0-14) 12.2.0 Fedora 40 Kernel: Depends on container host Compiler: gcc 14.2.1 20240912 (Red Hat 14.2.1-3) RHEL9 Kernel: Depends on container host Compiler: gcc 11.5.0 20240719 (Red Hat 11.5.0-2) Fedora 40 (Clang) Kernel: Depends on container host Compiler: clang 18.1.8 (Fedora 18.1.8-1.fc40) Fedora 41 (Clang) Kernel: Depends on container host Compiler: clang 19.1.5 (Fedora 19.1.5-1.fc41) Ubuntu 22.04 Kernel: Depends on container host Compiler: gcc (Ubuntu 11.4.0-1ubuntu1~22.04) 11.4.0 Ubuntu 20.04 Kernel: Depends on container host Compiler: gcc (Ubuntu 9.4.0-1ubuntu1~20.04.2) 9.4.0 Ubuntu 24.04 Kernel: Depends on container host Compiler: gcc (Ubuntu 13.3.0-6ubuntu2~24.04) 13.3.0 Windows Server 2022 Kernel: 10.0.20348.2031 Compiler: clang 15.0.7, gcc 14.1.0 (MinGW), and MSVC VS 19.39.33521 To view detailed results, visit: https://lab.dpdk.org/results/dashboard/patchsets/33125/ UNH-IOL DPDK Community Lab To manage your email subscriptions, visit: https://lab.dpdk.org/results/dashboard/preferences/subscriptions/