From mboxrd@z Thu Jan 1 00:00:00 1970 Return-Path: Received: from mails.dpdk.org (mails.dpdk.org [217.70.189.124]) by inbox.dpdk.org (Postfix) with ESMTP id EA8A2466E8 for ; Wed, 7 May 2025 11:58:37 +0200 (CEST) Received: from mails.dpdk.org (localhost [127.0.0.1]) by mails.dpdk.org (Postfix) with ESMTP id E6C244025D; Wed, 7 May 2025 11:58:37 +0200 (CEST) Received: from mail-oa1-f100.google.com (mail-oa1-f100.google.com [209.85.160.100]) by mails.dpdk.org (Postfix) with ESMTP id 73B8F4025A for ; Wed, 7 May 2025 11:58:37 +0200 (CEST) Received: by mail-oa1-f100.google.com with SMTP id 586e51a60fabf-2c2c754af3cso5436038fac.3 for ; Wed, 07 May 2025 02:58:37 -0700 (PDT) DKIM-Signature: v=1; a=rsa-sha256; c=relaxed/relaxed; d=iol.unh.edu; s=unh-iol; t=1746611917; x=1747216717; darn=dpdk.org; h=references:in-reply-to:cc:to:from:subject:message-id:date:from:to :cc:subject:date:message-id:reply-to; bh=UAe+35cFsHIXSjlsqRZZdsiyuJogR60nJwSah3jwVs4=; b=hnogcBOE53AgFFLQSkXu8rvBaw/3Fp5qmY+yANzwy/1f5enzOCNA8qoLvFOxf0tAsZ xja2W0ysUpq3vqt2ixiGDr7xgVPFpr2uuKTUFOxGHmrwfyskaglOnMeJ9tnPk9YR+pXx Cc+BVjd3cEfqC2CarHAYyCfooKDex77n7IJZE= X-Google-DKIM-Signature: v=1; a=rsa-sha256; c=relaxed/relaxed; d=1e100.net; s=20230601; t=1746611917; x=1747216717; h=references:in-reply-to:cc:to:from:subject:message-id:date :x-gm-message-state:from:to:cc:subject:date:message-id:reply-to; bh=UAe+35cFsHIXSjlsqRZZdsiyuJogR60nJwSah3jwVs4=; b=FCKOs3lGcSbwJ7KknEfF0k+WhRM23UFwL141RhzuP7CHDTXHmK3HrLzqxgRqYaIm2w x/j5Y1oFbsRtlpeyq7BCnnnCE21F4s4mdybzpjZ3Pm90kvmZ0LA0Qki3priM7a/vihe+ 5O6ZAqdqlYvHzGD4LUgNSzPw08qjrqmsQGfcTuCW+XkxgnZs2O6FNofARgjNQygjIe5m ahd5h4e6fmapVjsEIlK7Dn0elDZGqxp/fSKVdVOA4Tfms7LmJv+VBPiPOaZXSXbobtZ2 jxW6s5XmwhXry7Nt9K7f/2IyGggzF77nk8NMojB0PJK8DCwD9UKmpqlkVPeXFdd7tDHq WzNg== X-Gm-Message-State: AOJu0YzHxvRItL6p3ReCeJyos+EVr3VR4YTIh8v4PhW4Z6W+l7/JLPRF 6GdGbcq7Yeb6ZMl3+uauxN7Kjo7ec85vkXYffnS6kNOqhTAcXYACG72wyW3KQ4M+k7W3a3QLZvF g3cKLn9oKO0D1nwE1gj5V9kOU8ym6YDbkJhoIgXsTgM0ZegaIYePCgVdZ X-Gm-Gg: ASbGncskZxeDN6kjWZ3Qqi7c+hsjTBVFGam71q7V9x11dX/YlKrsnLG7hjhF2afcLHU zHDkrW3ymfksU1e1XKs37RyTvIHlndtuc540tmhsJArnARNHtJWf99vzBCt5ZNQaEb8esV/U33I pJDXY14X13oC3DCLnC/p3Lg67kieKfcD30Rn09//NH1nc2MVTnimn1JcinAcFuUB6xYKPtIMmQy SKerQyjeuWubFoJT2MRiqocE50vixurLyqor0av51R/3lThN07JPwM1mGcM3KJ78UcvpMa0rie6 oc6LnCTaiNDDZ1KPjS1L9bDYwd3Kk6HW4REU X-Google-Smtp-Source: AGHT+IEl5hr4ow/+ZPSMUo6KTFefP+6awEpbm6f1/0xkqsaAqZnmu3m8O0sjNFAYfLv/6xIIY9BA/Kc2zZhk X-Received: by 2002:a05:6870:d88b:b0:2c2:5be4:c01e with SMTP id 586e51a60fabf-2db5bd9f9c1mr1511735fac.1.1746611916718; Wed, 07 May 2025 02:58:36 -0700 (PDT) Received: from postal.iol.unh.edu (postal.iol.unh.edu. [2606:4100:3880:1234::84]) by smtp-relay.gmail.com with ESMTPS id 586e51a60fabf-2db5d044908sm76649fac.29.2025.05.07.02.58.36 (version=TLS1_2 cipher=ECDHE-ECDSA-AES128-GCM-SHA256 bits=128/128); Wed, 07 May 2025 02:58:36 -0700 (PDT) X-Relaying-Domain: iol.unh.edu Date: Wed, 07 May 2025 02:58:36 -0700 (PDT) Message-ID: <681b2ecc.050a0220.30cd5.4287SMTPIN_ADDED_MISSING@mx.google.com> Received: from [172.21.0.5] (unknown [172.18.0.240]) by postal.iol.unh.edu (Postfix) with ESMTP id 34ADF6052471; Wed, 7 May 2025 05:58:36 -0400 (EDT) Subject: |SUCCESS| pw153323-153325 [PATCH] [v2,3/3] dts: add packet capture t From: dpdklab@iol.unh.edu To: Test Report Cc: dpdk-test-reports@iol.unh.edu In-Reply-To: <20250506132933.1580584-4-luca.vizzarro@arm.com> References: <20250506132933.1580584-4-luca.vizzarro@arm.com> Content-Type: text/plain X-BeenThere: test-report@dpdk.org X-Mailman-Version: 2.1.29 Precedence: list List-Id: automatic DPDK test reports List-Unsubscribe: , List-Archive: List-Post: List-Help: List-Subscribe: , Errors-To: test-report-bounces@dpdk.org Test-Label: iol-compile-arm64-testing Test-Status: SUCCESS http://dpdk.org/patch/153325 _Testing PASS_ Submitter: Luca Vizzarro Date: Tuesday, May 06 2025 13:29:33 DPDK git baseline: Repo:dpdk Branch: master CommitID:1aef42bc97a31906486c9d66b792208948af06f3 153323-153325 --> testing pass Upstream job id: Generic-DPDK-Compile-Meson#385910 Test environment and result as below: +----------------------------------------+--------------------+ | Environment | dpdk_meson_compile | +========================================+====================+ | RHEL9 (ARM) | PASS | +----------------------------------------+--------------------+ | Fedora 40 (ARM) | PASS | +----------------------------------------+--------------------+ | Debian 12 with MUSDK | PASS | +----------------------------------------+--------------------+ | Ubuntu 20.04 ARM GCC Cross Compile | PASS | +----------------------------------------+--------------------+ | Fedora 40 (ARM Clang) | PASS | +----------------------------------------+--------------------+ | Ubuntu 20.04 (ARM) | PASS | +----------------------------------------+--------------------+ | Fedora 41 (ARM) | PASS | +----------------------------------------+--------------------+ | Fedora 41 (ARM Clang) | PASS | +----------------------------------------+--------------------+ | CentOS Stream 9 (ARM) | PASS | +----------------------------------------+--------------------+ | Ubuntu 24.04 (ARM) | PASS | +----------------------------------------+--------------------+ | Ubuntu 22.04 (ARM) | PASS | +----------------------------------------+--------------------+ | CentOS Stream 10 (ARM) | PASS | +----------------------------------------+--------------------+ | Ubuntu 20.04 aarch32 GCC Cross Compile | PASS | +----------------------------------------+--------------------+ | Ubuntu 20.04 ARM Clang Cross Compile | PASS | +----------------------------------------+--------------------+ | Debian 12 (arm) | PASS | +----------------------------------------+--------------------+ RHEL9 (ARM) Kernel: Depends on container host Compiler: gcc 11.5.0 20240719 (Red Hat 11.5.0-2) Fedora 40 (ARM) Kernel: Depends on container host Compiler: gcc 14.2.1 20240912 (Red Hat 14.2.1-3) Debian 12 with MUSDK Kernel: Depends on container host Compiler: gcc (Debian 12.2.0-14) 12.2.0 Ubuntu 20.04 ARM GCC Cross Compile Kernel: Depends on container host Compiler: aarch64-linux-gnu-gcc (Ubuntu 9.4.0-1ubuntu1~20.04.2) 9.4.0 Fedora 40 (ARM Clang) Kernel: Depends on container host Compiler: clang 18.1.8 (Fedora 18.1.8-1.fc40) Ubuntu 20.04 (ARM) Kernel: Depends on container host Compiler: gcc (Ubuntu 9.4.0-1ubuntu1~20.04.2) 9.4.0 Fedora 41 (ARM) Kernel: Depends on container host Compiler: gcc 14.2.1 20240912 (Red Hat 14.2.1-3) Fedora 41 (ARM Clang) Kernel: Depends on container host Compiler: clang 19.1.5 (Fedora 19.1.5-1.fc41) CentOS Stream 9 (ARM) Kernel: Depends on container host Compiler: gcc 11.5.0 20240719 (Red Hat 11.5.0-2) Ubuntu 24.04 (ARM) Kernel: Depends on container host Compiler: gcc (Ubuntu 13.3.0-6ubuntu2~24.04) 13.3.0 Ubuntu 22.04 (ARM) Kernel: Depends on container host Compiler: gcc (Ubuntu 11.4.0-1ubuntu1~22.04) 11.4.0 CentOS Stream 10 (ARM) Kernel: Depends on container host Compiler: gcc 14.2.1 20241104 (Red Hat 14.2.1-6) Ubuntu 20.04 aarch32 GCC Cross Compile Kernel: Depends on container host Compiler: gcc 9.4.0 Ubuntu 20.04 ARM Clang Cross Compile Kernel: Depends on container host Compiler: clang 10.0.0-4ubuntu1 Debian 12 (arm) Kernel: Depends on container host Compiler: gcc (Debian 12.2.0-14) 12.2.0 To view detailed results, visit: https://lab.dpdk.org/results/dashboard/patchsets/33123/ UNH-IOL DPDK Community Lab To manage your email subscriptions, visit: https://lab.dpdk.org/results/dashboard/preferences/subscriptions/