From mboxrd@z Thu Jan 1 00:00:00 1970 Return-Path: Received: from mails.dpdk.org (mails.dpdk.org [217.70.189.124]) by inbox.dpdk.org (Postfix) with ESMTP id 11F86466E8 for ; Wed, 7 May 2025 12:11:35 +0200 (CEST) Received: from mails.dpdk.org (localhost [127.0.0.1]) by mails.dpdk.org (Postfix) with ESMTP id DE40E4025D; Wed, 7 May 2025 12:11:34 +0200 (CEST) Received: from mail-oo1-f98.google.com (mail-oo1-f98.google.com [209.85.161.98]) by mails.dpdk.org (Postfix) with ESMTP id 9F1274025A for ; Wed, 7 May 2025 12:11:32 +0200 (CEST) Received: by mail-oo1-f98.google.com with SMTP id 006d021491bc7-606440d92eeso3232243eaf.2 for ; Wed, 07 May 2025 03:11:32 -0700 (PDT) DKIM-Signature: v=1; a=rsa-sha256; c=relaxed/relaxed; d=iol.unh.edu; s=unh-iol; t=1746612691; x=1747217491; darn=dpdk.org; h=references:in-reply-to:cc:to:from:subject:message-id:date:from:to :cc:subject:date:message-id:reply-to; bh=fSWc3vY8Ny7cnuGjoyAgGBay/l9/L+mBDgd9PrjIuQk=; b=baHy6kOPaFOj0sxHYkSnkvd3vy+7S6Zjf7ztX3gQKdl0Pb2iicSVu5t9o7iVLArH9w vm42IVeNKp4qnp0OzbPB9+mA1JqJV6iQmlob5A0g5Hf7pDyobgsusHfbl8xpJzPlEvyY maRyuNf3OFs+sEjsREzMo61/XnOKhP+7YZdvc= X-Google-DKIM-Signature: v=1; a=rsa-sha256; c=relaxed/relaxed; d=1e100.net; s=20230601; t=1746612691; x=1747217491; h=references:in-reply-to:cc:to:from:subject:message-id:date :x-gm-message-state:from:to:cc:subject:date:message-id:reply-to; bh=fSWc3vY8Ny7cnuGjoyAgGBay/l9/L+mBDgd9PrjIuQk=; b=XUHcVcs+dylpCrcC5ersLsIrhd98Tz0v3T6jyoJ9rBdjYLgGa+hG1DqkFKZNKa1jAZ 6owxAo5bDUxNpYc7+QwXJXR9sonMAXPdOl+7fdI5amWy/MVG5KvMixaCyzTycCW60GwF R3RTJeCJ2VHeRNb3bwqzRVf6u4cqRyzqbReO5r6loqMaGssNiApAuCwo/op6euCoFwbn SkcObmslNZlw5kwBdlTYMZE2Ino49JxKQAr1iHaNO1bNdAAl7j8jlYOJ2w81e2+QdYRR qLubtmjWYhi3K+QjhTofiBdJJ+Cn+GLRE0zJMrma+pY9RGnsVM6OTcwOAUTjCkrUmipo ohnQ== X-Gm-Message-State: AOJu0Yyo2s2P6SkquoFxQL0euJhvHyLXIm9h8WV9NQMUwIDpVAKt/tBy FD9LH+aw9uEbmLQpDukdiqJ7MbGHEVYNyJ9XEzJ2P+GWV5Y/4SnFnqmvJ2QjOol/d8Y46YyYqIN c43zbwbwLFwVz0hWz241T56ehm+FfAwppoqzSc2f70lJoegn4S9RAq/qE X-Gm-Gg: ASbGncv35SWpLSkrf9qoPnl33D31pwVu8GFI0wm9ayaRJGImfZc1h3uB+f9uxJGu3c/ jr5/StJWRK3YGgHB2EoX0tLK5s5u78qAxKRE9+wx5FMqEXbtyFXe4o58icmNbP0Go8r6TXlQYEF NfOUnnOe8olD5KahrhvIFMxnoG+y3Sv9wiM3LHeAMS4gEWrTQsisAhtxRjZ83M9QIva0PYdQ2TD 1X+Vr0M6jBo40k0eWupjEKDweIfWD/9+6z53bGy6D91T3HAuhIrOHKhug/jlxg59YYh+CpGIe6X 1pxKUi2nkOKDhlae81YjcuiQB6xKF16qESSA X-Google-Smtp-Source: AGHT+IFUptYimbWHMV8g3QD+7Fsk/at3pFOPY1MimRiWZpFhi4M094b8yn80+XcOv5UsGLRz4VhfXUfAeALV X-Received: by 2002:a05:6870:88a0:b0:2c1:2b23:d71f with SMTP id 586e51a60fabf-2db5c16e721mr1252987fac.39.1746612691609; Wed, 07 May 2025 03:11:31 -0700 (PDT) Received: from postal.iol.unh.edu (postal.iol.unh.edu. [2606:4100:3880:1234::84]) by smtp-relay.gmail.com with ESMTPS id 586e51a60fabf-2db5cb7674fsm79248fac.5.2025.05.07.03.11.31 (version=TLS1_2 cipher=ECDHE-ECDSA-AES128-GCM-SHA256 bits=128/128); Wed, 07 May 2025 03:11:31 -0700 (PDT) X-Relaying-Domain: iol.unh.edu Date: Wed, 07 May 2025 03:11:31 -0700 (PDT) Message-ID: <681b31d3.050a0220.5d14f.4733SMTPIN_ADDED_MISSING@mx.google.com> Received: from [172.21.0.5] (unknown [172.18.0.240]) by postal.iol.unh.edu (Postfix) with ESMTP id 132986052471; Wed, 7 May 2025 06:11:31 -0400 (EDT) Subject: |SUCCESS| pw153323-153325 [PATCH] [v2,3/3] dts: add packet capture t From: dpdklab@iol.unh.edu To: Test Report Cc: dpdk-test-reports@iol.unh.edu In-Reply-To: <20250506132933.1580584-4-luca.vizzarro@arm.com> References: <20250506132933.1580584-4-luca.vizzarro@arm.com> Content-Type: text/plain X-BeenThere: test-report@dpdk.org X-Mailman-Version: 2.1.29 Precedence: list List-Id: automatic DPDK test reports List-Unsubscribe: , List-Archive: List-Post: List-Help: List-Subscribe: , Errors-To: test-report-bounces@dpdk.org Test-Label: iol-compile-amd64-testing Test-Status: SUCCESS http://dpdk.org/patch/153325 _Testing PASS_ Submitter: Luca Vizzarro Date: Tuesday, May 06 2025 13:29:33 DPDK git baseline: Repo:dpdk Branch: master CommitID:1aef42bc97a31906486c9d66b792208948af06f3 153323-153325 --> testing pass Upstream job id: Generic-DPDK-Compile-Meson#385925 Test environment and result as below: +-----------------------------------+--------------------+-------------------+------------------+-------------------+ | Environment | dpdk_meson_compile | dpdk_compile_spdk | dpdk_compile_ovs | dpdk_msvc_compile | +===================================+====================+===================+==================+===================+ | CentOS Stream 9 | PASS | PASS | SKIPPED | SKIPPED | +-----------------------------------+--------------------+-------------------+------------------+-------------------+ | Debian 12 | PASS | PASS | SKIPPED | SKIPPED | +-----------------------------------+--------------------+-------------------+------------------+-------------------+ | CentOS Stream 10 | PASS | SKIPPED | SKIPPED | SKIPPED | +-----------------------------------+--------------------+-------------------+------------------+-------------------+ | Fedora 40 | PASS | PASS | SKIPPED | SKIPPED | +-----------------------------------+--------------------+-------------------+------------------+-------------------+ | Fedora 40 (Clang) | PASS | PASS | SKIPPED | SKIPPED | +-----------------------------------+--------------------+-------------------+------------------+-------------------+ | RHEL9 | PASS | SKIPPED | SKIPPED | SKIPPED | +-----------------------------------+--------------------+-------------------+------------------+-------------------+ | openSUSE Leap 15 | PASS | SKIPPED | SKIPPED | SKIPPED | +-----------------------------------+--------------------+-------------------+------------------+-------------------+ | Fedora 41 | PASS | PASS | PASS | SKIPPED | +-----------------------------------+--------------------+-------------------+------------------+-------------------+ | RHEL8 | PASS | SKIPPED | SKIPPED | SKIPPED | +-----------------------------------+--------------------+-------------------+------------------+-------------------+ | Ubuntu 20.04 | PASS | SKIPPED | SKIPPED | SKIPPED | +-----------------------------------+--------------------+-------------------+------------------+-------------------+ | Ubuntu 22.04 | PASS | PASS | SKIPPED | SKIPPED | +-----------------------------------+--------------------+-------------------+------------------+-------------------+ | Ubuntu 24.04 | PASS | PASS | PASS | SKIPPED | +-----------------------------------+--------------------+-------------------+------------------+-------------------+ | Alpine | PASS | SKIPPED | SKIPPED | SKIPPED | +-----------------------------------+--------------------+-------------------+------------------+-------------------+ | Ubuntu 24.04 32 Bit Cross Compile | PASS | SKIPPED | SKIPPED | SKIPPED | +-----------------------------------+--------------------+-------------------+------------------+-------------------+ | FreeBSD 13.5 | PASS | SKIPPED | SKIPPED | SKIPPED | +-----------------------------------+--------------------+-------------------+------------------+-------------------+ | FreeBSD 14.2 | PASS | SKIPPED | SKIPPED | SKIPPED | +-----------------------------------+--------------------+-------------------+------------------+-------------------+ | Fedora 41 (Clang) | PASS | PASS | PASS | SKIPPED | +-----------------------------------+--------------------+-------------------+------------------+-------------------+ | Windows Server 2022 | SKIPPED | SKIPPED | SKIPPED | PASS | +-----------------------------------+--------------------+-------------------+------------------+-------------------+ CentOS Stream 9 Kernel: Depends on container host Compiler: gcc 11.5.0 20240719 (Red Hat 11.5.0-2) Debian 12 Kernel: Depends on container host Compiler: gcc (Debian 12.2.0-14) 12.2.0 CentOS Stream 10 Kernel: Depends on container host Compiler: gcc 14.2.1 20241104 (Red Hat 14.2.1-6) Fedora 40 Kernel: Depends on container host Compiler: gcc 14.2.1 20240912 (Red Hat 14.2.1-3) Fedora 40 (Clang) Kernel: Depends on container host Compiler: clang 18.1.8 (Fedora 18.1.8-1.fc40) RHEL9 Kernel: Depends on container host Compiler: gcc 11.5.0 20240719 (Red Hat 11.5.0-2) openSUSE Leap 15 Kernel: Depends on container host Compiler: gcc (SUSE Linux) 7.5.0 Fedora 41 Kernel: Depends on container host Compiler: gcc 14.2.1 20240912 (Red Hat 14.2.1-3) RHEL8 Kernel: Depends on container host Compiler: gcc 8.5.0 20210514 (Red Hat 8.5.0-22) Ubuntu 20.04 Kernel: Depends on container host Compiler: gcc (Ubuntu 9.4.0-1ubuntu1~20.04.2) 9.4.0 Ubuntu 22.04 Kernel: Depends on container host Compiler: gcc (Ubuntu 11.4.0-1ubuntu1~22.04) 11.4.0 Ubuntu 24.04 Kernel: Depends on container host Compiler: gcc (Ubuntu 13.3.0-6ubuntu2~24.04) 13.3.0 Alpine Kernel: Depends on container host Compiler: gcc (Alpine 14.2.0) 14.2.0 Ubuntu 24.04 32 Bit Cross Compile Kernel: Depends on container host Compiler: gcc (Ubuntu 13.3.0-6ubuntu2~24.04) 13.3.0 FreeBSD 13.5 Kernel: 13.5-RELEASE Compiler: clang 19.1.7 FreeBSD 14.2 Kernel: 14.2-RELEASE Compiler: clang 18.1.6 Fedora 41 (Clang) Kernel: Depends on container host Compiler: clang 19.1.5 (Fedora 19.1.5-1.fc41) Windows Server 2022 Kernel: 10.0.20348.2031 Compiler: clang 15.0.7, gcc 14.1.0 (MinGW), and MSVC VS 19.39.33521 To view detailed results, visit: https://lab.dpdk.org/results/dashboard/patchsets/33123/ UNH-IOL DPDK Community Lab To manage your email subscriptions, visit: https://lab.dpdk.org/results/dashboard/preferences/subscriptions/